BEGIN:VCALENDAR
VERSION:2.0
PRODID:-//Betuel - ECPv6.6.0.2//NONSGML v1.0//EN
CALSCALE:GREGORIAN
METHOD:PUBLISH
X-WR-CALNAME:Betuel
X-ORIGINAL-URL:https://icbetuel.com.br
X-WR-CALDESC:Eventos para Betuel
REFRESH-INTERVAL;VALUE=DURATION:PT1H
X-Robots-Tag:noindex
X-PUBLISHED-TTL:PT1H
BEGIN:VTIMEZONE
TZID:America/Sao_Paulo
BEGIN:STANDARD
TZOFFSETFROM:-0300
TZOFFSETTO:-0300
TZNAME:-03
DTSTART:20270101T000000
END:STANDARD
END:VTIMEZONE
BEGIN:VEVENT
DTSTART;TZID=America/Sao_Paulo:20270325T193000
DTEND;TZID=America/Sao_Paulo:20270325T213000
DTSTAMP:20260421T210458
CREATED:20260104T202804Z
LAST-MODIFIED:20260104T202804Z
UID:10004976-1806003000-1806010200@icbetuel.com.br
SUMMARY:Culto do Encontro com Deus
DESCRIPTION:
URL:https://icbetuel.com.br/evento/culto-do-encontro-com-deus/2027-03-25/
LOCATION:Igreja Cristã Betuel\, Estrada de Jacarepaguá\, 7020 - Anil\, Rio de Janeiro\, Rio de Janeiro\, 22755145
ATTACH;FMTTYPE=image/jpeg:https://icbetuel.com.br/wp-content/uploads/2026/01/Copia-de-Copia-de-Culto-encontro-com-Deus-0207-1920-x-1080-px.jpg
END:VEVENT
BEGIN:VEVENT
DTSTART;TZID=America/Sao_Paulo:20270401T193000
DTEND;TZID=America/Sao_Paulo:20270401T213000
DTSTAMP:20260421T210458
CREATED:20260104T202804Z
LAST-MODIFIED:20260104T202804Z
UID:10004977-1806607800-1806615000@icbetuel.com.br
SUMMARY:Culto do Encontro com Deus
DESCRIPTION:
URL:https://icbetuel.com.br/evento/culto-do-encontro-com-deus/2027-04-01/
LOCATION:Igreja Cristã Betuel\, Estrada de Jacarepaguá\, 7020 - Anil\, Rio de Janeiro\, Rio de Janeiro\, 22755145
ATTACH;FMTTYPE=image/jpeg:https://icbetuel.com.br/wp-content/uploads/2026/01/Copia-de-Copia-de-Culto-encontro-com-Deus-0207-1920-x-1080-px.jpg
END:VEVENT
BEGIN:VEVENT
DTSTART;TZID=America/Sao_Paulo:20270408T193000
DTEND;TZID=America/Sao_Paulo:20270408T213000
DTSTAMP:20260421T210458
CREATED:20260104T202804Z
LAST-MODIFIED:20260104T202804Z
UID:10004978-1807212600-1807219800@icbetuel.com.br
SUMMARY:Culto do Encontro com Deus
DESCRIPTION:
URL:https://icbetuel.com.br/evento/culto-do-encontro-com-deus/2027-04-08/
LOCATION:Igreja Cristã Betuel\, Estrada de Jacarepaguá\, 7020 - Anil\, Rio de Janeiro\, Rio de Janeiro\, 22755145
ATTACH;FMTTYPE=image/jpeg:https://icbetuel.com.br/wp-content/uploads/2026/01/Copia-de-Copia-de-Culto-encontro-com-Deus-0207-1920-x-1080-px.jpg
END:VEVENT
BEGIN:VEVENT
DTSTART;TZID=America/Sao_Paulo:20270415T193000
DTEND;TZID=America/Sao_Paulo:20270415T213000
DTSTAMP:20260421T210458
CREATED:20260104T202804Z
LAST-MODIFIED:20260104T202804Z
UID:10004979-1807817400-1807824600@icbetuel.com.br
SUMMARY:Culto do Encontro com Deus
DESCRIPTION:
URL:https://icbetuel.com.br/evento/culto-do-encontro-com-deus/2027-04-15/
LOCATION:Igreja Cristã Betuel\, Estrada de Jacarepaguá\, 7020 - Anil\, Rio de Janeiro\, Rio de Janeiro\, 22755145
ATTACH;FMTTYPE=image/jpeg:https://icbetuel.com.br/wp-content/uploads/2026/01/Copia-de-Copia-de-Culto-encontro-com-Deus-0207-1920-x-1080-px.jpg
END:VEVENT
BEGIN:VEVENT
DTSTART;TZID=America/Sao_Paulo:20270422T193000
DTEND;TZID=America/Sao_Paulo:20270422T213000
DTSTAMP:20260421T210458
CREATED:20260104T202804Z
LAST-MODIFIED:20260104T202804Z
UID:10004980-1808422200-1808429400@icbetuel.com.br
SUMMARY:Culto do Encontro com Deus
DESCRIPTION:
URL:https://icbetuel.com.br/evento/culto-do-encontro-com-deus/2027-04-22/
LOCATION:Igreja Cristã Betuel\, Estrada de Jacarepaguá\, 7020 - Anil\, Rio de Janeiro\, Rio de Janeiro\, 22755145
ATTACH;FMTTYPE=image/jpeg:https://icbetuel.com.br/wp-content/uploads/2026/01/Copia-de-Copia-de-Culto-encontro-com-Deus-0207-1920-x-1080-px.jpg
END:VEVENT
BEGIN:VEVENT
DTSTART;TZID=America/Sao_Paulo:20270429T193000
DTEND;TZID=America/Sao_Paulo:20270429T213000
DTSTAMP:20260421T210458
CREATED:20260104T202804Z
LAST-MODIFIED:20260104T202804Z
UID:10004981-1809027000-1809034200@icbetuel.com.br
SUMMARY:Culto do Encontro com Deus
DESCRIPTION:
URL:https://icbetuel.com.br/evento/culto-do-encontro-com-deus/2027-04-29/
LOCATION:Igreja Cristã Betuel\, Estrada de Jacarepaguá\, 7020 - Anil\, Rio de Janeiro\, Rio de Janeiro\, 22755145
ATTACH;FMTTYPE=image/jpeg:https://icbetuel.com.br/wp-content/uploads/2026/01/Copia-de-Copia-de-Culto-encontro-com-Deus-0207-1920-x-1080-px.jpg
END:VEVENT
BEGIN:VEVENT
DTSTART;TZID=America/Sao_Paulo:20270506T193000
DTEND;TZID=America/Sao_Paulo:20270506T213000
DTSTAMP:20260421T210458
CREATED:20260104T202804Z
LAST-MODIFIED:20260104T202804Z
UID:10004982-1809631800-1809639000@icbetuel.com.br
SUMMARY:Culto do Encontro com Deus
DESCRIPTION:
URL:https://icbetuel.com.br/evento/culto-do-encontro-com-deus/2027-05-06/
LOCATION:Igreja Cristã Betuel\, Estrada de Jacarepaguá\, 7020 - Anil\, Rio de Janeiro\, Rio de Janeiro\, 22755145
ATTACH;FMTTYPE=image/jpeg:https://icbetuel.com.br/wp-content/uploads/2026/01/Copia-de-Copia-de-Culto-encontro-com-Deus-0207-1920-x-1080-px.jpg
END:VEVENT
BEGIN:VEVENT
DTSTART;TZID=America/Sao_Paulo:20270513T193000
DTEND;TZID=America/Sao_Paulo:20270513T213000
DTSTAMP:20260421T210458
CREATED:20260104T202804Z
LAST-MODIFIED:20260104T202804Z
UID:10004983-1810236600-1810243800@icbetuel.com.br
SUMMARY:Culto do Encontro com Deus
DESCRIPTION:
URL:https://icbetuel.com.br/evento/culto-do-encontro-com-deus/2027-05-13/
LOCATION:Igreja Cristã Betuel\, Estrada de Jacarepaguá\, 7020 - Anil\, Rio de Janeiro\, Rio de Janeiro\, 22755145
ATTACH;FMTTYPE=image/jpeg:https://icbetuel.com.br/wp-content/uploads/2026/01/Copia-de-Copia-de-Culto-encontro-com-Deus-0207-1920-x-1080-px.jpg
END:VEVENT
BEGIN:VEVENT
DTSTART;TZID=America/Sao_Paulo:20270520T193000
DTEND;TZID=America/Sao_Paulo:20270520T213000
DTSTAMP:20260421T210458
CREATED:20260104T202804Z
LAST-MODIFIED:20260104T202804Z
UID:10004984-1810841400-1810848600@icbetuel.com.br
SUMMARY:Culto do Encontro com Deus
DESCRIPTION:
URL:https://icbetuel.com.br/evento/culto-do-encontro-com-deus/2027-05-20/
LOCATION:Igreja Cristã Betuel\, Estrada de Jacarepaguá\, 7020 - Anil\, Rio de Janeiro\, Rio de Janeiro\, 22755145
ATTACH;FMTTYPE=image/jpeg:https://icbetuel.com.br/wp-content/uploads/2026/01/Copia-de-Copia-de-Culto-encontro-com-Deus-0207-1920-x-1080-px.jpg
END:VEVENT
BEGIN:VEVENT
DTSTART;TZID=America/Sao_Paulo:20270527T193000
DTEND;TZID=America/Sao_Paulo:20270527T213000
DTSTAMP:20260421T210458
CREATED:20260104T202804Z
LAST-MODIFIED:20260104T202804Z
UID:10004985-1811446200-1811453400@icbetuel.com.br
SUMMARY:Culto do Encontro com Deus
DESCRIPTION:
URL:https://icbetuel.com.br/evento/culto-do-encontro-com-deus/2027-05-27/
LOCATION:Igreja Cristã Betuel\, Estrada de Jacarepaguá\, 7020 - Anil\, Rio de Janeiro\, Rio de Janeiro\, 22755145
ATTACH;FMTTYPE=image/jpeg:https://icbetuel.com.br/wp-content/uploads/2026/01/Copia-de-Copia-de-Culto-encontro-com-Deus-0207-1920-x-1080-px.jpg
END:VEVENT
BEGIN:VEVENT
DTSTART;TZID=America/Sao_Paulo:20270603T193000
DTEND;TZID=America/Sao_Paulo:20270603T213000
DTSTAMP:20260421T210458
CREATED:20260104T202804Z
LAST-MODIFIED:20260104T202804Z
UID:10004986-1812051000-1812058200@icbetuel.com.br
SUMMARY:Culto do Encontro com Deus
DESCRIPTION:
URL:https://icbetuel.com.br/evento/culto-do-encontro-com-deus/2027-06-03/
LOCATION:Igreja Cristã Betuel\, Estrada de Jacarepaguá\, 7020 - Anil\, Rio de Janeiro\, Rio de Janeiro\, 22755145
ATTACH;FMTTYPE=image/jpeg:https://icbetuel.com.br/wp-content/uploads/2026/01/Copia-de-Copia-de-Culto-encontro-com-Deus-0207-1920-x-1080-px.jpg
END:VEVENT
BEGIN:VEVENT
DTSTART;TZID=America/Sao_Paulo:20270610T193000
DTEND;TZID=America/Sao_Paulo:20270610T213000
DTSTAMP:20260421T210458
CREATED:20260104T202804Z
LAST-MODIFIED:20260104T202804Z
UID:10004987-1812655800-1812663000@icbetuel.com.br
SUMMARY:Culto do Encontro com Deus
DESCRIPTION:
URL:https://icbetuel.com.br/evento/culto-do-encontro-com-deus/2027-06-10/
LOCATION:Igreja Cristã Betuel\, Estrada de Jacarepaguá\, 7020 - Anil\, Rio de Janeiro\, Rio de Janeiro\, 22755145
ATTACH;FMTTYPE=image/jpeg:https://icbetuel.com.br/wp-content/uploads/2026/01/Copia-de-Copia-de-Culto-encontro-com-Deus-0207-1920-x-1080-px.jpg
END:VEVENT
BEGIN:VEVENT
DTSTART;TZID=America/Sao_Paulo:20270617T193000
DTEND;TZID=America/Sao_Paulo:20270617T213000
DTSTAMP:20260421T210458
CREATED:20260104T202804Z
LAST-MODIFIED:20260104T202804Z
UID:10004988-1813260600-1813267800@icbetuel.com.br
SUMMARY:Culto do Encontro com Deus
DESCRIPTION:
URL:https://icbetuel.com.br/evento/culto-do-encontro-com-deus/2027-06-17/
LOCATION:Igreja Cristã Betuel\, Estrada de Jacarepaguá\, 7020 - Anil\, Rio de Janeiro\, Rio de Janeiro\, 22755145
ATTACH;FMTTYPE=image/jpeg:https://icbetuel.com.br/wp-content/uploads/2026/01/Copia-de-Copia-de-Culto-encontro-com-Deus-0207-1920-x-1080-px.jpg
END:VEVENT
BEGIN:VEVENT
DTSTART;TZID=America/Sao_Paulo:20270624T193000
DTEND;TZID=America/Sao_Paulo:20270624T213000
DTSTAMP:20260421T210458
CREATED:20260104T202804Z
LAST-MODIFIED:20260104T202804Z
UID:10004989-1813865400-1813872600@icbetuel.com.br
SUMMARY:Culto do Encontro com Deus
DESCRIPTION:
URL:https://icbetuel.com.br/evento/culto-do-encontro-com-deus/2027-06-24/
LOCATION:Igreja Cristã Betuel\, Estrada de Jacarepaguá\, 7020 - Anil\, Rio de Janeiro\, Rio de Janeiro\, 22755145
ATTACH;FMTTYPE=image/jpeg:https://icbetuel.com.br/wp-content/uploads/2026/01/Copia-de-Copia-de-Culto-encontro-com-Deus-0207-1920-x-1080-px.jpg
END:VEVENT
BEGIN:VEVENT
DTSTART;TZID=America/Sao_Paulo:20270701T193000
DTEND;TZID=America/Sao_Paulo:20270701T213000
DTSTAMP:20260421T210458
CREATED:20260104T202804Z
LAST-MODIFIED:20260104T202804Z
UID:10004990-1814470200-1814477400@icbetuel.com.br
SUMMARY:Culto do Encontro com Deus
DESCRIPTION:
URL:https://icbetuel.com.br/evento/culto-do-encontro-com-deus/2027-07-01/
LOCATION:Igreja Cristã Betuel\, Estrada de Jacarepaguá\, 7020 - Anil\, Rio de Janeiro\, Rio de Janeiro\, 22755145
ATTACH;FMTTYPE=image/jpeg:https://icbetuel.com.br/wp-content/uploads/2026/01/Copia-de-Copia-de-Culto-encontro-com-Deus-0207-1920-x-1080-px.jpg
END:VEVENT
BEGIN:VEVENT
DTSTART;TZID=America/Sao_Paulo:20270708T193000
DTEND;TZID=America/Sao_Paulo:20270708T213000
DTSTAMP:20260421T210458
CREATED:20260104T202804Z
LAST-MODIFIED:20260104T202804Z
UID:10004991-1815075000-1815082200@icbetuel.com.br
SUMMARY:Culto do Encontro com Deus
DESCRIPTION:
URL:https://icbetuel.com.br/evento/culto-do-encontro-com-deus/2027-07-08/
LOCATION:Igreja Cristã Betuel\, Estrada de Jacarepaguá\, 7020 - Anil\, Rio de Janeiro\, Rio de Janeiro\, 22755145
ATTACH;FMTTYPE=image/jpeg:https://icbetuel.com.br/wp-content/uploads/2026/01/Copia-de-Copia-de-Culto-encontro-com-Deus-0207-1920-x-1080-px.jpg
END:VEVENT
BEGIN:VEVENT
DTSTART;TZID=America/Sao_Paulo:20270715T193000
DTEND;TZID=America/Sao_Paulo:20270715T213000
DTSTAMP:20260421T210458
CREATED:20260104T202804Z
LAST-MODIFIED:20260104T202804Z
UID:10004992-1815679800-1815687000@icbetuel.com.br
SUMMARY:Culto do Encontro com Deus
DESCRIPTION:
URL:https://icbetuel.com.br/evento/culto-do-encontro-com-deus/2027-07-15/
LOCATION:Igreja Cristã Betuel\, Estrada de Jacarepaguá\, 7020 - Anil\, Rio de Janeiro\, Rio de Janeiro\, 22755145
ATTACH;FMTTYPE=image/jpeg:https://icbetuel.com.br/wp-content/uploads/2026/01/Copia-de-Copia-de-Culto-encontro-com-Deus-0207-1920-x-1080-px.jpg
END:VEVENT
BEGIN:VEVENT
DTSTART;TZID=America/Sao_Paulo:20270722T193000
DTEND;TZID=America/Sao_Paulo:20270722T213000
DTSTAMP:20260421T210458
CREATED:20260104T202804Z
LAST-MODIFIED:20260104T202804Z
UID:10004993-1816284600-1816291800@icbetuel.com.br
SUMMARY:Culto do Encontro com Deus
DESCRIPTION:
URL:https://icbetuel.com.br/evento/culto-do-encontro-com-deus/2027-07-22/
LOCATION:Igreja Cristã Betuel\, Estrada de Jacarepaguá\, 7020 - Anil\, Rio de Janeiro\, Rio de Janeiro\, 22755145
ATTACH;FMTTYPE=image/jpeg:https://icbetuel.com.br/wp-content/uploads/2026/01/Copia-de-Copia-de-Culto-encontro-com-Deus-0207-1920-x-1080-px.jpg
END:VEVENT
BEGIN:VEVENT
DTSTART;TZID=America/Sao_Paulo:20270729T193000
DTEND;TZID=America/Sao_Paulo:20270729T213000
DTSTAMP:20260421T210458
CREATED:20260104T202804Z
LAST-MODIFIED:20260104T202804Z
UID:10004994-1816889400-1816896600@icbetuel.com.br
SUMMARY:Culto do Encontro com Deus
DESCRIPTION:
URL:https://icbetuel.com.br/evento/culto-do-encontro-com-deus/2027-07-29/
LOCATION:Igreja Cristã Betuel\, Estrada de Jacarepaguá\, 7020 - Anil\, Rio de Janeiro\, Rio de Janeiro\, 22755145
ATTACH;FMTTYPE=image/jpeg:https://icbetuel.com.br/wp-content/uploads/2026/01/Copia-de-Copia-de-Culto-encontro-com-Deus-0207-1920-x-1080-px.jpg
END:VEVENT
BEGIN:VEVENT
DTSTART;TZID=America/Sao_Paulo:20270805T193000
DTEND;TZID=America/Sao_Paulo:20270805T213000
DTSTAMP:20260421T210458
CREATED:20260104T202804Z
LAST-MODIFIED:20260104T202804Z
UID:10004995-1817494200-1817501400@icbetuel.com.br
SUMMARY:Culto do Encontro com Deus
DESCRIPTION:
URL:https://icbetuel.com.br/evento/culto-do-encontro-com-deus/2027-08-05/
LOCATION:Igreja Cristã Betuel\, Estrada de Jacarepaguá\, 7020 - Anil\, Rio de Janeiro\, Rio de Janeiro\, 22755145
ATTACH;FMTTYPE=image/jpeg:https://icbetuel.com.br/wp-content/uploads/2026/01/Copia-de-Copia-de-Culto-encontro-com-Deus-0207-1920-x-1080-px.jpg
END:VEVENT
BEGIN:VEVENT
DTSTART;TZID=America/Sao_Paulo:20270812T193000
DTEND;TZID=America/Sao_Paulo:20270812T213000
DTSTAMP:20260421T210458
CREATED:20260104T202804Z
LAST-MODIFIED:20260104T202804Z
UID:10004996-1818099000-1818106200@icbetuel.com.br
SUMMARY:Culto do Encontro com Deus
DESCRIPTION:
URL:https://icbetuel.com.br/evento/culto-do-encontro-com-deus/2027-08-12/
LOCATION:Igreja Cristã Betuel\, Estrada de Jacarepaguá\, 7020 - Anil\, Rio de Janeiro\, Rio de Janeiro\, 22755145
ATTACH;FMTTYPE=image/jpeg:https://icbetuel.com.br/wp-content/uploads/2026/01/Copia-de-Copia-de-Culto-encontro-com-Deus-0207-1920-x-1080-px.jpg
END:VEVENT
BEGIN:VEVENT
DTSTART;TZID=America/Sao_Paulo:20270819T193000
DTEND;TZID=America/Sao_Paulo:20270819T213000
DTSTAMP:20260421T210458
CREATED:20260104T202804Z
LAST-MODIFIED:20260104T202804Z
UID:10004997-1818703800-1818711000@icbetuel.com.br
SUMMARY:Culto do Encontro com Deus
DESCRIPTION:
URL:https://icbetuel.com.br/evento/culto-do-encontro-com-deus/2027-08-19/
LOCATION:Igreja Cristã Betuel\, Estrada de Jacarepaguá\, 7020 - Anil\, Rio de Janeiro\, Rio de Janeiro\, 22755145
ATTACH;FMTTYPE=image/jpeg:https://icbetuel.com.br/wp-content/uploads/2026/01/Copia-de-Copia-de-Culto-encontro-com-Deus-0207-1920-x-1080-px.jpg
END:VEVENT
BEGIN:VEVENT
DTSTART;TZID=America/Sao_Paulo:20270826T193000
DTEND;TZID=America/Sao_Paulo:20270826T213000
DTSTAMP:20260421T210459
CREATED:20260104T202804Z
LAST-MODIFIED:20260104T202804Z
UID:10004998-1819308600-1819315800@icbetuel.com.br
SUMMARY:Culto do Encontro com Deus
DESCRIPTION:
URL:https://icbetuel.com.br/evento/culto-do-encontro-com-deus/2027-08-26/
LOCATION:Igreja Cristã Betuel\, Estrada de Jacarepaguá\, 7020 - Anil\, Rio de Janeiro\, Rio de Janeiro\, 22755145
ATTACH;FMTTYPE=image/jpeg:https://icbetuel.com.br/wp-content/uploads/2026/01/Copia-de-Copia-de-Culto-encontro-com-Deus-0207-1920-x-1080-px.jpg
END:VEVENT
BEGIN:VEVENT
DTSTART;TZID=America/Sao_Paulo:20270902T193000
DTEND;TZID=America/Sao_Paulo:20270902T213000
DTSTAMP:20260421T210459
CREATED:20260104T202804Z
LAST-MODIFIED:20260104T202804Z
UID:10004999-1819913400-1819920600@icbetuel.com.br
SUMMARY:Culto do Encontro com Deus
DESCRIPTION:
URL:https://icbetuel.com.br/evento/culto-do-encontro-com-deus/2027-09-02/
LOCATION:Igreja Cristã Betuel\, Estrada de Jacarepaguá\, 7020 - Anil\, Rio de Janeiro\, Rio de Janeiro\, 22755145
ATTACH;FMTTYPE=image/jpeg:https://icbetuel.com.br/wp-content/uploads/2026/01/Copia-de-Copia-de-Culto-encontro-com-Deus-0207-1920-x-1080-px.jpg
END:VEVENT
BEGIN:VEVENT
DTSTART;TZID=America/Sao_Paulo:20270909T193000
DTEND;TZID=America/Sao_Paulo:20270909T213000
DTSTAMP:20260421T210459
CREATED:20260104T202804Z
LAST-MODIFIED:20260104T202804Z
UID:10005000-1820518200-1820525400@icbetuel.com.br
SUMMARY:Culto do Encontro com Deus
DESCRIPTION:
URL:https://icbetuel.com.br/evento/culto-do-encontro-com-deus/2027-09-09/
LOCATION:Igreja Cristã Betuel\, Estrada de Jacarepaguá\, 7020 - Anil\, Rio de Janeiro\, Rio de Janeiro\, 22755145
ATTACH;FMTTYPE=image/jpeg:https://icbetuel.com.br/wp-content/uploads/2026/01/Copia-de-Copia-de-Culto-encontro-com-Deus-0207-1920-x-1080-px.jpg
END:VEVENT
BEGIN:VEVENT
DTSTART;TZID=America/Sao_Paulo:20270916T193000
DTEND;TZID=America/Sao_Paulo:20270916T213000
DTSTAMP:20260421T210459
CREATED:20260104T202804Z
LAST-MODIFIED:20260104T202804Z
UID:10005001-1821123000-1821130200@icbetuel.com.br
SUMMARY:Culto do Encontro com Deus
DESCRIPTION:
URL:https://icbetuel.com.br/evento/culto-do-encontro-com-deus/2027-09-16/
LOCATION:Igreja Cristã Betuel\, Estrada de Jacarepaguá\, 7020 - Anil\, Rio de Janeiro\, Rio de Janeiro\, 22755145
ATTACH;FMTTYPE=image/jpeg:https://icbetuel.com.br/wp-content/uploads/2026/01/Copia-de-Copia-de-Culto-encontro-com-Deus-0207-1920-x-1080-px.jpg
END:VEVENT
BEGIN:VEVENT
DTSTART;TZID=America/Sao_Paulo:20270923T193000
DTEND;TZID=America/Sao_Paulo:20270923T213000
DTSTAMP:20260421T210459
CREATED:20260104T202804Z
LAST-MODIFIED:20260104T202804Z
UID:10005002-1821727800-1821735000@icbetuel.com.br
SUMMARY:Culto do Encontro com Deus
DESCRIPTION:
URL:https://icbetuel.com.br/evento/culto-do-encontro-com-deus/2027-09-23/
LOCATION:Igreja Cristã Betuel\, Estrada de Jacarepaguá\, 7020 - Anil\, Rio de Janeiro\, Rio de Janeiro\, 22755145
ATTACH;FMTTYPE=image/jpeg:https://icbetuel.com.br/wp-content/uploads/2026/01/Copia-de-Copia-de-Culto-encontro-com-Deus-0207-1920-x-1080-px.jpg
END:VEVENT
BEGIN:VEVENT
DTSTART;TZID=America/Sao_Paulo:20270930T193000
DTEND;TZID=America/Sao_Paulo:20270930T213000
DTSTAMP:20260421T210459
CREATED:20260104T202804Z
LAST-MODIFIED:20260104T202804Z
UID:10005003-1822332600-1822339800@icbetuel.com.br
SUMMARY:Culto do Encontro com Deus
DESCRIPTION:
URL:https://icbetuel.com.br/evento/culto-do-encontro-com-deus/2027-09-30/
LOCATION:Igreja Cristã Betuel\, Estrada de Jacarepaguá\, 7020 - Anil\, Rio de Janeiro\, Rio de Janeiro\, 22755145
ATTACH;FMTTYPE=image/jpeg:https://icbetuel.com.br/wp-content/uploads/2026/01/Copia-de-Copia-de-Culto-encontro-com-Deus-0207-1920-x-1080-px.jpg
END:VEVENT
BEGIN:VEVENT
DTSTART;TZID=America/Sao_Paulo:20271007T193000
DTEND;TZID=America/Sao_Paulo:20271007T213000
DTSTAMP:20260421T210459
CREATED:20260104T202804Z
LAST-MODIFIED:20260104T202804Z
UID:10005004-1822937400-1822944600@icbetuel.com.br
SUMMARY:Culto do Encontro com Deus
DESCRIPTION:
URL:https://icbetuel.com.br/evento/culto-do-encontro-com-deus/2027-10-07/
LOCATION:Igreja Cristã Betuel\, Estrada de Jacarepaguá\, 7020 - Anil\, Rio de Janeiro\, Rio de Janeiro\, 22755145
ATTACH;FMTTYPE=image/jpeg:https://icbetuel.com.br/wp-content/uploads/2026/01/Copia-de-Copia-de-Culto-encontro-com-Deus-0207-1920-x-1080-px.jpg
END:VEVENT
BEGIN:VEVENT
DTSTART;TZID=America/Sao_Paulo:20271014T193000
DTEND;TZID=America/Sao_Paulo:20271014T213000
DTSTAMP:20260421T210459
CREATED:20260104T202804Z
LAST-MODIFIED:20260104T202804Z
UID:10005005-1823542200-1823549400@icbetuel.com.br
SUMMARY:Culto do Encontro com Deus
DESCRIPTION:
URL:https://icbetuel.com.br/evento/culto-do-encontro-com-deus/2027-10-14/
LOCATION:Igreja Cristã Betuel\, Estrada de Jacarepaguá\, 7020 - Anil\, Rio de Janeiro\, Rio de Janeiro\, 22755145
ATTACH;FMTTYPE=image/jpeg:https://icbetuel.com.br/wp-content/uploads/2026/01/Copia-de-Copia-de-Culto-encontro-com-Deus-0207-1920-x-1080-px.jpg
END:VEVENT
END:VCALENDAR