BEGIN:VCALENDAR
VERSION:2.0
PRODID:-//Betuel - ECPv6.6.0.2//NONSGML v1.0//EN
CALSCALE:GREGORIAN
METHOD:PUBLISH
X-ORIGINAL-URL:https://icbetuel.com.br
X-WR-CALDESC:Eventos para Betuel
REFRESH-INTERVAL;VALUE=DURATION:PT1H
X-Robots-Tag:noindex
X-PUBLISHED-TTL:PT1H
BEGIN:VTIMEZONE
TZID:America/Sao_Paulo
BEGIN:STANDARD
TZOFFSETFROM:-0300
TZOFFSETTO:-0300
TZNAME:-03
DTSTART:20270101T000000
END:STANDARD
END:VTIMEZONE
BEGIN:VEVENT
DTSTART;TZID=America/Sao_Paulo:20270103T090000
DTEND;TZID=America/Sao_Paulo:20270103T100000
DTSTAMP:20260421T153136
CREATED:20260104T195708Z
LAST-MODIFIED:20260104T203034Z
UID:10004649-1798966800-1798970400@icbetuel.com.br
SUMMARY:Escola Bíblica
DESCRIPTION:
URL:https://icbetuel.com.br/evento/escola-biblica-2-2/2027-01-03/
LOCATION:Igreja Cristã Betuel\, Estrada de Jacarepaguá\, 7020 - Anil\, Rio de Janeiro\, Rio de Janeiro\, 22755145
ATTACH;FMTTYPE=image/jpeg:https://icbetuel.com.br/wp-content/uploads/2026/01/Escola-biblica-2026-tela.jpg
END:VEVENT
BEGIN:VEVENT
DTSTART;TZID=America/Sao_Paulo:20270110T090000
DTEND;TZID=America/Sao_Paulo:20270110T100000
DTSTAMP:20260421T153136
CREATED:20260104T195708Z
LAST-MODIFIED:20260104T203034Z
UID:10004650-1799571600-1799575200@icbetuel.com.br
SUMMARY:Escola Bíblica
DESCRIPTION:
URL:https://icbetuel.com.br/evento/escola-biblica-2-2/2027-01-10/
LOCATION:Igreja Cristã Betuel\, Estrada de Jacarepaguá\, 7020 - Anil\, Rio de Janeiro\, Rio de Janeiro\, 22755145
ATTACH;FMTTYPE=image/jpeg:https://icbetuel.com.br/wp-content/uploads/2026/01/Escola-biblica-2026-tela.jpg
END:VEVENT
BEGIN:VEVENT
DTSTART;TZID=America/Sao_Paulo:20270117T090000
DTEND;TZID=America/Sao_Paulo:20270117T100000
DTSTAMP:20260421T153136
CREATED:20260104T195708Z
LAST-MODIFIED:20260104T203034Z
UID:10004651-1800176400-1800180000@icbetuel.com.br
SUMMARY:Escola Bíblica
DESCRIPTION:
URL:https://icbetuel.com.br/evento/escola-biblica-2-2/2027-01-17/
LOCATION:Igreja Cristã Betuel\, Estrada de Jacarepaguá\, 7020 - Anil\, Rio de Janeiro\, Rio de Janeiro\, 22755145
ATTACH;FMTTYPE=image/jpeg:https://icbetuel.com.br/wp-content/uploads/2026/01/Escola-biblica-2026-tela.jpg
END:VEVENT
BEGIN:VEVENT
DTSTART;TZID=America/Sao_Paulo:20270124T090000
DTEND;TZID=America/Sao_Paulo:20270124T100000
DTSTAMP:20260421T153136
CREATED:20260104T195708Z
LAST-MODIFIED:20260104T203034Z
UID:10004652-1800781200-1800784800@icbetuel.com.br
SUMMARY:Escola Bíblica
DESCRIPTION:
URL:https://icbetuel.com.br/evento/escola-biblica-2-2/2027-01-24/
LOCATION:Igreja Cristã Betuel\, Estrada de Jacarepaguá\, 7020 - Anil\, Rio de Janeiro\, Rio de Janeiro\, 22755145
ATTACH;FMTTYPE=image/jpeg:https://icbetuel.com.br/wp-content/uploads/2026/01/Escola-biblica-2026-tela.jpg
END:VEVENT
BEGIN:VEVENT
DTSTART;TZID=America/Sao_Paulo:20270131T090000
DTEND;TZID=America/Sao_Paulo:20270131T100000
DTSTAMP:20260421T153136
CREATED:20260104T195708Z
LAST-MODIFIED:20260104T203034Z
UID:10004653-1801386000-1801389600@icbetuel.com.br
SUMMARY:Escola Bíblica
DESCRIPTION:
URL:https://icbetuel.com.br/evento/escola-biblica-2-2/2027-01-31/
LOCATION:Igreja Cristã Betuel\, Estrada de Jacarepaguá\, 7020 - Anil\, Rio de Janeiro\, Rio de Janeiro\, 22755145
ATTACH;FMTTYPE=image/jpeg:https://icbetuel.com.br/wp-content/uploads/2026/01/Escola-biblica-2026-tela.jpg
END:VEVENT
BEGIN:VEVENT
DTSTART;TZID=America/Sao_Paulo:20270207T090000
DTEND;TZID=America/Sao_Paulo:20270207T100000
DTSTAMP:20260421T153136
CREATED:20260104T195708Z
LAST-MODIFIED:20260104T203034Z
UID:10004654-1801990800-1801994400@icbetuel.com.br
SUMMARY:Escola Bíblica
DESCRIPTION:
URL:https://icbetuel.com.br/evento/escola-biblica-2-2/2027-02-07/
LOCATION:Igreja Cristã Betuel\, Estrada de Jacarepaguá\, 7020 - Anil\, Rio de Janeiro\, Rio de Janeiro\, 22755145
ATTACH;FMTTYPE=image/jpeg:https://icbetuel.com.br/wp-content/uploads/2026/01/Escola-biblica-2026-tela.jpg
END:VEVENT
BEGIN:VEVENT
DTSTART;TZID=America/Sao_Paulo:20270214T090000
DTEND;TZID=America/Sao_Paulo:20270214T100000
DTSTAMP:20260421T153136
CREATED:20260104T195708Z
LAST-MODIFIED:20260104T203034Z
UID:10004655-1802595600-1802599200@icbetuel.com.br
SUMMARY:Escola Bíblica
DESCRIPTION:
URL:https://icbetuel.com.br/evento/escola-biblica-2-2/2027-02-14/
LOCATION:Igreja Cristã Betuel\, Estrada de Jacarepaguá\, 7020 - Anil\, Rio de Janeiro\, Rio de Janeiro\, 22755145
ATTACH;FMTTYPE=image/jpeg:https://icbetuel.com.br/wp-content/uploads/2026/01/Escola-biblica-2026-tela.jpg
END:VEVENT
BEGIN:VEVENT
DTSTART;TZID=America/Sao_Paulo:20270221T090000
DTEND;TZID=America/Sao_Paulo:20270221T100000
DTSTAMP:20260421T153136
CREATED:20260104T195708Z
LAST-MODIFIED:20260104T203034Z
UID:10004656-1803200400-1803204000@icbetuel.com.br
SUMMARY:Escola Bíblica
DESCRIPTION:
URL:https://icbetuel.com.br/evento/escola-biblica-2-2/2027-02-21/
LOCATION:Igreja Cristã Betuel\, Estrada de Jacarepaguá\, 7020 - Anil\, Rio de Janeiro\, Rio de Janeiro\, 22755145
ATTACH;FMTTYPE=image/jpeg:https://icbetuel.com.br/wp-content/uploads/2026/01/Escola-biblica-2026-tela.jpg
END:VEVENT
BEGIN:VEVENT
DTSTART;TZID=America/Sao_Paulo:20270228T090000
DTEND;TZID=America/Sao_Paulo:20270228T100000
DTSTAMP:20260421T153136
CREATED:20260104T195708Z
LAST-MODIFIED:20260104T203034Z
UID:10004657-1803805200-1803808800@icbetuel.com.br
SUMMARY:Escola Bíblica
DESCRIPTION:
URL:https://icbetuel.com.br/evento/escola-biblica-2-2/2027-02-28/
LOCATION:Igreja Cristã Betuel\, Estrada de Jacarepaguá\, 7020 - Anil\, Rio de Janeiro\, Rio de Janeiro\, 22755145
ATTACH;FMTTYPE=image/jpeg:https://icbetuel.com.br/wp-content/uploads/2026/01/Escola-biblica-2026-tela.jpg
END:VEVENT
BEGIN:VEVENT
DTSTART;TZID=America/Sao_Paulo:20270307T090000
DTEND;TZID=America/Sao_Paulo:20270307T100000
DTSTAMP:20260421T153136
CREATED:20260104T195708Z
LAST-MODIFIED:20260104T203034Z
UID:10004658-1804410000-1804413600@icbetuel.com.br
SUMMARY:Escola Bíblica
DESCRIPTION:
URL:https://icbetuel.com.br/evento/escola-biblica-2-2/2027-03-07/
LOCATION:Igreja Cristã Betuel\, Estrada de Jacarepaguá\, 7020 - Anil\, Rio de Janeiro\, Rio de Janeiro\, 22755145
ATTACH;FMTTYPE=image/jpeg:https://icbetuel.com.br/wp-content/uploads/2026/01/Escola-biblica-2026-tela.jpg
END:VEVENT
BEGIN:VEVENT
DTSTART;TZID=America/Sao_Paulo:20270314T090000
DTEND;TZID=America/Sao_Paulo:20270314T100000
DTSTAMP:20260421T153136
CREATED:20260104T195708Z
LAST-MODIFIED:20260104T203034Z
UID:10004659-1805014800-1805018400@icbetuel.com.br
SUMMARY:Escola Bíblica
DESCRIPTION:
URL:https://icbetuel.com.br/evento/escola-biblica-2-2/2027-03-14/
LOCATION:Igreja Cristã Betuel\, Estrada de Jacarepaguá\, 7020 - Anil\, Rio de Janeiro\, Rio de Janeiro\, 22755145
ATTACH;FMTTYPE=image/jpeg:https://icbetuel.com.br/wp-content/uploads/2026/01/Escola-biblica-2026-tela.jpg
END:VEVENT
BEGIN:VEVENT
DTSTART;TZID=America/Sao_Paulo:20270321T090000
DTEND;TZID=America/Sao_Paulo:20270321T100000
DTSTAMP:20260421T153136
CREATED:20260104T195708Z
LAST-MODIFIED:20260104T203034Z
UID:10004660-1805619600-1805623200@icbetuel.com.br
SUMMARY:Escola Bíblica
DESCRIPTION:
URL:https://icbetuel.com.br/evento/escola-biblica-2-2/2027-03-21/
LOCATION:Igreja Cristã Betuel\, Estrada de Jacarepaguá\, 7020 - Anil\, Rio de Janeiro\, Rio de Janeiro\, 22755145
ATTACH;FMTTYPE=image/jpeg:https://icbetuel.com.br/wp-content/uploads/2026/01/Escola-biblica-2026-tela.jpg
END:VEVENT
BEGIN:VEVENT
DTSTART;TZID=America/Sao_Paulo:20270328T090000
DTEND;TZID=America/Sao_Paulo:20270328T100000
DTSTAMP:20260421T153136
CREATED:20260104T195708Z
LAST-MODIFIED:20260104T203034Z
UID:10004661-1806224400-1806228000@icbetuel.com.br
SUMMARY:Escola Bíblica
DESCRIPTION:
URL:https://icbetuel.com.br/evento/escola-biblica-2-2/2027-03-28/
LOCATION:Igreja Cristã Betuel\, Estrada de Jacarepaguá\, 7020 - Anil\, Rio de Janeiro\, Rio de Janeiro\, 22755145
ATTACH;FMTTYPE=image/jpeg:https://icbetuel.com.br/wp-content/uploads/2026/01/Escola-biblica-2026-tela.jpg
END:VEVENT
BEGIN:VEVENT
DTSTART;TZID=America/Sao_Paulo:20270404T090000
DTEND;TZID=America/Sao_Paulo:20270404T100000
DTSTAMP:20260421T153136
CREATED:20260104T195708Z
LAST-MODIFIED:20260104T203034Z
UID:10004662-1806829200-1806832800@icbetuel.com.br
SUMMARY:Escola Bíblica
DESCRIPTION:
URL:https://icbetuel.com.br/evento/escola-biblica-2-2/2027-04-04/
LOCATION:Igreja Cristã Betuel\, Estrada de Jacarepaguá\, 7020 - Anil\, Rio de Janeiro\, Rio de Janeiro\, 22755145
ATTACH;FMTTYPE=image/jpeg:https://icbetuel.com.br/wp-content/uploads/2026/01/Escola-biblica-2026-tela.jpg
END:VEVENT
BEGIN:VEVENT
DTSTART;TZID=America/Sao_Paulo:20270411T090000
DTEND;TZID=America/Sao_Paulo:20270411T100000
DTSTAMP:20260421T153136
CREATED:20260104T195708Z
LAST-MODIFIED:20260104T203034Z
UID:10004663-1807434000-1807437600@icbetuel.com.br
SUMMARY:Escola Bíblica
DESCRIPTION:
URL:https://icbetuel.com.br/evento/escola-biblica-2-2/2027-04-11/
LOCATION:Igreja Cristã Betuel\, Estrada de Jacarepaguá\, 7020 - Anil\, Rio de Janeiro\, Rio de Janeiro\, 22755145
ATTACH;FMTTYPE=image/jpeg:https://icbetuel.com.br/wp-content/uploads/2026/01/Escola-biblica-2026-tela.jpg
END:VEVENT
BEGIN:VEVENT
DTSTART;TZID=America/Sao_Paulo:20270418T090000
DTEND;TZID=America/Sao_Paulo:20270418T100000
DTSTAMP:20260421T153136
CREATED:20260104T195708Z
LAST-MODIFIED:20260104T203034Z
UID:10004664-1808038800-1808042400@icbetuel.com.br
SUMMARY:Escola Bíblica
DESCRIPTION:
URL:https://icbetuel.com.br/evento/escola-biblica-2-2/2027-04-18/
LOCATION:Igreja Cristã Betuel\, Estrada de Jacarepaguá\, 7020 - Anil\, Rio de Janeiro\, Rio de Janeiro\, 22755145
ATTACH;FMTTYPE=image/jpeg:https://icbetuel.com.br/wp-content/uploads/2026/01/Escola-biblica-2026-tela.jpg
END:VEVENT
BEGIN:VEVENT
DTSTART;TZID=America/Sao_Paulo:20270425T090000
DTEND;TZID=America/Sao_Paulo:20270425T100000
DTSTAMP:20260421T153136
CREATED:20260104T195708Z
LAST-MODIFIED:20260104T203034Z
UID:10004665-1808643600-1808647200@icbetuel.com.br
SUMMARY:Escola Bíblica
DESCRIPTION:
URL:https://icbetuel.com.br/evento/escola-biblica-2-2/2027-04-25/
LOCATION:Igreja Cristã Betuel\, Estrada de Jacarepaguá\, 7020 - Anil\, Rio de Janeiro\, Rio de Janeiro\, 22755145
ATTACH;FMTTYPE=image/jpeg:https://icbetuel.com.br/wp-content/uploads/2026/01/Escola-biblica-2026-tela.jpg
END:VEVENT
BEGIN:VEVENT
DTSTART;TZID=America/Sao_Paulo:20270502T090000
DTEND;TZID=America/Sao_Paulo:20270502T100000
DTSTAMP:20260421T153136
CREATED:20260104T195708Z
LAST-MODIFIED:20260104T203034Z
UID:10004666-1809248400-1809252000@icbetuel.com.br
SUMMARY:Escola Bíblica
DESCRIPTION:
URL:https://icbetuel.com.br/evento/escola-biblica-2-2/2027-05-02/
LOCATION:Igreja Cristã Betuel\, Estrada de Jacarepaguá\, 7020 - Anil\, Rio de Janeiro\, Rio de Janeiro\, 22755145
ATTACH;FMTTYPE=image/jpeg:https://icbetuel.com.br/wp-content/uploads/2026/01/Escola-biblica-2026-tela.jpg
END:VEVENT
BEGIN:VEVENT
DTSTART;TZID=America/Sao_Paulo:20270509T090000
DTEND;TZID=America/Sao_Paulo:20270509T100000
DTSTAMP:20260421T153136
CREATED:20260104T195708Z
LAST-MODIFIED:20260104T203034Z
UID:10004667-1809853200-1809856800@icbetuel.com.br
SUMMARY:Escola Bíblica
DESCRIPTION:
URL:https://icbetuel.com.br/evento/escola-biblica-2-2/2027-05-09/
LOCATION:Igreja Cristã Betuel\, Estrada de Jacarepaguá\, 7020 - Anil\, Rio de Janeiro\, Rio de Janeiro\, 22755145
ATTACH;FMTTYPE=image/jpeg:https://icbetuel.com.br/wp-content/uploads/2026/01/Escola-biblica-2026-tela.jpg
END:VEVENT
BEGIN:VEVENT
DTSTART;TZID=America/Sao_Paulo:20270516T090000
DTEND;TZID=America/Sao_Paulo:20270516T100000
DTSTAMP:20260421T153136
CREATED:20260104T195708Z
LAST-MODIFIED:20260104T203034Z
UID:10004668-1810458000-1810461600@icbetuel.com.br
SUMMARY:Escola Bíblica
DESCRIPTION:
URL:https://icbetuel.com.br/evento/escola-biblica-2-2/2027-05-16/
LOCATION:Igreja Cristã Betuel\, Estrada de Jacarepaguá\, 7020 - Anil\, Rio de Janeiro\, Rio de Janeiro\, 22755145
ATTACH;FMTTYPE=image/jpeg:https://icbetuel.com.br/wp-content/uploads/2026/01/Escola-biblica-2026-tela.jpg
END:VEVENT
BEGIN:VEVENT
DTSTART;TZID=America/Sao_Paulo:20270523T090000
DTEND;TZID=America/Sao_Paulo:20270523T100000
DTSTAMP:20260421T153136
CREATED:20260104T195708Z
LAST-MODIFIED:20260104T203034Z
UID:10004669-1811062800-1811066400@icbetuel.com.br
SUMMARY:Escola Bíblica
DESCRIPTION:
URL:https://icbetuel.com.br/evento/escola-biblica-2-2/2027-05-23/
LOCATION:Igreja Cristã Betuel\, Estrada de Jacarepaguá\, 7020 - Anil\, Rio de Janeiro\, Rio de Janeiro\, 22755145
ATTACH;FMTTYPE=image/jpeg:https://icbetuel.com.br/wp-content/uploads/2026/01/Escola-biblica-2026-tela.jpg
END:VEVENT
BEGIN:VEVENT
DTSTART;TZID=America/Sao_Paulo:20270530T090000
DTEND;TZID=America/Sao_Paulo:20270530T100000
DTSTAMP:20260421T153136
CREATED:20260104T195708Z
LAST-MODIFIED:20260104T203034Z
UID:10004670-1811667600-1811671200@icbetuel.com.br
SUMMARY:Escola Bíblica
DESCRIPTION:
URL:https://icbetuel.com.br/evento/escola-biblica-2-2/2027-05-30/
LOCATION:Igreja Cristã Betuel\, Estrada de Jacarepaguá\, 7020 - Anil\, Rio de Janeiro\, Rio de Janeiro\, 22755145
ATTACH;FMTTYPE=image/jpeg:https://icbetuel.com.br/wp-content/uploads/2026/01/Escola-biblica-2026-tela.jpg
END:VEVENT
BEGIN:VEVENT
DTSTART;TZID=America/Sao_Paulo:20270606T090000
DTEND;TZID=America/Sao_Paulo:20270606T100000
DTSTAMP:20260421T153136
CREATED:20260104T195708Z
LAST-MODIFIED:20260104T203034Z
UID:10004671-1812272400-1812276000@icbetuel.com.br
SUMMARY:Escola Bíblica
DESCRIPTION:
URL:https://icbetuel.com.br/evento/escola-biblica-2-2/2027-06-06/
LOCATION:Igreja Cristã Betuel\, Estrada de Jacarepaguá\, 7020 - Anil\, Rio de Janeiro\, Rio de Janeiro\, 22755145
ATTACH;FMTTYPE=image/jpeg:https://icbetuel.com.br/wp-content/uploads/2026/01/Escola-biblica-2026-tela.jpg
END:VEVENT
BEGIN:VEVENT
DTSTART;TZID=America/Sao_Paulo:20270613T090000
DTEND;TZID=America/Sao_Paulo:20270613T100000
DTSTAMP:20260421T153136
CREATED:20260104T195708Z
LAST-MODIFIED:20260104T203034Z
UID:10004672-1812877200-1812880800@icbetuel.com.br
SUMMARY:Escola Bíblica
DESCRIPTION:
URL:https://icbetuel.com.br/evento/escola-biblica-2-2/2027-06-13/
LOCATION:Igreja Cristã Betuel\, Estrada de Jacarepaguá\, 7020 - Anil\, Rio de Janeiro\, Rio de Janeiro\, 22755145
ATTACH;FMTTYPE=image/jpeg:https://icbetuel.com.br/wp-content/uploads/2026/01/Escola-biblica-2026-tela.jpg
END:VEVENT
BEGIN:VEVENT
DTSTART;TZID=America/Sao_Paulo:20270620T090000
DTEND;TZID=America/Sao_Paulo:20270620T100000
DTSTAMP:20260421T153136
CREATED:20260104T195708Z
LAST-MODIFIED:20260104T203034Z
UID:10004673-1813482000-1813485600@icbetuel.com.br
SUMMARY:Escola Bíblica
DESCRIPTION:
URL:https://icbetuel.com.br/evento/escola-biblica-2-2/2027-06-20/
LOCATION:Igreja Cristã Betuel\, Estrada de Jacarepaguá\, 7020 - Anil\, Rio de Janeiro\, Rio de Janeiro\, 22755145
ATTACH;FMTTYPE=image/jpeg:https://icbetuel.com.br/wp-content/uploads/2026/01/Escola-biblica-2026-tela.jpg
END:VEVENT
BEGIN:VEVENT
DTSTART;TZID=America/Sao_Paulo:20270627T090000
DTEND;TZID=America/Sao_Paulo:20270627T100000
DTSTAMP:20260421T153136
CREATED:20260104T195708Z
LAST-MODIFIED:20260104T203034Z
UID:10004674-1814086800-1814090400@icbetuel.com.br
SUMMARY:Escola Bíblica
DESCRIPTION:
URL:https://icbetuel.com.br/evento/escola-biblica-2-2/2027-06-27/
LOCATION:Igreja Cristã Betuel\, Estrada de Jacarepaguá\, 7020 - Anil\, Rio de Janeiro\, Rio de Janeiro\, 22755145
ATTACH;FMTTYPE=image/jpeg:https://icbetuel.com.br/wp-content/uploads/2026/01/Escola-biblica-2026-tela.jpg
END:VEVENT
BEGIN:VEVENT
DTSTART;TZID=America/Sao_Paulo:20270704T090000
DTEND;TZID=America/Sao_Paulo:20270704T100000
DTSTAMP:20260421T153136
CREATED:20260104T195708Z
LAST-MODIFIED:20260104T203034Z
UID:10004675-1814691600-1814695200@icbetuel.com.br
SUMMARY:Escola Bíblica
DESCRIPTION:
URL:https://icbetuel.com.br/evento/escola-biblica-2-2/2027-07-04/
LOCATION:Igreja Cristã Betuel\, Estrada de Jacarepaguá\, 7020 - Anil\, Rio de Janeiro\, Rio de Janeiro\, 22755145
ATTACH;FMTTYPE=image/jpeg:https://icbetuel.com.br/wp-content/uploads/2026/01/Escola-biblica-2026-tela.jpg
END:VEVENT
BEGIN:VEVENT
DTSTART;TZID=America/Sao_Paulo:20270711T090000
DTEND;TZID=America/Sao_Paulo:20270711T100000
DTSTAMP:20260421T153136
CREATED:20260104T195708Z
LAST-MODIFIED:20260104T203034Z
UID:10004676-1815296400-1815300000@icbetuel.com.br
SUMMARY:Escola Bíblica
DESCRIPTION:
URL:https://icbetuel.com.br/evento/escola-biblica-2-2/2027-07-11/
LOCATION:Igreja Cristã Betuel\, Estrada de Jacarepaguá\, 7020 - Anil\, Rio de Janeiro\, Rio de Janeiro\, 22755145
ATTACH;FMTTYPE=image/jpeg:https://icbetuel.com.br/wp-content/uploads/2026/01/Escola-biblica-2026-tela.jpg
END:VEVENT
BEGIN:VEVENT
DTSTART;TZID=America/Sao_Paulo:20270718T090000
DTEND;TZID=America/Sao_Paulo:20270718T100000
DTSTAMP:20260421T153136
CREATED:20260104T195708Z
LAST-MODIFIED:20260104T203034Z
UID:10004677-1815901200-1815904800@icbetuel.com.br
SUMMARY:Escola Bíblica
DESCRIPTION:
URL:https://icbetuel.com.br/evento/escola-biblica-2-2/2027-07-18/
LOCATION:Igreja Cristã Betuel\, Estrada de Jacarepaguá\, 7020 - Anil\, Rio de Janeiro\, Rio de Janeiro\, 22755145
ATTACH;FMTTYPE=image/jpeg:https://icbetuel.com.br/wp-content/uploads/2026/01/Escola-biblica-2026-tela.jpg
END:VEVENT
BEGIN:VEVENT
DTSTART;TZID=America/Sao_Paulo:20270725T090000
DTEND;TZID=America/Sao_Paulo:20270725T100000
DTSTAMP:20260421T153136
CREATED:20260104T195708Z
LAST-MODIFIED:20260104T203034Z
UID:10004678-1816506000-1816509600@icbetuel.com.br
SUMMARY:Escola Bíblica
DESCRIPTION:
URL:https://icbetuel.com.br/evento/escola-biblica-2-2/2027-07-25/
LOCATION:Igreja Cristã Betuel\, Estrada de Jacarepaguá\, 7020 - Anil\, Rio de Janeiro\, Rio de Janeiro\, 22755145
ATTACH;FMTTYPE=image/jpeg:https://icbetuel.com.br/wp-content/uploads/2026/01/Escola-biblica-2026-tela.jpg
END:VEVENT
END:VCALENDAR