BEGIN:VCALENDAR
VERSION:2.0
PRODID:-//Betuel - ECPv6.6.0.2//NONSGML v1.0//EN
CALSCALE:GREGORIAN
METHOD:PUBLISH
X-ORIGINAL-URL:https://icbetuel.com.br
X-WR-CALDESC:Eventos para Betuel
REFRESH-INTERVAL;VALUE=DURATION:PT1H
X-Robots-Tag:noindex
X-PUBLISHED-TTL:PT1H
BEGIN:VTIMEZONE
TZID:America/Sao_Paulo
BEGIN:STANDARD
TZOFFSETFROM:-0300
TZOFFSETTO:-0300
TZNAME:-03
DTSTART:20260101T000000
END:STANDARD
END:VTIMEZONE
BEGIN:VEVENT
DTSTART;TZID=America/Sao_Paulo:20260816T100000
DTEND;TZID=America/Sao_Paulo:20260816T130000
DTSTAMP:20260421T100513
CREATED:20240810T152256Z
LAST-MODIFIED:20240810T152609Z
UID:10002946-1786874400-1786885200@icbetuel.com.br
SUMMARY:Culto da Família
DESCRIPTION:
URL:https://icbetuel.com.br/evento/culto-da-familia-2/2026-08-16/
LOCATION:Igreja Cristã Betuel\, Estrada de Jacarepaguá\, 7020 - Anil\, Rio de Janeiro\, Rio de Janeiro\, 22755145
ATTACH;FMTTYPE=image/jpeg:https://icbetuel.com.br/wp-content/uploads/2024/03/Culto-da-Familia.jpeg
END:VEVENT
BEGIN:VEVENT
DTSTART;TZID=America/Sao_Paulo:20260823T100000
DTEND;TZID=America/Sao_Paulo:20260823T130000
DTSTAMP:20260421T100513
CREATED:20240810T152256Z
LAST-MODIFIED:20240810T152609Z
UID:10002947-1787479200-1787490000@icbetuel.com.br
SUMMARY:Culto da Família
DESCRIPTION:
URL:https://icbetuel.com.br/evento/culto-da-familia-2/2026-08-23/
LOCATION:Igreja Cristã Betuel\, Estrada de Jacarepaguá\, 7020 - Anil\, Rio de Janeiro\, Rio de Janeiro\, 22755145
ATTACH;FMTTYPE=image/jpeg:https://icbetuel.com.br/wp-content/uploads/2024/03/Culto-da-Familia.jpeg
END:VEVENT
BEGIN:VEVENT
DTSTART;TZID=America/Sao_Paulo:20260830T100000
DTEND;TZID=America/Sao_Paulo:20260830T130000
DTSTAMP:20260421T100513
CREATED:20240810T152256Z
LAST-MODIFIED:20240810T152609Z
UID:10002948-1788084000-1788094800@icbetuel.com.br
SUMMARY:Culto da Família
DESCRIPTION:
URL:https://icbetuel.com.br/evento/culto-da-familia-2/2026-08-30/
LOCATION:Igreja Cristã Betuel\, Estrada de Jacarepaguá\, 7020 - Anil\, Rio de Janeiro\, Rio de Janeiro\, 22755145
ATTACH;FMTTYPE=image/jpeg:https://icbetuel.com.br/wp-content/uploads/2024/03/Culto-da-Familia.jpeg
END:VEVENT
BEGIN:VEVENT
DTSTART;TZID=America/Sao_Paulo:20260906T100000
DTEND;TZID=America/Sao_Paulo:20260906T130000
DTSTAMP:20260421T100513
CREATED:20240810T152256Z
LAST-MODIFIED:20240810T152609Z
UID:10002949-1788688800-1788699600@icbetuel.com.br
SUMMARY:Culto da Família
DESCRIPTION:
URL:https://icbetuel.com.br/evento/culto-da-familia-2/2026-09-06/
LOCATION:Igreja Cristã Betuel\, Estrada de Jacarepaguá\, 7020 - Anil\, Rio de Janeiro\, Rio de Janeiro\, 22755145
ATTACH;FMTTYPE=image/jpeg:https://icbetuel.com.br/wp-content/uploads/2024/03/Culto-da-Familia.jpeg
END:VEVENT
BEGIN:VEVENT
DTSTART;TZID=America/Sao_Paulo:20260920T100000
DTEND;TZID=America/Sao_Paulo:20260920T130000
DTSTAMP:20260421T100513
CREATED:20240810T152256Z
LAST-MODIFIED:20240810T152609Z
UID:10002951-1789898400-1789909200@icbetuel.com.br
SUMMARY:Culto da Família
DESCRIPTION:
URL:https://icbetuel.com.br/evento/culto-da-familia-2/2026-09-20/
LOCATION:Igreja Cristã Betuel\, Estrada de Jacarepaguá\, 7020 - Anil\, Rio de Janeiro\, Rio de Janeiro\, 22755145
ATTACH;FMTTYPE=image/jpeg:https://icbetuel.com.br/wp-content/uploads/2024/03/Culto-da-Familia.jpeg
END:VEVENT
BEGIN:VEVENT
DTSTART;TZID=America/Sao_Paulo:20260927T100000
DTEND;TZID=America/Sao_Paulo:20260927T130000
DTSTAMP:20260421T100513
CREATED:20240810T152256Z
LAST-MODIFIED:20240810T152609Z
UID:10002952-1790503200-1790514000@icbetuel.com.br
SUMMARY:Culto da Família
DESCRIPTION:
URL:https://icbetuel.com.br/evento/culto-da-familia-2/2026-09-27/
LOCATION:Igreja Cristã Betuel\, Estrada de Jacarepaguá\, 7020 - Anil\, Rio de Janeiro\, Rio de Janeiro\, 22755145
ATTACH;FMTTYPE=image/jpeg:https://icbetuel.com.br/wp-content/uploads/2024/03/Culto-da-Familia.jpeg
END:VEVENT
BEGIN:VEVENT
DTSTART;TZID=America/Sao_Paulo:20261004T100000
DTEND;TZID=America/Sao_Paulo:20261004T130000
DTSTAMP:20260421T100513
CREATED:20240810T152256Z
LAST-MODIFIED:20240810T152609Z
UID:10002953-1791108000-1791118800@icbetuel.com.br
SUMMARY:Culto da Família
DESCRIPTION:
URL:https://icbetuel.com.br/evento/culto-da-familia-2/2026-10-04/
LOCATION:Igreja Cristã Betuel\, Estrada de Jacarepaguá\, 7020 - Anil\, Rio de Janeiro\, Rio de Janeiro\, 22755145
ATTACH;FMTTYPE=image/jpeg:https://icbetuel.com.br/wp-content/uploads/2024/03/Culto-da-Familia.jpeg
END:VEVENT
BEGIN:VEVENT
DTSTART;TZID=America/Sao_Paulo:20261018T100000
DTEND;TZID=America/Sao_Paulo:20261018T130000
DTSTAMP:20260421T100513
CREATED:20240810T152256Z
LAST-MODIFIED:20240810T152609Z
UID:10002955-1792317600-1792328400@icbetuel.com.br
SUMMARY:Culto da Família
DESCRIPTION:
URL:https://icbetuel.com.br/evento/culto-da-familia-2/2026-10-18/
LOCATION:Igreja Cristã Betuel\, Estrada de Jacarepaguá\, 7020 - Anil\, Rio de Janeiro\, Rio de Janeiro\, 22755145
ATTACH;FMTTYPE=image/jpeg:https://icbetuel.com.br/wp-content/uploads/2024/03/Culto-da-Familia.jpeg
END:VEVENT
BEGIN:VEVENT
DTSTART;TZID=America/Sao_Paulo:20261025T100000
DTEND;TZID=America/Sao_Paulo:20261025T130000
DTSTAMP:20260421T100513
CREATED:20240810T152256Z
LAST-MODIFIED:20240810T152609Z
UID:10002956-1792922400-1792933200@icbetuel.com.br
SUMMARY:Culto da Família
DESCRIPTION:
URL:https://icbetuel.com.br/evento/culto-da-familia-2/2026-10-25/
LOCATION:Igreja Cristã Betuel\, Estrada de Jacarepaguá\, 7020 - Anil\, Rio de Janeiro\, Rio de Janeiro\, 22755145
ATTACH;FMTTYPE=image/jpeg:https://icbetuel.com.br/wp-content/uploads/2024/03/Culto-da-Familia.jpeg
END:VEVENT
BEGIN:VEVENT
DTSTART;TZID=America/Sao_Paulo:20261101T100000
DTEND;TZID=America/Sao_Paulo:20261101T130000
DTSTAMP:20260421T100513
CREATED:20240810T152256Z
LAST-MODIFIED:20240810T152609Z
UID:10002957-1793527200-1793538000@icbetuel.com.br
SUMMARY:Culto da Família
DESCRIPTION:
URL:https://icbetuel.com.br/evento/culto-da-familia-2/2026-11-01/
LOCATION:Igreja Cristã Betuel\, Estrada de Jacarepaguá\, 7020 - Anil\, Rio de Janeiro\, Rio de Janeiro\, 22755145
ATTACH;FMTTYPE=image/jpeg:https://icbetuel.com.br/wp-content/uploads/2024/03/Culto-da-Familia.jpeg
END:VEVENT
BEGIN:VEVENT
DTSTART;TZID=America/Sao_Paulo:20261115T100000
DTEND;TZID=America/Sao_Paulo:20261115T130000
DTSTAMP:20260421T100513
CREATED:20240810T152256Z
LAST-MODIFIED:20240810T152609Z
UID:10002959-1794736800-1794747600@icbetuel.com.br
SUMMARY:Culto da Família
DESCRIPTION:
URL:https://icbetuel.com.br/evento/culto-da-familia-2/2026-11-15/
LOCATION:Igreja Cristã Betuel\, Estrada de Jacarepaguá\, 7020 - Anil\, Rio de Janeiro\, Rio de Janeiro\, 22755145
ATTACH;FMTTYPE=image/jpeg:https://icbetuel.com.br/wp-content/uploads/2024/03/Culto-da-Familia.jpeg
END:VEVENT
BEGIN:VEVENT
DTSTART;TZID=America/Sao_Paulo:20261122T100000
DTEND;TZID=America/Sao_Paulo:20261122T130000
DTSTAMP:20260421T100513
CREATED:20240810T152256Z
LAST-MODIFIED:20240810T152609Z
UID:10002960-1795341600-1795352400@icbetuel.com.br
SUMMARY:Culto da Família
DESCRIPTION:
URL:https://icbetuel.com.br/evento/culto-da-familia-2/2026-11-22/
LOCATION:Igreja Cristã Betuel\, Estrada de Jacarepaguá\, 7020 - Anil\, Rio de Janeiro\, Rio de Janeiro\, 22755145
ATTACH;FMTTYPE=image/jpeg:https://icbetuel.com.br/wp-content/uploads/2024/03/Culto-da-Familia.jpeg
END:VEVENT
BEGIN:VEVENT
DTSTART;TZID=America/Sao_Paulo:20261129T100000
DTEND;TZID=America/Sao_Paulo:20261129T130000
DTSTAMP:20260421T100513
CREATED:20240810T152256Z
LAST-MODIFIED:20240810T152609Z
UID:10002961-1795946400-1795957200@icbetuel.com.br
SUMMARY:Culto da Família
DESCRIPTION:
URL:https://icbetuel.com.br/evento/culto-da-familia-2/2026-11-29/
LOCATION:Igreja Cristã Betuel\, Estrada de Jacarepaguá\, 7020 - Anil\, Rio de Janeiro\, Rio de Janeiro\, 22755145
ATTACH;FMTTYPE=image/jpeg:https://icbetuel.com.br/wp-content/uploads/2024/03/Culto-da-Familia.jpeg
END:VEVENT
BEGIN:VEVENT
DTSTART;TZID=America/Sao_Paulo:20261206T100000
DTEND;TZID=America/Sao_Paulo:20261206T130000
DTSTAMP:20260421T100513
CREATED:20240810T152256Z
LAST-MODIFIED:20240810T152609Z
UID:10002962-1796551200-1796562000@icbetuel.com.br
SUMMARY:Culto da Família
DESCRIPTION:
URL:https://icbetuel.com.br/evento/culto-da-familia-2/2026-12-06/
LOCATION:Igreja Cristã Betuel\, Estrada de Jacarepaguá\, 7020 - Anil\, Rio de Janeiro\, Rio de Janeiro\, 22755145
ATTACH;FMTTYPE=image/jpeg:https://icbetuel.com.br/wp-content/uploads/2024/03/Culto-da-Familia.jpeg
END:VEVENT
BEGIN:VEVENT
DTSTART;TZID=America/Sao_Paulo:20261220T100000
DTEND;TZID=America/Sao_Paulo:20261220T130000
DTSTAMP:20260421T100513
CREATED:20240810T152256Z
LAST-MODIFIED:20240810T152609Z
UID:10002964-1797760800-1797771600@icbetuel.com.br
SUMMARY:Culto da Família
DESCRIPTION:
URL:https://icbetuel.com.br/evento/culto-da-familia-2/2026-12-20/
LOCATION:Igreja Cristã Betuel\, Estrada de Jacarepaguá\, 7020 - Anil\, Rio de Janeiro\, Rio de Janeiro\, 22755145
ATTACH;FMTTYPE=image/jpeg:https://icbetuel.com.br/wp-content/uploads/2024/03/Culto-da-Familia.jpeg
END:VEVENT
BEGIN:VEVENT
DTSTART;TZID=America/Sao_Paulo:20261227T100000
DTEND;TZID=America/Sao_Paulo:20261227T130000
DTSTAMP:20260421T100513
CREATED:20240810T152256Z
LAST-MODIFIED:20240810T152609Z
UID:10002965-1798365600-1798376400@icbetuel.com.br
SUMMARY:Culto da Família
DESCRIPTION:
URL:https://icbetuel.com.br/evento/culto-da-familia-2/2026-12-27/
LOCATION:Igreja Cristã Betuel\, Estrada de Jacarepaguá\, 7020 - Anil\, Rio de Janeiro\, Rio de Janeiro\, 22755145
ATTACH;FMTTYPE=image/jpeg:https://icbetuel.com.br/wp-content/uploads/2024/03/Culto-da-Familia.jpeg
END:VEVENT
BEGIN:VEVENT
DTSTART;TZID=America/Sao_Paulo:20270103T100000
DTEND;TZID=America/Sao_Paulo:20270103T130000
DTSTAMP:20260421T100513
CREATED:20240810T152256Z
LAST-MODIFIED:20240810T152609Z
UID:10002966-1798970400-1798981200@icbetuel.com.br
SUMMARY:Culto da Família
DESCRIPTION:
URL:https://icbetuel.com.br/evento/culto-da-familia-2/2027-01-03/
LOCATION:Igreja Cristã Betuel\, Estrada de Jacarepaguá\, 7020 - Anil\, Rio de Janeiro\, Rio de Janeiro\, 22755145
ATTACH;FMTTYPE=image/jpeg:https://icbetuel.com.br/wp-content/uploads/2024/03/Culto-da-Familia.jpeg
END:VEVENT
BEGIN:VEVENT
DTSTART;TZID=America/Sao_Paulo:20270117T100000
DTEND;TZID=America/Sao_Paulo:20270117T130000
DTSTAMP:20260421T100513
CREATED:20240810T152256Z
LAST-MODIFIED:20240810T152609Z
UID:10002968-1800180000-1800190800@icbetuel.com.br
SUMMARY:Culto da Família
DESCRIPTION:
URL:https://icbetuel.com.br/evento/culto-da-familia-2/2027-01-17/
LOCATION:Igreja Cristã Betuel\, Estrada de Jacarepaguá\, 7020 - Anil\, Rio de Janeiro\, Rio de Janeiro\, 22755145
ATTACH;FMTTYPE=image/jpeg:https://icbetuel.com.br/wp-content/uploads/2024/03/Culto-da-Familia.jpeg
END:VEVENT
BEGIN:VEVENT
DTSTART;TZID=America/Sao_Paulo:20270124T100000
DTEND;TZID=America/Sao_Paulo:20270124T130000
DTSTAMP:20260421T100513
CREATED:20240810T152256Z
LAST-MODIFIED:20240810T152609Z
UID:10002969-1800784800-1800795600@icbetuel.com.br
SUMMARY:Culto da Família
DESCRIPTION:
URL:https://icbetuel.com.br/evento/culto-da-familia-2/2027-01-24/
LOCATION:Igreja Cristã Betuel\, Estrada de Jacarepaguá\, 7020 - Anil\, Rio de Janeiro\, Rio de Janeiro\, 22755145
ATTACH;FMTTYPE=image/jpeg:https://icbetuel.com.br/wp-content/uploads/2024/03/Culto-da-Familia.jpeg
END:VEVENT
BEGIN:VEVENT
DTSTART;TZID=America/Sao_Paulo:20270131T100000
DTEND;TZID=America/Sao_Paulo:20270131T130000
DTSTAMP:20260421T100513
CREATED:20240810T152256Z
LAST-MODIFIED:20240810T152609Z
UID:10002970-1801389600-1801400400@icbetuel.com.br
SUMMARY:Culto da Família
DESCRIPTION:
URL:https://icbetuel.com.br/evento/culto-da-familia-2/2027-01-31/
LOCATION:Igreja Cristã Betuel\, Estrada de Jacarepaguá\, 7020 - Anil\, Rio de Janeiro\, Rio de Janeiro\, 22755145
ATTACH;FMTTYPE=image/jpeg:https://icbetuel.com.br/wp-content/uploads/2024/03/Culto-da-Familia.jpeg
END:VEVENT
BEGIN:VEVENT
DTSTART;TZID=America/Sao_Paulo:20270207T100000
DTEND;TZID=America/Sao_Paulo:20270207T130000
DTSTAMP:20260421T100513
CREATED:20240810T152256Z
LAST-MODIFIED:20240810T152609Z
UID:10002971-1801994400-1802005200@icbetuel.com.br
SUMMARY:Culto da Família
DESCRIPTION:
URL:https://icbetuel.com.br/evento/culto-da-familia-2/2027-02-07/
LOCATION:Igreja Cristã Betuel\, Estrada de Jacarepaguá\, 7020 - Anil\, Rio de Janeiro\, Rio de Janeiro\, 22755145
ATTACH;FMTTYPE=image/jpeg:https://icbetuel.com.br/wp-content/uploads/2024/03/Culto-da-Familia.jpeg
END:VEVENT
BEGIN:VEVENT
DTSTART;TZID=America/Sao_Paulo:20270221T100000
DTEND;TZID=America/Sao_Paulo:20270221T130000
DTSTAMP:20260421T100513
CREATED:20240810T152256Z
LAST-MODIFIED:20240810T152609Z
UID:10002973-1803204000-1803214800@icbetuel.com.br
SUMMARY:Culto da Família
DESCRIPTION:
URL:https://icbetuel.com.br/evento/culto-da-familia-2/2027-02-21/
LOCATION:Igreja Cristã Betuel\, Estrada de Jacarepaguá\, 7020 - Anil\, Rio de Janeiro\, Rio de Janeiro\, 22755145
ATTACH;FMTTYPE=image/jpeg:https://icbetuel.com.br/wp-content/uploads/2024/03/Culto-da-Familia.jpeg
END:VEVENT
BEGIN:VEVENT
DTSTART;TZID=America/Sao_Paulo:20270228T100000
DTEND;TZID=America/Sao_Paulo:20270228T130000
DTSTAMP:20260421T100513
CREATED:20240810T152256Z
LAST-MODIFIED:20240810T152609Z
UID:10002974-1803808800-1803819600@icbetuel.com.br
SUMMARY:Culto da Família
DESCRIPTION:
URL:https://icbetuel.com.br/evento/culto-da-familia-2/2027-02-28/
LOCATION:Igreja Cristã Betuel\, Estrada de Jacarepaguá\, 7020 - Anil\, Rio de Janeiro\, Rio de Janeiro\, 22755145
ATTACH;FMTTYPE=image/jpeg:https://icbetuel.com.br/wp-content/uploads/2024/03/Culto-da-Familia.jpeg
END:VEVENT
BEGIN:VEVENT
DTSTART;TZID=America/Sao_Paulo:20270307T100000
DTEND;TZID=America/Sao_Paulo:20270307T130000
DTSTAMP:20260421T100513
CREATED:20240810T152256Z
LAST-MODIFIED:20240810T152609Z
UID:10002975-1804413600-1804424400@icbetuel.com.br
SUMMARY:Culto da Família
DESCRIPTION:
URL:https://icbetuel.com.br/evento/culto-da-familia-2/2027-03-07/
LOCATION:Igreja Cristã Betuel\, Estrada de Jacarepaguá\, 7020 - Anil\, Rio de Janeiro\, Rio de Janeiro\, 22755145
ATTACH;FMTTYPE=image/jpeg:https://icbetuel.com.br/wp-content/uploads/2024/03/Culto-da-Familia.jpeg
END:VEVENT
BEGIN:VEVENT
DTSTART;TZID=America/Sao_Paulo:20270321T100000
DTEND;TZID=America/Sao_Paulo:20270321T130000
DTSTAMP:20260421T100513
CREATED:20240810T152256Z
LAST-MODIFIED:20240810T152609Z
UID:10002977-1805623200-1805634000@icbetuel.com.br
SUMMARY:Culto da Família
DESCRIPTION:
URL:https://icbetuel.com.br/evento/culto-da-familia-2/2027-03-21/
LOCATION:Igreja Cristã Betuel\, Estrada de Jacarepaguá\, 7020 - Anil\, Rio de Janeiro\, Rio de Janeiro\, 22755145
ATTACH;FMTTYPE=image/jpeg:https://icbetuel.com.br/wp-content/uploads/2024/03/Culto-da-Familia.jpeg
END:VEVENT
BEGIN:VEVENT
DTSTART;TZID=America/Sao_Paulo:20270328T100000
DTEND;TZID=America/Sao_Paulo:20270328T130000
DTSTAMP:20260421T100513
CREATED:20240810T152256Z
LAST-MODIFIED:20240810T152609Z
UID:10002978-1806228000-1806238800@icbetuel.com.br
SUMMARY:Culto da Família
DESCRIPTION:
URL:https://icbetuel.com.br/evento/culto-da-familia-2/2027-03-28/
LOCATION:Igreja Cristã Betuel\, Estrada de Jacarepaguá\, 7020 - Anil\, Rio de Janeiro\, Rio de Janeiro\, 22755145
ATTACH;FMTTYPE=image/jpeg:https://icbetuel.com.br/wp-content/uploads/2024/03/Culto-da-Familia.jpeg
END:VEVENT
BEGIN:VEVENT
DTSTART;TZID=America/Sao_Paulo:20270404T100000
DTEND;TZID=America/Sao_Paulo:20270404T130000
DTSTAMP:20260421T100513
CREATED:20240810T152256Z
LAST-MODIFIED:20240810T152609Z
UID:10002979-1806832800-1806843600@icbetuel.com.br
SUMMARY:Culto da Família
DESCRIPTION:
URL:https://icbetuel.com.br/evento/culto-da-familia-2/2027-04-04/
LOCATION:Igreja Cristã Betuel\, Estrada de Jacarepaguá\, 7020 - Anil\, Rio de Janeiro\, Rio de Janeiro\, 22755145
ATTACH;FMTTYPE=image/jpeg:https://icbetuel.com.br/wp-content/uploads/2024/03/Culto-da-Familia.jpeg
END:VEVENT
BEGIN:VEVENT
DTSTART;TZID=America/Sao_Paulo:20270418T100000
DTEND;TZID=America/Sao_Paulo:20270418T130000
DTSTAMP:20260421T100513
CREATED:20240810T152256Z
LAST-MODIFIED:20240810T152609Z
UID:10002981-1808042400-1808053200@icbetuel.com.br
SUMMARY:Culto da Família
DESCRIPTION:
URL:https://icbetuel.com.br/evento/culto-da-familia-2/2027-04-18/
LOCATION:Igreja Cristã Betuel\, Estrada de Jacarepaguá\, 7020 - Anil\, Rio de Janeiro\, Rio de Janeiro\, 22755145
ATTACH;FMTTYPE=image/jpeg:https://icbetuel.com.br/wp-content/uploads/2024/03/Culto-da-Familia.jpeg
END:VEVENT
BEGIN:VEVENT
DTSTART;TZID=America/Sao_Paulo:20270425T100000
DTEND;TZID=America/Sao_Paulo:20270425T130000
DTSTAMP:20260421T100513
CREATED:20240810T152256Z
LAST-MODIFIED:20240810T152609Z
UID:10002982-1808647200-1808658000@icbetuel.com.br
SUMMARY:Culto da Família
DESCRIPTION:
URL:https://icbetuel.com.br/evento/culto-da-familia-2/2027-04-25/
LOCATION:Igreja Cristã Betuel\, Estrada de Jacarepaguá\, 7020 - Anil\, Rio de Janeiro\, Rio de Janeiro\, 22755145
ATTACH;FMTTYPE=image/jpeg:https://icbetuel.com.br/wp-content/uploads/2024/03/Culto-da-Familia.jpeg
END:VEVENT
BEGIN:VEVENT
DTSTART;TZID=America/Sao_Paulo:20270502T100000
DTEND;TZID=America/Sao_Paulo:20270502T130000
DTSTAMP:20260421T100513
CREATED:20240810T152256Z
LAST-MODIFIED:20240810T152609Z
UID:10002983-1809252000-1809262800@icbetuel.com.br
SUMMARY:Culto da Família
DESCRIPTION:
URL:https://icbetuel.com.br/evento/culto-da-familia-2/2027-05-02/
LOCATION:Igreja Cristã Betuel\, Estrada de Jacarepaguá\, 7020 - Anil\, Rio de Janeiro\, Rio de Janeiro\, 22755145
ATTACH;FMTTYPE=image/jpeg:https://icbetuel.com.br/wp-content/uploads/2024/03/Culto-da-Familia.jpeg
END:VEVENT
END:VCALENDAR