BEGIN:VCALENDAR
VERSION:2.0
PRODID:-//Betuel - ECPv6.6.0.2//NONSGML v1.0//EN
CALSCALE:GREGORIAN
METHOD:PUBLISH
X-WR-CALNAME:Betuel
X-ORIGINAL-URL:https://icbetuel.com.br
X-WR-CALDESC:Eventos para Betuel
REFRESH-INTERVAL;VALUE=DURATION:PT1H
X-Robots-Tag:noindex
X-PUBLISHED-TTL:PT1H
BEGIN:VTIMEZONE
TZID:America/Sao_Paulo
BEGIN:STANDARD
TZOFFSETFROM:-0300
TZOFFSETTO:-0300
TZNAME:-03
DTSTART:20260101T000000
END:STANDARD
END:VTIMEZONE
BEGIN:VEVENT
DTSTART;TZID=America/Sao_Paulo:20260716T193000
DTEND;TZID=America/Sao_Paulo:20260716T213000
DTSTAMP:20260421T111456
CREATED:20260104T202804Z
LAST-MODIFIED:20260104T202804Z
UID:10004940-1784230200-1784237400@icbetuel.com.br
SUMMARY:Culto do Encontro com Deus
DESCRIPTION:
URL:https://icbetuel.com.br/evento/culto-do-encontro-com-deus/2026-07-16/
LOCATION:Igreja Cristã Betuel\, Estrada de Jacarepaguá\, 7020 - Anil\, Rio de Janeiro\, Rio de Janeiro\, 22755145
ATTACH;FMTTYPE=image/jpeg:https://icbetuel.com.br/wp-content/uploads/2026/01/Copia-de-Copia-de-Culto-encontro-com-Deus-0207-1920-x-1080-px.jpg
END:VEVENT
BEGIN:VEVENT
DTSTART;TZID=America/Sao_Paulo:20260723T193000
DTEND;TZID=America/Sao_Paulo:20260723T213000
DTSTAMP:20260421T111456
CREATED:20260104T202804Z
LAST-MODIFIED:20260104T202804Z
UID:10004941-1784835000-1784842200@icbetuel.com.br
SUMMARY:Culto do Encontro com Deus
DESCRIPTION:
URL:https://icbetuel.com.br/evento/culto-do-encontro-com-deus/2026-07-23/
LOCATION:Igreja Cristã Betuel\, Estrada de Jacarepaguá\, 7020 - Anil\, Rio de Janeiro\, Rio de Janeiro\, 22755145
ATTACH;FMTTYPE=image/jpeg:https://icbetuel.com.br/wp-content/uploads/2026/01/Copia-de-Copia-de-Culto-encontro-com-Deus-0207-1920-x-1080-px.jpg
END:VEVENT
BEGIN:VEVENT
DTSTART;TZID=America/Sao_Paulo:20260730T193000
DTEND;TZID=America/Sao_Paulo:20260730T213000
DTSTAMP:20260421T111457
CREATED:20260104T202804Z
LAST-MODIFIED:20260104T202804Z
UID:10004942-1785439800-1785447000@icbetuel.com.br
SUMMARY:Culto do Encontro com Deus
DESCRIPTION:
URL:https://icbetuel.com.br/evento/culto-do-encontro-com-deus/2026-07-30/
LOCATION:Igreja Cristã Betuel\, Estrada de Jacarepaguá\, 7020 - Anil\, Rio de Janeiro\, Rio de Janeiro\, 22755145
ATTACH;FMTTYPE=image/jpeg:https://icbetuel.com.br/wp-content/uploads/2026/01/Copia-de-Copia-de-Culto-encontro-com-Deus-0207-1920-x-1080-px.jpg
END:VEVENT
BEGIN:VEVENT
DTSTART;TZID=America/Sao_Paulo:20260806T193000
DTEND;TZID=America/Sao_Paulo:20260806T213000
DTSTAMP:20260421T111457
CREATED:20260104T202804Z
LAST-MODIFIED:20260104T202804Z
UID:10004943-1786044600-1786051800@icbetuel.com.br
SUMMARY:Culto do Encontro com Deus
DESCRIPTION:
URL:https://icbetuel.com.br/evento/culto-do-encontro-com-deus/2026-08-06/
LOCATION:Igreja Cristã Betuel\, Estrada de Jacarepaguá\, 7020 - Anil\, Rio de Janeiro\, Rio de Janeiro\, 22755145
ATTACH;FMTTYPE=image/jpeg:https://icbetuel.com.br/wp-content/uploads/2026/01/Copia-de-Copia-de-Culto-encontro-com-Deus-0207-1920-x-1080-px.jpg
END:VEVENT
BEGIN:VEVENT
DTSTART;TZID=America/Sao_Paulo:20260813T193000
DTEND;TZID=America/Sao_Paulo:20260813T213000
DTSTAMP:20260421T111457
CREATED:20260104T202804Z
LAST-MODIFIED:20260104T202804Z
UID:10004944-1786649400-1786656600@icbetuel.com.br
SUMMARY:Culto do Encontro com Deus
DESCRIPTION:
URL:https://icbetuel.com.br/evento/culto-do-encontro-com-deus/2026-08-13/
LOCATION:Igreja Cristã Betuel\, Estrada de Jacarepaguá\, 7020 - Anil\, Rio de Janeiro\, Rio de Janeiro\, 22755145
ATTACH;FMTTYPE=image/jpeg:https://icbetuel.com.br/wp-content/uploads/2026/01/Copia-de-Copia-de-Culto-encontro-com-Deus-0207-1920-x-1080-px.jpg
END:VEVENT
BEGIN:VEVENT
DTSTART;TZID=America/Sao_Paulo:20260820T193000
DTEND;TZID=America/Sao_Paulo:20260820T213000
DTSTAMP:20260421T111457
CREATED:20260104T202804Z
LAST-MODIFIED:20260104T202804Z
UID:10004945-1787254200-1787261400@icbetuel.com.br
SUMMARY:Culto do Encontro com Deus
DESCRIPTION:
URL:https://icbetuel.com.br/evento/culto-do-encontro-com-deus/2026-08-20/
LOCATION:Igreja Cristã Betuel\, Estrada de Jacarepaguá\, 7020 - Anil\, Rio de Janeiro\, Rio de Janeiro\, 22755145
ATTACH;FMTTYPE=image/jpeg:https://icbetuel.com.br/wp-content/uploads/2026/01/Copia-de-Copia-de-Culto-encontro-com-Deus-0207-1920-x-1080-px.jpg
END:VEVENT
BEGIN:VEVENT
DTSTART;TZID=America/Sao_Paulo:20260827T193000
DTEND;TZID=America/Sao_Paulo:20260827T213000
DTSTAMP:20260421T111457
CREATED:20260104T202804Z
LAST-MODIFIED:20260104T202804Z
UID:10004946-1787859000-1787866200@icbetuel.com.br
SUMMARY:Culto do Encontro com Deus
DESCRIPTION:
URL:https://icbetuel.com.br/evento/culto-do-encontro-com-deus/2026-08-27/
LOCATION:Igreja Cristã Betuel\, Estrada de Jacarepaguá\, 7020 - Anil\, Rio de Janeiro\, Rio de Janeiro\, 22755145
ATTACH;FMTTYPE=image/jpeg:https://icbetuel.com.br/wp-content/uploads/2026/01/Copia-de-Copia-de-Culto-encontro-com-Deus-0207-1920-x-1080-px.jpg
END:VEVENT
BEGIN:VEVENT
DTSTART;TZID=America/Sao_Paulo:20260903T193000
DTEND;TZID=America/Sao_Paulo:20260903T213000
DTSTAMP:20260421T111457
CREATED:20260104T202804Z
LAST-MODIFIED:20260104T202804Z
UID:10004947-1788463800-1788471000@icbetuel.com.br
SUMMARY:Culto do Encontro com Deus
DESCRIPTION:
URL:https://icbetuel.com.br/evento/culto-do-encontro-com-deus/2026-09-03/
LOCATION:Igreja Cristã Betuel\, Estrada de Jacarepaguá\, 7020 - Anil\, Rio de Janeiro\, Rio de Janeiro\, 22755145
ATTACH;FMTTYPE=image/jpeg:https://icbetuel.com.br/wp-content/uploads/2026/01/Copia-de-Copia-de-Culto-encontro-com-Deus-0207-1920-x-1080-px.jpg
END:VEVENT
BEGIN:VEVENT
DTSTART;TZID=America/Sao_Paulo:20260910T193000
DTEND;TZID=America/Sao_Paulo:20260910T213000
DTSTAMP:20260421T111457
CREATED:20260104T202804Z
LAST-MODIFIED:20260104T202804Z
UID:10004948-1789068600-1789075800@icbetuel.com.br
SUMMARY:Culto do Encontro com Deus
DESCRIPTION:
URL:https://icbetuel.com.br/evento/culto-do-encontro-com-deus/2026-09-10/
LOCATION:Igreja Cristã Betuel\, Estrada de Jacarepaguá\, 7020 - Anil\, Rio de Janeiro\, Rio de Janeiro\, 22755145
ATTACH;FMTTYPE=image/jpeg:https://icbetuel.com.br/wp-content/uploads/2026/01/Copia-de-Copia-de-Culto-encontro-com-Deus-0207-1920-x-1080-px.jpg
END:VEVENT
BEGIN:VEVENT
DTSTART;TZID=America/Sao_Paulo:20260917T193000
DTEND;TZID=America/Sao_Paulo:20260917T213000
DTSTAMP:20260421T111457
CREATED:20260104T202804Z
LAST-MODIFIED:20260104T202804Z
UID:10004949-1789673400-1789680600@icbetuel.com.br
SUMMARY:Culto do Encontro com Deus
DESCRIPTION:
URL:https://icbetuel.com.br/evento/culto-do-encontro-com-deus/2026-09-17/
LOCATION:Igreja Cristã Betuel\, Estrada de Jacarepaguá\, 7020 - Anil\, Rio de Janeiro\, Rio de Janeiro\, 22755145
ATTACH;FMTTYPE=image/jpeg:https://icbetuel.com.br/wp-content/uploads/2026/01/Copia-de-Copia-de-Culto-encontro-com-Deus-0207-1920-x-1080-px.jpg
END:VEVENT
BEGIN:VEVENT
DTSTART;TZID=America/Sao_Paulo:20260924T193000
DTEND;TZID=America/Sao_Paulo:20260924T213000
DTSTAMP:20260421T111457
CREATED:20260104T202804Z
LAST-MODIFIED:20260104T202804Z
UID:10004950-1790278200-1790285400@icbetuel.com.br
SUMMARY:Culto do Encontro com Deus
DESCRIPTION:
URL:https://icbetuel.com.br/evento/culto-do-encontro-com-deus/2026-09-24/
LOCATION:Igreja Cristã Betuel\, Estrada de Jacarepaguá\, 7020 - Anil\, Rio de Janeiro\, Rio de Janeiro\, 22755145
ATTACH;FMTTYPE=image/jpeg:https://icbetuel.com.br/wp-content/uploads/2026/01/Copia-de-Copia-de-Culto-encontro-com-Deus-0207-1920-x-1080-px.jpg
END:VEVENT
BEGIN:VEVENT
DTSTART;TZID=America/Sao_Paulo:20261001T193000
DTEND;TZID=America/Sao_Paulo:20261001T213000
DTSTAMP:20260421T111457
CREATED:20260104T202804Z
LAST-MODIFIED:20260104T202804Z
UID:10004951-1790883000-1790890200@icbetuel.com.br
SUMMARY:Culto do Encontro com Deus
DESCRIPTION:
URL:https://icbetuel.com.br/evento/culto-do-encontro-com-deus/2026-10-01/
LOCATION:Igreja Cristã Betuel\, Estrada de Jacarepaguá\, 7020 - Anil\, Rio de Janeiro\, Rio de Janeiro\, 22755145
ATTACH;FMTTYPE=image/jpeg:https://icbetuel.com.br/wp-content/uploads/2026/01/Copia-de-Copia-de-Culto-encontro-com-Deus-0207-1920-x-1080-px.jpg
END:VEVENT
BEGIN:VEVENT
DTSTART;TZID=America/Sao_Paulo:20261008T193000
DTEND;TZID=America/Sao_Paulo:20261008T213000
DTSTAMP:20260421T111457
CREATED:20260104T202804Z
LAST-MODIFIED:20260104T202804Z
UID:10004952-1791487800-1791495000@icbetuel.com.br
SUMMARY:Culto do Encontro com Deus
DESCRIPTION:
URL:https://icbetuel.com.br/evento/culto-do-encontro-com-deus/2026-10-08/
LOCATION:Igreja Cristã Betuel\, Estrada de Jacarepaguá\, 7020 - Anil\, Rio de Janeiro\, Rio de Janeiro\, 22755145
ATTACH;FMTTYPE=image/jpeg:https://icbetuel.com.br/wp-content/uploads/2026/01/Copia-de-Copia-de-Culto-encontro-com-Deus-0207-1920-x-1080-px.jpg
END:VEVENT
BEGIN:VEVENT
DTSTART;TZID=America/Sao_Paulo:20261015T193000
DTEND;TZID=America/Sao_Paulo:20261015T213000
DTSTAMP:20260421T111457
CREATED:20260104T202804Z
LAST-MODIFIED:20260104T202804Z
UID:10004953-1792092600-1792099800@icbetuel.com.br
SUMMARY:Culto do Encontro com Deus
DESCRIPTION:
URL:https://icbetuel.com.br/evento/culto-do-encontro-com-deus/2026-10-15/
LOCATION:Igreja Cristã Betuel\, Estrada de Jacarepaguá\, 7020 - Anil\, Rio de Janeiro\, Rio de Janeiro\, 22755145
ATTACH;FMTTYPE=image/jpeg:https://icbetuel.com.br/wp-content/uploads/2026/01/Copia-de-Copia-de-Culto-encontro-com-Deus-0207-1920-x-1080-px.jpg
END:VEVENT
BEGIN:VEVENT
DTSTART;TZID=America/Sao_Paulo:20261022T193000
DTEND;TZID=America/Sao_Paulo:20261022T213000
DTSTAMP:20260421T111457
CREATED:20260104T202804Z
LAST-MODIFIED:20260104T202804Z
UID:10004954-1792697400-1792704600@icbetuel.com.br
SUMMARY:Culto do Encontro com Deus
DESCRIPTION:
URL:https://icbetuel.com.br/evento/culto-do-encontro-com-deus/2026-10-22/
LOCATION:Igreja Cristã Betuel\, Estrada de Jacarepaguá\, 7020 - Anil\, Rio de Janeiro\, Rio de Janeiro\, 22755145
ATTACH;FMTTYPE=image/jpeg:https://icbetuel.com.br/wp-content/uploads/2026/01/Copia-de-Copia-de-Culto-encontro-com-Deus-0207-1920-x-1080-px.jpg
END:VEVENT
BEGIN:VEVENT
DTSTART;TZID=America/Sao_Paulo:20261029T193000
DTEND;TZID=America/Sao_Paulo:20261029T213000
DTSTAMP:20260421T111457
CREATED:20260104T202804Z
LAST-MODIFIED:20260104T202804Z
UID:10004955-1793302200-1793309400@icbetuel.com.br
SUMMARY:Culto do Encontro com Deus
DESCRIPTION:
URL:https://icbetuel.com.br/evento/culto-do-encontro-com-deus/2026-10-29/
LOCATION:Igreja Cristã Betuel\, Estrada de Jacarepaguá\, 7020 - Anil\, Rio de Janeiro\, Rio de Janeiro\, 22755145
ATTACH;FMTTYPE=image/jpeg:https://icbetuel.com.br/wp-content/uploads/2026/01/Copia-de-Copia-de-Culto-encontro-com-Deus-0207-1920-x-1080-px.jpg
END:VEVENT
BEGIN:VEVENT
DTSTART;TZID=America/Sao_Paulo:20261105T193000
DTEND;TZID=America/Sao_Paulo:20261105T213000
DTSTAMP:20260421T111457
CREATED:20260104T202804Z
LAST-MODIFIED:20260104T202804Z
UID:10004956-1793907000-1793914200@icbetuel.com.br
SUMMARY:Culto do Encontro com Deus
DESCRIPTION:
URL:https://icbetuel.com.br/evento/culto-do-encontro-com-deus/2026-11-05/
LOCATION:Igreja Cristã Betuel\, Estrada de Jacarepaguá\, 7020 - Anil\, Rio de Janeiro\, Rio de Janeiro\, 22755145
ATTACH;FMTTYPE=image/jpeg:https://icbetuel.com.br/wp-content/uploads/2026/01/Copia-de-Copia-de-Culto-encontro-com-Deus-0207-1920-x-1080-px.jpg
END:VEVENT
BEGIN:VEVENT
DTSTART;TZID=America/Sao_Paulo:20261112T193000
DTEND;TZID=America/Sao_Paulo:20261112T213000
DTSTAMP:20260421T111457
CREATED:20260104T202804Z
LAST-MODIFIED:20260104T202804Z
UID:10004957-1794511800-1794519000@icbetuel.com.br
SUMMARY:Culto do Encontro com Deus
DESCRIPTION:
URL:https://icbetuel.com.br/evento/culto-do-encontro-com-deus/2026-11-12/
LOCATION:Igreja Cristã Betuel\, Estrada de Jacarepaguá\, 7020 - Anil\, Rio de Janeiro\, Rio de Janeiro\, 22755145
ATTACH;FMTTYPE=image/jpeg:https://icbetuel.com.br/wp-content/uploads/2026/01/Copia-de-Copia-de-Culto-encontro-com-Deus-0207-1920-x-1080-px.jpg
END:VEVENT
BEGIN:VEVENT
DTSTART;TZID=America/Sao_Paulo:20261119T193000
DTEND;TZID=America/Sao_Paulo:20261119T213000
DTSTAMP:20260421T111457
CREATED:20260104T202804Z
LAST-MODIFIED:20260104T202804Z
UID:10004958-1795116600-1795123800@icbetuel.com.br
SUMMARY:Culto do Encontro com Deus
DESCRIPTION:
URL:https://icbetuel.com.br/evento/culto-do-encontro-com-deus/2026-11-19/
LOCATION:Igreja Cristã Betuel\, Estrada de Jacarepaguá\, 7020 - Anil\, Rio de Janeiro\, Rio de Janeiro\, 22755145
ATTACH;FMTTYPE=image/jpeg:https://icbetuel.com.br/wp-content/uploads/2026/01/Copia-de-Copia-de-Culto-encontro-com-Deus-0207-1920-x-1080-px.jpg
END:VEVENT
BEGIN:VEVENT
DTSTART;TZID=America/Sao_Paulo:20261126T193000
DTEND;TZID=America/Sao_Paulo:20261126T213000
DTSTAMP:20260421T111457
CREATED:20260104T202804Z
LAST-MODIFIED:20260104T202804Z
UID:10004959-1795721400-1795728600@icbetuel.com.br
SUMMARY:Culto do Encontro com Deus
DESCRIPTION:
URL:https://icbetuel.com.br/evento/culto-do-encontro-com-deus/2026-11-26/
LOCATION:Igreja Cristã Betuel\, Estrada de Jacarepaguá\, 7020 - Anil\, Rio de Janeiro\, Rio de Janeiro\, 22755145
ATTACH;FMTTYPE=image/jpeg:https://icbetuel.com.br/wp-content/uploads/2026/01/Copia-de-Copia-de-Culto-encontro-com-Deus-0207-1920-x-1080-px.jpg
END:VEVENT
BEGIN:VEVENT
DTSTART;TZID=America/Sao_Paulo:20261203T193000
DTEND;TZID=America/Sao_Paulo:20261203T213000
DTSTAMP:20260421T111457
CREATED:20260104T202804Z
LAST-MODIFIED:20260104T202804Z
UID:10004960-1796326200-1796333400@icbetuel.com.br
SUMMARY:Culto do Encontro com Deus
DESCRIPTION:
URL:https://icbetuel.com.br/evento/culto-do-encontro-com-deus/2026-12-03/
LOCATION:Igreja Cristã Betuel\, Estrada de Jacarepaguá\, 7020 - Anil\, Rio de Janeiro\, Rio de Janeiro\, 22755145
ATTACH;FMTTYPE=image/jpeg:https://icbetuel.com.br/wp-content/uploads/2026/01/Copia-de-Copia-de-Culto-encontro-com-Deus-0207-1920-x-1080-px.jpg
END:VEVENT
BEGIN:VEVENT
DTSTART;TZID=America/Sao_Paulo:20261210T193000
DTEND;TZID=America/Sao_Paulo:20261210T213000
DTSTAMP:20260421T111457
CREATED:20260104T202804Z
LAST-MODIFIED:20260104T202804Z
UID:10004961-1796931000-1796938200@icbetuel.com.br
SUMMARY:Culto do Encontro com Deus
DESCRIPTION:
URL:https://icbetuel.com.br/evento/culto-do-encontro-com-deus/2026-12-10/
LOCATION:Igreja Cristã Betuel\, Estrada de Jacarepaguá\, 7020 - Anil\, Rio de Janeiro\, Rio de Janeiro\, 22755145
ATTACH;FMTTYPE=image/jpeg:https://icbetuel.com.br/wp-content/uploads/2026/01/Copia-de-Copia-de-Culto-encontro-com-Deus-0207-1920-x-1080-px.jpg
END:VEVENT
BEGIN:VEVENT
DTSTART;TZID=America/Sao_Paulo:20261217T193000
DTEND;TZID=America/Sao_Paulo:20261217T213000
DTSTAMP:20260421T111457
CREATED:20260104T202804Z
LAST-MODIFIED:20260104T202804Z
UID:10004962-1797535800-1797543000@icbetuel.com.br
SUMMARY:Culto do Encontro com Deus
DESCRIPTION:
URL:https://icbetuel.com.br/evento/culto-do-encontro-com-deus/2026-12-17/
LOCATION:Igreja Cristã Betuel\, Estrada de Jacarepaguá\, 7020 - Anil\, Rio de Janeiro\, Rio de Janeiro\, 22755145
ATTACH;FMTTYPE=image/jpeg:https://icbetuel.com.br/wp-content/uploads/2026/01/Copia-de-Copia-de-Culto-encontro-com-Deus-0207-1920-x-1080-px.jpg
END:VEVENT
BEGIN:VEVENT
DTSTART;TZID=America/Sao_Paulo:20261224T193000
DTEND;TZID=America/Sao_Paulo:20261224T213000
DTSTAMP:20260421T111457
CREATED:20260104T202804Z
LAST-MODIFIED:20260104T202804Z
UID:10004963-1798140600-1798147800@icbetuel.com.br
SUMMARY:Culto do Encontro com Deus
DESCRIPTION:
URL:https://icbetuel.com.br/evento/culto-do-encontro-com-deus/2026-12-24/
LOCATION:Igreja Cristã Betuel\, Estrada de Jacarepaguá\, 7020 - Anil\, Rio de Janeiro\, Rio de Janeiro\, 22755145
ATTACH;FMTTYPE=image/jpeg:https://icbetuel.com.br/wp-content/uploads/2026/01/Copia-de-Copia-de-Culto-encontro-com-Deus-0207-1920-x-1080-px.jpg
END:VEVENT
BEGIN:VEVENT
DTSTART;TZID=America/Sao_Paulo:20261231T193000
DTEND;TZID=America/Sao_Paulo:20261231T213000
DTSTAMP:20260421T111457
CREATED:20260104T202804Z
LAST-MODIFIED:20260104T202804Z
UID:10004964-1798745400-1798752600@icbetuel.com.br
SUMMARY:Culto do Encontro com Deus
DESCRIPTION:
URL:https://icbetuel.com.br/evento/culto-do-encontro-com-deus/2026-12-31/
LOCATION:Igreja Cristã Betuel\, Estrada de Jacarepaguá\, 7020 - Anil\, Rio de Janeiro\, Rio de Janeiro\, 22755145
ATTACH;FMTTYPE=image/jpeg:https://icbetuel.com.br/wp-content/uploads/2026/01/Copia-de-Copia-de-Culto-encontro-com-Deus-0207-1920-x-1080-px.jpg
END:VEVENT
BEGIN:VEVENT
DTSTART;TZID=America/Sao_Paulo:20270107T193000
DTEND;TZID=America/Sao_Paulo:20270107T213000
DTSTAMP:20260421T111457
CREATED:20260104T202804Z
LAST-MODIFIED:20260104T202804Z
UID:10004965-1799350200-1799357400@icbetuel.com.br
SUMMARY:Culto do Encontro com Deus
DESCRIPTION:
URL:https://icbetuel.com.br/evento/culto-do-encontro-com-deus/2027-01-07/
LOCATION:Igreja Cristã Betuel\, Estrada de Jacarepaguá\, 7020 - Anil\, Rio de Janeiro\, Rio de Janeiro\, 22755145
ATTACH;FMTTYPE=image/jpeg:https://icbetuel.com.br/wp-content/uploads/2026/01/Copia-de-Copia-de-Culto-encontro-com-Deus-0207-1920-x-1080-px.jpg
END:VEVENT
BEGIN:VEVENT
DTSTART;TZID=America/Sao_Paulo:20270114T193000
DTEND;TZID=America/Sao_Paulo:20270114T213000
DTSTAMP:20260421T111457
CREATED:20260104T202804Z
LAST-MODIFIED:20260104T202804Z
UID:10004966-1799955000-1799962200@icbetuel.com.br
SUMMARY:Culto do Encontro com Deus
DESCRIPTION:
URL:https://icbetuel.com.br/evento/culto-do-encontro-com-deus/2027-01-14/
LOCATION:Igreja Cristã Betuel\, Estrada de Jacarepaguá\, 7020 - Anil\, Rio de Janeiro\, Rio de Janeiro\, 22755145
ATTACH;FMTTYPE=image/jpeg:https://icbetuel.com.br/wp-content/uploads/2026/01/Copia-de-Copia-de-Culto-encontro-com-Deus-0207-1920-x-1080-px.jpg
END:VEVENT
BEGIN:VEVENT
DTSTART;TZID=America/Sao_Paulo:20270121T193000
DTEND;TZID=America/Sao_Paulo:20270121T213000
DTSTAMP:20260421T111457
CREATED:20260104T202804Z
LAST-MODIFIED:20260104T202804Z
UID:10004967-1800559800-1800567000@icbetuel.com.br
SUMMARY:Culto do Encontro com Deus
DESCRIPTION:
URL:https://icbetuel.com.br/evento/culto-do-encontro-com-deus/2027-01-21/
LOCATION:Igreja Cristã Betuel\, Estrada de Jacarepaguá\, 7020 - Anil\, Rio de Janeiro\, Rio de Janeiro\, 22755145
ATTACH;FMTTYPE=image/jpeg:https://icbetuel.com.br/wp-content/uploads/2026/01/Copia-de-Copia-de-Culto-encontro-com-Deus-0207-1920-x-1080-px.jpg
END:VEVENT
BEGIN:VEVENT
DTSTART;TZID=America/Sao_Paulo:20270128T193000
DTEND;TZID=America/Sao_Paulo:20270128T213000
DTSTAMP:20260421T111457
CREATED:20260104T202804Z
LAST-MODIFIED:20260104T202804Z
UID:10004968-1801164600-1801171800@icbetuel.com.br
SUMMARY:Culto do Encontro com Deus
DESCRIPTION:
URL:https://icbetuel.com.br/evento/culto-do-encontro-com-deus/2027-01-28/
LOCATION:Igreja Cristã Betuel\, Estrada de Jacarepaguá\, 7020 - Anil\, Rio de Janeiro\, Rio de Janeiro\, 22755145
ATTACH;FMTTYPE=image/jpeg:https://icbetuel.com.br/wp-content/uploads/2026/01/Copia-de-Copia-de-Culto-encontro-com-Deus-0207-1920-x-1080-px.jpg
END:VEVENT
BEGIN:VEVENT
DTSTART;TZID=America/Sao_Paulo:20270204T193000
DTEND;TZID=America/Sao_Paulo:20270204T213000
DTSTAMP:20260421T111457
CREATED:20260104T202804Z
LAST-MODIFIED:20260104T202804Z
UID:10004969-1801769400-1801776600@icbetuel.com.br
SUMMARY:Culto do Encontro com Deus
DESCRIPTION:
URL:https://icbetuel.com.br/evento/culto-do-encontro-com-deus/2027-02-04/
LOCATION:Igreja Cristã Betuel\, Estrada de Jacarepaguá\, 7020 - Anil\, Rio de Janeiro\, Rio de Janeiro\, 22755145
ATTACH;FMTTYPE=image/jpeg:https://icbetuel.com.br/wp-content/uploads/2026/01/Copia-de-Copia-de-Culto-encontro-com-Deus-0207-1920-x-1080-px.jpg
END:VEVENT
END:VCALENDAR