BEGIN:VCALENDAR
VERSION:2.0
PRODID:-//Betuel - ECPv6.6.0.2//NONSGML v1.0//EN
CALSCALE:GREGORIAN
METHOD:PUBLISH
X-ORIGINAL-URL:https://icbetuel.com.br
X-WR-CALDESC:Eventos para Betuel
REFRESH-INTERVAL;VALUE=DURATION:PT1H
X-Robots-Tag:noindex
X-PUBLISHED-TTL:PT1H
BEGIN:VTIMEZONE
TZID:America/Sao_Paulo
BEGIN:STANDARD
TZOFFSETFROM:-0300
TZOFFSETTO:-0300
TZNAME:-03
DTSTART:20290101T000000
END:STANDARD
END:VTIMEZONE
BEGIN:VEVENT
DTSTART;TZID=America/Sao_Paulo:20291125T100000
DTEND;TZID=America/Sao_Paulo:20291125T130000
DTSTAMP:20260423T162856
CREATED:20240810T152256Z
LAST-MODIFIED:20240810T152609Z
UID:10005185-1890295200-1890306000@icbetuel.com.br
SUMMARY:Culto da Família
DESCRIPTION:
URL:https://icbetuel.com.br/evento/culto-da-familia-2/2029-11-25/
LOCATION:Igreja Cristã Betuel\, Estrada de Jacarepaguá\, 7020 - Anil\, Rio de Janeiro\, Rio de Janeiro\, 22755145
ATTACH;FMTTYPE=image/jpeg:https://icbetuel.com.br/wp-content/uploads/2024/03/Culto-da-Familia.jpeg
END:VEVENT
BEGIN:VEVENT
DTSTART;TZID=America/Sao_Paulo:20291202T100000
DTEND;TZID=America/Sao_Paulo:20291202T130000
DTSTAMP:20260423T162856
CREATED:20240810T152256Z
LAST-MODIFIED:20240810T152609Z
UID:10005186-1890900000-1890910800@icbetuel.com.br
SUMMARY:Culto da Família
DESCRIPTION:
URL:https://icbetuel.com.br/evento/culto-da-familia-2/2029-12-02/
LOCATION:Igreja Cristã Betuel\, Estrada de Jacarepaguá\, 7020 - Anil\, Rio de Janeiro\, Rio de Janeiro\, 22755145
ATTACH;FMTTYPE=image/jpeg:https://icbetuel.com.br/wp-content/uploads/2024/03/Culto-da-Familia.jpeg
END:VEVENT
BEGIN:VEVENT
DTSTART;TZID=America/Sao_Paulo:20291216T100000
DTEND;TZID=America/Sao_Paulo:20291216T130000
DTSTAMP:20260423T162856
CREATED:20240810T152256Z
LAST-MODIFIED:20240810T152609Z
UID:10005187-1892109600-1892120400@icbetuel.com.br
SUMMARY:Culto da Família
DESCRIPTION:
URL:https://icbetuel.com.br/evento/culto-da-familia-2/2029-12-16/
LOCATION:Igreja Cristã Betuel\, Estrada de Jacarepaguá\, 7020 - Anil\, Rio de Janeiro\, Rio de Janeiro\, 22755145
ATTACH;FMTTYPE=image/jpeg:https://icbetuel.com.br/wp-content/uploads/2024/03/Culto-da-Familia.jpeg
END:VEVENT
BEGIN:VEVENT
DTSTART;TZID=America/Sao_Paulo:20291223T100000
DTEND;TZID=America/Sao_Paulo:20291223T130000
DTSTAMP:20260423T162856
CREATED:20240810T152256Z
LAST-MODIFIED:20240810T152609Z
UID:10005188-1892714400-1892725200@icbetuel.com.br
SUMMARY:Culto da Família
DESCRIPTION:
URL:https://icbetuel.com.br/evento/culto-da-familia-2/2029-12-23/
LOCATION:Igreja Cristã Betuel\, Estrada de Jacarepaguá\, 7020 - Anil\, Rio de Janeiro\, Rio de Janeiro\, 22755145
ATTACH;FMTTYPE=image/jpeg:https://icbetuel.com.br/wp-content/uploads/2024/03/Culto-da-Familia.jpeg
END:VEVENT
BEGIN:VEVENT
DTSTART;TZID=America/Sao_Paulo:20291230T100000
DTEND;TZID=America/Sao_Paulo:20291230T130000
DTSTAMP:20260423T162856
CREATED:20240810T152256Z
LAST-MODIFIED:20240810T152609Z
UID:10005189-1893319200-1893330000@icbetuel.com.br
SUMMARY:Culto da Família
DESCRIPTION:
URL:https://icbetuel.com.br/evento/culto-da-familia-2/2029-12-30/
LOCATION:Igreja Cristã Betuel\, Estrada de Jacarepaguá\, 7020 - Anil\, Rio de Janeiro\, Rio de Janeiro\, 22755145
ATTACH;FMTTYPE=image/jpeg:https://icbetuel.com.br/wp-content/uploads/2024/03/Culto-da-Familia.jpeg
END:VEVENT
BEGIN:VEVENT
DTSTART;TZID=America/Sao_Paulo:20300106T100000
DTEND;TZID=America/Sao_Paulo:20300106T130000
DTSTAMP:20260423T162856
CREATED:20240810T152256Z
LAST-MODIFIED:20240810T152609Z
UID:10005190-1893924000-1893934800@icbetuel.com.br
SUMMARY:Culto da Família
DESCRIPTION:
URL:https://icbetuel.com.br/evento/culto-da-familia-2/2030-01-06/
LOCATION:Igreja Cristã Betuel\, Estrada de Jacarepaguá\, 7020 - Anil\, Rio de Janeiro\, Rio de Janeiro\, 22755145
ATTACH;FMTTYPE=image/jpeg:https://icbetuel.com.br/wp-content/uploads/2024/03/Culto-da-Familia.jpeg
END:VEVENT
BEGIN:VEVENT
DTSTART;TZID=America/Sao_Paulo:20300120T100000
DTEND;TZID=America/Sao_Paulo:20300120T130000
DTSTAMP:20260423T162856
CREATED:20240810T152256Z
LAST-MODIFIED:20240810T152609Z
UID:10005191-1895133600-1895144400@icbetuel.com.br
SUMMARY:Culto da Família
DESCRIPTION:
URL:https://icbetuel.com.br/evento/culto-da-familia-2/2030-01-20/
LOCATION:Igreja Cristã Betuel\, Estrada de Jacarepaguá\, 7020 - Anil\, Rio de Janeiro\, Rio de Janeiro\, 22755145
ATTACH;FMTTYPE=image/jpeg:https://icbetuel.com.br/wp-content/uploads/2024/03/Culto-da-Familia.jpeg
END:VEVENT
BEGIN:VEVENT
DTSTART;TZID=America/Sao_Paulo:20300127T100000
DTEND;TZID=America/Sao_Paulo:20300127T130000
DTSTAMP:20260423T162856
CREATED:20240810T152256Z
LAST-MODIFIED:20240810T152609Z
UID:10005192-1895738400-1895749200@icbetuel.com.br
SUMMARY:Culto da Família
DESCRIPTION:
URL:https://icbetuel.com.br/evento/culto-da-familia-2/2030-01-27/
LOCATION:Igreja Cristã Betuel\, Estrada de Jacarepaguá\, 7020 - Anil\, Rio de Janeiro\, Rio de Janeiro\, 22755145
ATTACH;FMTTYPE=image/jpeg:https://icbetuel.com.br/wp-content/uploads/2024/03/Culto-da-Familia.jpeg
END:VEVENT
BEGIN:VEVENT
DTSTART;TZID=America/Sao_Paulo:20300203T100000
DTEND;TZID=America/Sao_Paulo:20300203T130000
DTSTAMP:20260423T162856
CREATED:20240810T152256Z
LAST-MODIFIED:20240810T152609Z
UID:10005193-1896343200-1896354000@icbetuel.com.br
SUMMARY:Culto da Família
DESCRIPTION:
URL:https://icbetuel.com.br/evento/culto-da-familia-2/2030-02-03/
LOCATION:Igreja Cristã Betuel\, Estrada de Jacarepaguá\, 7020 - Anil\, Rio de Janeiro\, Rio de Janeiro\, 22755145
ATTACH;FMTTYPE=image/jpeg:https://icbetuel.com.br/wp-content/uploads/2024/03/Culto-da-Familia.jpeg
END:VEVENT
BEGIN:VEVENT
DTSTART;TZID=America/Sao_Paulo:20300217T100000
DTEND;TZID=America/Sao_Paulo:20300217T130000
DTSTAMP:20260423T162856
CREATED:20240810T152256Z
LAST-MODIFIED:20240810T152609Z
UID:10005194-1897552800-1897563600@icbetuel.com.br
SUMMARY:Culto da Família
DESCRIPTION:
URL:https://icbetuel.com.br/evento/culto-da-familia-2/2030-02-17/
LOCATION:Igreja Cristã Betuel\, Estrada de Jacarepaguá\, 7020 - Anil\, Rio de Janeiro\, Rio de Janeiro\, 22755145
ATTACH;FMTTYPE=image/jpeg:https://icbetuel.com.br/wp-content/uploads/2024/03/Culto-da-Familia.jpeg
END:VEVENT
BEGIN:VEVENT
DTSTART;TZID=America/Sao_Paulo:20300224T100000
DTEND;TZID=America/Sao_Paulo:20300224T130000
DTSTAMP:20260423T162856
CREATED:20240810T152256Z
LAST-MODIFIED:20240810T152609Z
UID:10005195-1898157600-1898168400@icbetuel.com.br
SUMMARY:Culto da Família
DESCRIPTION:
URL:https://icbetuel.com.br/evento/culto-da-familia-2/2030-02-24/
LOCATION:Igreja Cristã Betuel\, Estrada de Jacarepaguá\, 7020 - Anil\, Rio de Janeiro\, Rio de Janeiro\, 22755145
ATTACH;FMTTYPE=image/jpeg:https://icbetuel.com.br/wp-content/uploads/2024/03/Culto-da-Familia.jpeg
END:VEVENT
BEGIN:VEVENT
DTSTART;TZID=America/Sao_Paulo:20300303T100000
DTEND;TZID=America/Sao_Paulo:20300303T130000
DTSTAMP:20260423T162856
CREATED:20240810T152256Z
LAST-MODIFIED:20240810T152609Z
UID:10005196-1898762400-1898773200@icbetuel.com.br
SUMMARY:Culto da Família
DESCRIPTION:
URL:https://icbetuel.com.br/evento/culto-da-familia-2/2030-03-03/
LOCATION:Igreja Cristã Betuel\, Estrada de Jacarepaguá\, 7020 - Anil\, Rio de Janeiro\, Rio de Janeiro\, 22755145
ATTACH;FMTTYPE=image/jpeg:https://icbetuel.com.br/wp-content/uploads/2024/03/Culto-da-Familia.jpeg
END:VEVENT
BEGIN:VEVENT
DTSTART;TZID=America/Sao_Paulo:20300317T100000
DTEND;TZID=America/Sao_Paulo:20300317T130000
DTSTAMP:20260423T162856
CREATED:20240810T152256Z
LAST-MODIFIED:20240810T152609Z
UID:10005197-1899972000-1899982800@icbetuel.com.br
SUMMARY:Culto da Família
DESCRIPTION:
URL:https://icbetuel.com.br/evento/culto-da-familia-2/2030-03-17/
LOCATION:Igreja Cristã Betuel\, Estrada de Jacarepaguá\, 7020 - Anil\, Rio de Janeiro\, Rio de Janeiro\, 22755145
ATTACH;FMTTYPE=image/jpeg:https://icbetuel.com.br/wp-content/uploads/2024/03/Culto-da-Familia.jpeg
END:VEVENT
BEGIN:VEVENT
DTSTART;TZID=America/Sao_Paulo:20300324T100000
DTEND;TZID=America/Sao_Paulo:20300324T130000
DTSTAMP:20260423T162856
CREATED:20240810T152256Z
LAST-MODIFIED:20240810T152609Z
UID:10005198-1900576800-1900587600@icbetuel.com.br
SUMMARY:Culto da Família
DESCRIPTION:
URL:https://icbetuel.com.br/evento/culto-da-familia-2/2030-03-24/
LOCATION:Igreja Cristã Betuel\, Estrada de Jacarepaguá\, 7020 - Anil\, Rio de Janeiro\, Rio de Janeiro\, 22755145
ATTACH;FMTTYPE=image/jpeg:https://icbetuel.com.br/wp-content/uploads/2024/03/Culto-da-Familia.jpeg
END:VEVENT
BEGIN:VEVENT
DTSTART;TZID=America/Sao_Paulo:20300331T100000
DTEND;TZID=America/Sao_Paulo:20300331T130000
DTSTAMP:20260423T162856
CREATED:20240810T152256Z
LAST-MODIFIED:20240810T152609Z
UID:10005199-1901181600-1901192400@icbetuel.com.br
SUMMARY:Culto da Família
DESCRIPTION:
URL:https://icbetuel.com.br/evento/culto-da-familia-2/2030-03-31/
LOCATION:Igreja Cristã Betuel\, Estrada de Jacarepaguá\, 7020 - Anil\, Rio de Janeiro\, Rio de Janeiro\, 22755145
ATTACH;FMTTYPE=image/jpeg:https://icbetuel.com.br/wp-content/uploads/2024/03/Culto-da-Familia.jpeg
END:VEVENT
BEGIN:VEVENT
DTSTART;TZID=America/Sao_Paulo:20300407T100000
DTEND;TZID=America/Sao_Paulo:20300407T130000
DTSTAMP:20260423T162856
CREATED:20240810T152256Z
LAST-MODIFIED:20240810T152609Z
UID:10005200-1901786400-1901797200@icbetuel.com.br
SUMMARY:Culto da Família
DESCRIPTION:
URL:https://icbetuel.com.br/evento/culto-da-familia-2/2030-04-07/
LOCATION:Igreja Cristã Betuel\, Estrada de Jacarepaguá\, 7020 - Anil\, Rio de Janeiro\, Rio de Janeiro\, 22755145
ATTACH;FMTTYPE=image/jpeg:https://icbetuel.com.br/wp-content/uploads/2024/03/Culto-da-Familia.jpeg
END:VEVENT
BEGIN:VEVENT
DTSTART;TZID=America/Sao_Paulo:20300421T100000
DTEND;TZID=America/Sao_Paulo:20300421T130000
DTSTAMP:20260423T162856
CREATED:20240810T152256Z
LAST-MODIFIED:20240810T152609Z
UID:10005201-1902996000-1903006800@icbetuel.com.br
SUMMARY:Culto da Família
DESCRIPTION:
URL:https://icbetuel.com.br/evento/culto-da-familia-2/2030-04-21/
LOCATION:Igreja Cristã Betuel\, Estrada de Jacarepaguá\, 7020 - Anil\, Rio de Janeiro\, Rio de Janeiro\, 22755145
ATTACH;FMTTYPE=image/jpeg:https://icbetuel.com.br/wp-content/uploads/2024/03/Culto-da-Familia.jpeg
END:VEVENT
BEGIN:VEVENT
DTSTART;TZID=America/Sao_Paulo:20300428T100000
DTEND;TZID=America/Sao_Paulo:20300428T130000
DTSTAMP:20260423T162856
CREATED:20240810T152256Z
LAST-MODIFIED:20240810T152609Z
UID:10005202-1903600800-1903611600@icbetuel.com.br
SUMMARY:Culto da Família
DESCRIPTION:
URL:https://icbetuel.com.br/evento/culto-da-familia-2/2030-04-28/
LOCATION:Igreja Cristã Betuel\, Estrada de Jacarepaguá\, 7020 - Anil\, Rio de Janeiro\, Rio de Janeiro\, 22755145
ATTACH;FMTTYPE=image/jpeg:https://icbetuel.com.br/wp-content/uploads/2024/03/Culto-da-Familia.jpeg
END:VEVENT
BEGIN:VEVENT
DTSTART;TZID=America/Sao_Paulo:20300505T100000
DTEND;TZID=America/Sao_Paulo:20300505T130000
DTSTAMP:20260423T162856
CREATED:20240810T152256Z
LAST-MODIFIED:20240810T152609Z
UID:10005203-1904205600-1904216400@icbetuel.com.br
SUMMARY:Culto da Família
DESCRIPTION:
URL:https://icbetuel.com.br/evento/culto-da-familia-2/2030-05-05/
LOCATION:Igreja Cristã Betuel\, Estrada de Jacarepaguá\, 7020 - Anil\, Rio de Janeiro\, Rio de Janeiro\, 22755145
ATTACH;FMTTYPE=image/jpeg:https://icbetuel.com.br/wp-content/uploads/2024/03/Culto-da-Familia.jpeg
END:VEVENT
BEGIN:VEVENT
DTSTART;TZID=America/Sao_Paulo:20300519T100000
DTEND;TZID=America/Sao_Paulo:20300519T130000
DTSTAMP:20260423T162856
CREATED:20240810T152256Z
LAST-MODIFIED:20240810T152609Z
UID:10005204-1905415200-1905426000@icbetuel.com.br
SUMMARY:Culto da Família
DESCRIPTION:
URL:https://icbetuel.com.br/evento/culto-da-familia-2/2030-05-19/
LOCATION:Igreja Cristã Betuel\, Estrada de Jacarepaguá\, 7020 - Anil\, Rio de Janeiro\, Rio de Janeiro\, 22755145
ATTACH;FMTTYPE=image/jpeg:https://icbetuel.com.br/wp-content/uploads/2024/03/Culto-da-Familia.jpeg
END:VEVENT
BEGIN:VEVENT
DTSTART;TZID=America/Sao_Paulo:20300526T100000
DTEND;TZID=America/Sao_Paulo:20300526T130000
DTSTAMP:20260423T162856
CREATED:20240810T152256Z
LAST-MODIFIED:20240810T152609Z
UID:10005205-1906020000-1906030800@icbetuel.com.br
SUMMARY:Culto da Família
DESCRIPTION:
URL:https://icbetuel.com.br/evento/culto-da-familia-2/2030-05-26/
LOCATION:Igreja Cristã Betuel\, Estrada de Jacarepaguá\, 7020 - Anil\, Rio de Janeiro\, Rio de Janeiro\, 22755145
ATTACH;FMTTYPE=image/jpeg:https://icbetuel.com.br/wp-content/uploads/2024/03/Culto-da-Familia.jpeg
END:VEVENT
BEGIN:VEVENT
DTSTART;TZID=America/Sao_Paulo:20300602T100000
DTEND;TZID=America/Sao_Paulo:20300602T130000
DTSTAMP:20260423T162856
CREATED:20240810T152256Z
LAST-MODIFIED:20240810T152609Z
UID:10005206-1906624800-1906635600@icbetuel.com.br
SUMMARY:Culto da Família
DESCRIPTION:
URL:https://icbetuel.com.br/evento/culto-da-familia-2/2030-06-02/
LOCATION:Igreja Cristã Betuel\, Estrada de Jacarepaguá\, 7020 - Anil\, Rio de Janeiro\, Rio de Janeiro\, 22755145
ATTACH;FMTTYPE=image/jpeg:https://icbetuel.com.br/wp-content/uploads/2024/03/Culto-da-Familia.jpeg
END:VEVENT
BEGIN:VEVENT
DTSTART;TZID=America/Sao_Paulo:20300616T100000
DTEND;TZID=America/Sao_Paulo:20300616T130000
DTSTAMP:20260423T162856
CREATED:20240810T152256Z
LAST-MODIFIED:20240810T152609Z
UID:10005207-1907834400-1907845200@icbetuel.com.br
SUMMARY:Culto da Família
DESCRIPTION:
URL:https://icbetuel.com.br/evento/culto-da-familia-2/2030-06-16/
LOCATION:Igreja Cristã Betuel\, Estrada de Jacarepaguá\, 7020 - Anil\, Rio de Janeiro\, Rio de Janeiro\, 22755145
ATTACH;FMTTYPE=image/jpeg:https://icbetuel.com.br/wp-content/uploads/2024/03/Culto-da-Familia.jpeg
END:VEVENT
BEGIN:VEVENT
DTSTART;TZID=America/Sao_Paulo:20300623T100000
DTEND;TZID=America/Sao_Paulo:20300623T130000
DTSTAMP:20260423T162856
CREATED:20240810T152256Z
LAST-MODIFIED:20240810T152609Z
UID:10005208-1908439200-1908450000@icbetuel.com.br
SUMMARY:Culto da Família
DESCRIPTION:
URL:https://icbetuel.com.br/evento/culto-da-familia-2/2030-06-23/
LOCATION:Igreja Cristã Betuel\, Estrada de Jacarepaguá\, 7020 - Anil\, Rio de Janeiro\, Rio de Janeiro\, 22755145
ATTACH;FMTTYPE=image/jpeg:https://icbetuel.com.br/wp-content/uploads/2024/03/Culto-da-Familia.jpeg
END:VEVENT
BEGIN:VEVENT
DTSTART;TZID=America/Sao_Paulo:20300630T100000
DTEND;TZID=America/Sao_Paulo:20300630T130000
DTSTAMP:20260423T162856
CREATED:20240810T152256Z
LAST-MODIFIED:20240810T152609Z
UID:10005209-1909044000-1909054800@icbetuel.com.br
SUMMARY:Culto da Família
DESCRIPTION:
URL:https://icbetuel.com.br/evento/culto-da-familia-2/2030-06-30/
LOCATION:Igreja Cristã Betuel\, Estrada de Jacarepaguá\, 7020 - Anil\, Rio de Janeiro\, Rio de Janeiro\, 22755145
ATTACH;FMTTYPE=image/jpeg:https://icbetuel.com.br/wp-content/uploads/2024/03/Culto-da-Familia.jpeg
END:VEVENT
BEGIN:VEVENT
DTSTART;TZID=America/Sao_Paulo:20300707T100000
DTEND;TZID=America/Sao_Paulo:20300707T130000
DTSTAMP:20260423T162856
CREATED:20240810T152256Z
LAST-MODIFIED:20240810T152609Z
UID:10005210-1909648800-1909659600@icbetuel.com.br
SUMMARY:Culto da Família
DESCRIPTION:
URL:https://icbetuel.com.br/evento/culto-da-familia-2/2030-07-07/
LOCATION:Igreja Cristã Betuel\, Estrada de Jacarepaguá\, 7020 - Anil\, Rio de Janeiro\, Rio de Janeiro\, 22755145
ATTACH;FMTTYPE=image/jpeg:https://icbetuel.com.br/wp-content/uploads/2024/03/Culto-da-Familia.jpeg
END:VEVENT
BEGIN:VEVENT
DTSTART;TZID=America/Sao_Paulo:20300721T100000
DTEND;TZID=America/Sao_Paulo:20300721T130000
DTSTAMP:20260423T162856
CREATED:20240810T152256Z
LAST-MODIFIED:20240810T152609Z
UID:10005211-1910858400-1910869200@icbetuel.com.br
SUMMARY:Culto da Família
DESCRIPTION:
URL:https://icbetuel.com.br/evento/culto-da-familia-2/2030-07-21/
LOCATION:Igreja Cristã Betuel\, Estrada de Jacarepaguá\, 7020 - Anil\, Rio de Janeiro\, Rio de Janeiro\, 22755145
ATTACH;FMTTYPE=image/jpeg:https://icbetuel.com.br/wp-content/uploads/2024/03/Culto-da-Familia.jpeg
END:VEVENT
BEGIN:VEVENT
DTSTART;TZID=America/Sao_Paulo:20300728T100000
DTEND;TZID=America/Sao_Paulo:20300728T130000
DTSTAMP:20260423T162856
CREATED:20240810T152256Z
LAST-MODIFIED:20240810T152609Z
UID:10005212-1911463200-1911474000@icbetuel.com.br
SUMMARY:Culto da Família
DESCRIPTION:
URL:https://icbetuel.com.br/evento/culto-da-familia-2/2030-07-28/
LOCATION:Igreja Cristã Betuel\, Estrada de Jacarepaguá\, 7020 - Anil\, Rio de Janeiro\, Rio de Janeiro\, 22755145
ATTACH;FMTTYPE=image/jpeg:https://icbetuel.com.br/wp-content/uploads/2024/03/Culto-da-Familia.jpeg
END:VEVENT
BEGIN:VEVENT
DTSTART;TZID=America/Sao_Paulo:20300804T100000
DTEND;TZID=America/Sao_Paulo:20300804T130000
DTSTAMP:20260423T162856
CREATED:20240810T152256Z
LAST-MODIFIED:20240810T152609Z
UID:10005213-1912068000-1912078800@icbetuel.com.br
SUMMARY:Culto da Família
DESCRIPTION:
URL:https://icbetuel.com.br/evento/culto-da-familia-2/2030-08-04/
LOCATION:Igreja Cristã Betuel\, Estrada de Jacarepaguá\, 7020 - Anil\, Rio de Janeiro\, Rio de Janeiro\, 22755145
ATTACH;FMTTYPE=image/jpeg:https://icbetuel.com.br/wp-content/uploads/2024/03/Culto-da-Familia.jpeg
END:VEVENT
BEGIN:VEVENT
DTSTART;TZID=America/Sao_Paulo:20300818T100000
DTEND;TZID=America/Sao_Paulo:20300818T130000
DTSTAMP:20260423T162856
CREATED:20240810T152256Z
LAST-MODIFIED:20240810T152609Z
UID:10005214-1913277600-1913288400@icbetuel.com.br
SUMMARY:Culto da Família
DESCRIPTION:
URL:https://icbetuel.com.br/evento/culto-da-familia-2/2030-08-18/
LOCATION:Igreja Cristã Betuel\, Estrada de Jacarepaguá\, 7020 - Anil\, Rio de Janeiro\, Rio de Janeiro\, 22755145
ATTACH;FMTTYPE=image/jpeg:https://icbetuel.com.br/wp-content/uploads/2024/03/Culto-da-Familia.jpeg
END:VEVENT
END:VCALENDAR