BEGIN:VCALENDAR
VERSION:2.0
PRODID:-//Betuel - ECPv6.6.0.2//NONSGML v1.0//EN
CALSCALE:GREGORIAN
METHOD:PUBLISH
X-WR-CALNAME:Betuel
X-ORIGINAL-URL:https://icbetuel.com.br
X-WR-CALDESC:Eventos para Betuel
REFRESH-INTERVAL;VALUE=DURATION:PT1H
X-Robots-Tag:noindex
X-PUBLISHED-TTL:PT1H
BEGIN:VTIMEZONE
TZID:America/Sao_Paulo
BEGIN:STANDARD
TZOFFSETFROM:-0300
TZOFFSETTO:-0300
TZNAME:-03
DTSTART:20260101T000000
END:STANDARD
END:VTIMEZONE
BEGIN:VEVENT
DTSTART;TZID=America/Sao_Paulo:20260510T100000
DTEND;TZID=America/Sao_Paulo:20260510T120000
DTSTAMP:20260424T130118
CREATED:20240418T143212Z
LAST-MODIFIED:20240810T152751Z
UID:10003384-1778407200-1778414400@icbetuel.com.br
SUMMARY:Santa Ceia - Manhã
DESCRIPTION:
URL:https://icbetuel.com.br/evento/santa-ceia/2026-05-10/
LOCATION:Igreja Cristã Betuel\, Estrada de Jacarepaguá\, 7020 - Anil\, Rio de Janeiro\, Rio de Janeiro\, 22755145
ATTACH;FMTTYPE=image/jpeg:https://icbetuel.com.br/wp-content/uploads/2024/04/Culto-de-Santa-Ceia.jpg
END:VEVENT
BEGIN:VEVENT
DTSTART;TZID=America/Sao_Paulo:20260510T180000
DTEND;TZID=America/Sao_Paulo:20260510T200000
DTSTAMP:20260424T130118
CREATED:20240810T152855Z
LAST-MODIFIED:20240810T154358Z
UID:10003505-1778436000-1778443200@icbetuel.com.br
SUMMARY:Santa Ceia - Noite
DESCRIPTION:
URL:https://icbetuel.com.br/evento/santa-ceia-noite/2026-05-10/
LOCATION:Igreja Cristã Betuel\, Estrada de Jacarepaguá\, 7020 - Anil\, Rio de Janeiro\, Rio de Janeiro\, 22755145
ATTACH;FMTTYPE=image/png:https://icbetuel.com.br/wp-content/uploads/2024/08/Culto-de-santa-ceia-arte-fixa.png
END:VEVENT
BEGIN:VEVENT
DTSTART;TZID=America/Sao_Paulo:20260614T100000
DTEND;TZID=America/Sao_Paulo:20260614T120000
DTSTAMP:20260424T130118
CREATED:20240418T143212Z
LAST-MODIFIED:20240810T152751Z
UID:10003385-1781431200-1781438400@icbetuel.com.br
SUMMARY:Santa Ceia - Manhã
DESCRIPTION:
URL:https://icbetuel.com.br/evento/santa-ceia/2026-06-14/
LOCATION:Igreja Cristã Betuel\, Estrada de Jacarepaguá\, 7020 - Anil\, Rio de Janeiro\, Rio de Janeiro\, 22755145
ATTACH;FMTTYPE=image/jpeg:https://icbetuel.com.br/wp-content/uploads/2024/04/Culto-de-Santa-Ceia.jpg
END:VEVENT
BEGIN:VEVENT
DTSTART;TZID=America/Sao_Paulo:20260614T180000
DTEND;TZID=America/Sao_Paulo:20260614T200000
DTSTAMP:20260424T130118
CREATED:20240810T152855Z
LAST-MODIFIED:20240810T154358Z
UID:10003506-1781460000-1781467200@icbetuel.com.br
SUMMARY:Santa Ceia - Noite
DESCRIPTION:
URL:https://icbetuel.com.br/evento/santa-ceia-noite/2026-06-14/
LOCATION:Igreja Cristã Betuel\, Estrada de Jacarepaguá\, 7020 - Anil\, Rio de Janeiro\, Rio de Janeiro\, 22755145
ATTACH;FMTTYPE=image/png:https://icbetuel.com.br/wp-content/uploads/2024/08/Culto-de-santa-ceia-arte-fixa.png
END:VEVENT
BEGIN:VEVENT
DTSTART;TZID=America/Sao_Paulo:20260712T100000
DTEND;TZID=America/Sao_Paulo:20260712T120000
DTSTAMP:20260424T130118
CREATED:20240418T143212Z
LAST-MODIFIED:20240810T152751Z
UID:10003386-1783850400-1783857600@icbetuel.com.br
SUMMARY:Santa Ceia - Manhã
DESCRIPTION:
URL:https://icbetuel.com.br/evento/santa-ceia/2026-07-12/
LOCATION:Igreja Cristã Betuel\, Estrada de Jacarepaguá\, 7020 - Anil\, Rio de Janeiro\, Rio de Janeiro\, 22755145
ATTACH;FMTTYPE=image/jpeg:https://icbetuel.com.br/wp-content/uploads/2024/04/Culto-de-Santa-Ceia.jpg
END:VEVENT
BEGIN:VEVENT
DTSTART;TZID=America/Sao_Paulo:20260712T180000
DTEND;TZID=America/Sao_Paulo:20260712T200000
DTSTAMP:20260424T130118
CREATED:20240810T152855Z
LAST-MODIFIED:20240810T154358Z
UID:10003507-1783879200-1783886400@icbetuel.com.br
SUMMARY:Santa Ceia - Noite
DESCRIPTION:
URL:https://icbetuel.com.br/evento/santa-ceia-noite/2026-07-12/
LOCATION:Igreja Cristã Betuel\, Estrada de Jacarepaguá\, 7020 - Anil\, Rio de Janeiro\, Rio de Janeiro\, 22755145
ATTACH;FMTTYPE=image/png:https://icbetuel.com.br/wp-content/uploads/2024/08/Culto-de-santa-ceia-arte-fixa.png
END:VEVENT
BEGIN:VEVENT
DTSTART;TZID=America/Sao_Paulo:20260809T100000
DTEND;TZID=America/Sao_Paulo:20260809T120000
DTSTAMP:20260424T130118
CREATED:20240418T143212Z
LAST-MODIFIED:20240810T152751Z
UID:10003387-1786269600-1786276800@icbetuel.com.br
SUMMARY:Santa Ceia - Manhã
DESCRIPTION:
URL:https://icbetuel.com.br/evento/santa-ceia/2026-08-09/
LOCATION:Igreja Cristã Betuel\, Estrada de Jacarepaguá\, 7020 - Anil\, Rio de Janeiro\, Rio de Janeiro\, 22755145
ATTACH;FMTTYPE=image/jpeg:https://icbetuel.com.br/wp-content/uploads/2024/04/Culto-de-Santa-Ceia.jpg
END:VEVENT
BEGIN:VEVENT
DTSTART;TZID=America/Sao_Paulo:20260809T180000
DTEND;TZID=America/Sao_Paulo:20260809T200000
DTSTAMP:20260424T130118
CREATED:20240810T152855Z
LAST-MODIFIED:20240810T154358Z
UID:10003508-1786298400-1786305600@icbetuel.com.br
SUMMARY:Santa Ceia - Noite
DESCRIPTION:
URL:https://icbetuel.com.br/evento/santa-ceia-noite/2026-08-09/
LOCATION:Igreja Cristã Betuel\, Estrada de Jacarepaguá\, 7020 - Anil\, Rio de Janeiro\, Rio de Janeiro\, 22755145
ATTACH;FMTTYPE=image/png:https://icbetuel.com.br/wp-content/uploads/2024/08/Culto-de-santa-ceia-arte-fixa.png
END:VEVENT
BEGIN:VEVENT
DTSTART;TZID=America/Sao_Paulo:20260913T100000
DTEND;TZID=America/Sao_Paulo:20260913T120000
DTSTAMP:20260424T130118
CREATED:20240418T143212Z
LAST-MODIFIED:20240810T152751Z
UID:10003388-1789293600-1789300800@icbetuel.com.br
SUMMARY:Santa Ceia - Manhã
DESCRIPTION:
URL:https://icbetuel.com.br/evento/santa-ceia/2026-09-13/
LOCATION:Igreja Cristã Betuel\, Estrada de Jacarepaguá\, 7020 - Anil\, Rio de Janeiro\, Rio de Janeiro\, 22755145
ATTACH;FMTTYPE=image/jpeg:https://icbetuel.com.br/wp-content/uploads/2024/04/Culto-de-Santa-Ceia.jpg
END:VEVENT
BEGIN:VEVENT
DTSTART;TZID=America/Sao_Paulo:20260913T180000
DTEND;TZID=America/Sao_Paulo:20260913T200000
DTSTAMP:20260424T130118
CREATED:20240810T152855Z
LAST-MODIFIED:20240810T154358Z
UID:10003509-1789322400-1789329600@icbetuel.com.br
SUMMARY:Santa Ceia - Noite
DESCRIPTION:
URL:https://icbetuel.com.br/evento/santa-ceia-noite/2026-09-13/
LOCATION:Igreja Cristã Betuel\, Estrada de Jacarepaguá\, 7020 - Anil\, Rio de Janeiro\, Rio de Janeiro\, 22755145
ATTACH;FMTTYPE=image/png:https://icbetuel.com.br/wp-content/uploads/2024/08/Culto-de-santa-ceia-arte-fixa.png
END:VEVENT
BEGIN:VEVENT
DTSTART;TZID=America/Sao_Paulo:20261011T100000
DTEND;TZID=America/Sao_Paulo:20261011T120000
DTSTAMP:20260424T130118
CREATED:20240418T143212Z
LAST-MODIFIED:20240810T152751Z
UID:10003389-1791712800-1791720000@icbetuel.com.br
SUMMARY:Santa Ceia - Manhã
DESCRIPTION:
URL:https://icbetuel.com.br/evento/santa-ceia/2026-10-11/
LOCATION:Igreja Cristã Betuel\, Estrada de Jacarepaguá\, 7020 - Anil\, Rio de Janeiro\, Rio de Janeiro\, 22755145
ATTACH;FMTTYPE=image/jpeg:https://icbetuel.com.br/wp-content/uploads/2024/04/Culto-de-Santa-Ceia.jpg
END:VEVENT
BEGIN:VEVENT
DTSTART;TZID=America/Sao_Paulo:20261011T180000
DTEND;TZID=America/Sao_Paulo:20261011T200000
DTSTAMP:20260424T130118
CREATED:20240810T152855Z
LAST-MODIFIED:20240810T154358Z
UID:10003510-1791741600-1791748800@icbetuel.com.br
SUMMARY:Santa Ceia - Noite
DESCRIPTION:
URL:https://icbetuel.com.br/evento/santa-ceia-noite/2026-10-11/
LOCATION:Igreja Cristã Betuel\, Estrada de Jacarepaguá\, 7020 - Anil\, Rio de Janeiro\, Rio de Janeiro\, 22755145
ATTACH;FMTTYPE=image/png:https://icbetuel.com.br/wp-content/uploads/2024/08/Culto-de-santa-ceia-arte-fixa.png
END:VEVENT
BEGIN:VEVENT
DTSTART;TZID=America/Sao_Paulo:20261108T100000
DTEND;TZID=America/Sao_Paulo:20261108T120000
DTSTAMP:20260424T130118
CREATED:20240418T143212Z
LAST-MODIFIED:20240810T152751Z
UID:10003390-1794132000-1794139200@icbetuel.com.br
SUMMARY:Santa Ceia - Manhã
DESCRIPTION:
URL:https://icbetuel.com.br/evento/santa-ceia/2026-11-08/
LOCATION:Igreja Cristã Betuel\, Estrada de Jacarepaguá\, 7020 - Anil\, Rio de Janeiro\, Rio de Janeiro\, 22755145
ATTACH;FMTTYPE=image/jpeg:https://icbetuel.com.br/wp-content/uploads/2024/04/Culto-de-Santa-Ceia.jpg
END:VEVENT
BEGIN:VEVENT
DTSTART;TZID=America/Sao_Paulo:20261108T180000
DTEND;TZID=America/Sao_Paulo:20261108T200000
DTSTAMP:20260424T130118
CREATED:20240810T152855Z
LAST-MODIFIED:20240810T154358Z
UID:10003511-1794160800-1794168000@icbetuel.com.br
SUMMARY:Santa Ceia - Noite
DESCRIPTION:
URL:https://icbetuel.com.br/evento/santa-ceia-noite/2026-11-08/
LOCATION:Igreja Cristã Betuel\, Estrada de Jacarepaguá\, 7020 - Anil\, Rio de Janeiro\, Rio de Janeiro\, 22755145
ATTACH;FMTTYPE=image/png:https://icbetuel.com.br/wp-content/uploads/2024/08/Culto-de-santa-ceia-arte-fixa.png
END:VEVENT
BEGIN:VEVENT
DTSTART;TZID=America/Sao_Paulo:20261213T100000
DTEND;TZID=America/Sao_Paulo:20261213T120000
DTSTAMP:20260424T130118
CREATED:20240418T143212Z
LAST-MODIFIED:20240810T152751Z
UID:10003391-1797156000-1797163200@icbetuel.com.br
SUMMARY:Santa Ceia - Manhã
DESCRIPTION:
URL:https://icbetuel.com.br/evento/santa-ceia/2026-12-13/
LOCATION:Igreja Cristã Betuel\, Estrada de Jacarepaguá\, 7020 - Anil\, Rio de Janeiro\, Rio de Janeiro\, 22755145
ATTACH;FMTTYPE=image/jpeg:https://icbetuel.com.br/wp-content/uploads/2024/04/Culto-de-Santa-Ceia.jpg
END:VEVENT
BEGIN:VEVENT
DTSTART;TZID=America/Sao_Paulo:20261213T180000
DTEND;TZID=America/Sao_Paulo:20261213T200000
DTSTAMP:20260424T130118
CREATED:20240810T152855Z
LAST-MODIFIED:20240810T154358Z
UID:10003512-1797184800-1797192000@icbetuel.com.br
SUMMARY:Santa Ceia - Noite
DESCRIPTION:
URL:https://icbetuel.com.br/evento/santa-ceia-noite/2026-12-13/
LOCATION:Igreja Cristã Betuel\, Estrada de Jacarepaguá\, 7020 - Anil\, Rio de Janeiro\, Rio de Janeiro\, 22755145
ATTACH;FMTTYPE=image/png:https://icbetuel.com.br/wp-content/uploads/2024/08/Culto-de-santa-ceia-arte-fixa.png
END:VEVENT
BEGIN:VEVENT
DTSTART;TZID=America/Sao_Paulo:20270110T100000
DTEND;TZID=America/Sao_Paulo:20270110T120000
DTSTAMP:20260424T130118
CREATED:20240418T143212Z
LAST-MODIFIED:20240810T152751Z
UID:10003392-1799575200-1799582400@icbetuel.com.br
SUMMARY:Santa Ceia - Manhã
DESCRIPTION:
URL:https://icbetuel.com.br/evento/santa-ceia/2027-01-10/
LOCATION:Igreja Cristã Betuel\, Estrada de Jacarepaguá\, 7020 - Anil\, Rio de Janeiro\, Rio de Janeiro\, 22755145
ATTACH;FMTTYPE=image/jpeg:https://icbetuel.com.br/wp-content/uploads/2024/04/Culto-de-Santa-Ceia.jpg
END:VEVENT
BEGIN:VEVENT
DTSTART;TZID=America/Sao_Paulo:20270110T180000
DTEND;TZID=America/Sao_Paulo:20270110T200000
DTSTAMP:20260424T130118
CREATED:20240810T152855Z
LAST-MODIFIED:20240810T154358Z
UID:10003513-1799604000-1799611200@icbetuel.com.br
SUMMARY:Santa Ceia - Noite
DESCRIPTION:
URL:https://icbetuel.com.br/evento/santa-ceia-noite/2027-01-10/
LOCATION:Igreja Cristã Betuel\, Estrada de Jacarepaguá\, 7020 - Anil\, Rio de Janeiro\, Rio de Janeiro\, 22755145
ATTACH;FMTTYPE=image/png:https://icbetuel.com.br/wp-content/uploads/2024/08/Culto-de-santa-ceia-arte-fixa.png
END:VEVENT
BEGIN:VEVENT
DTSTART;TZID=America/Sao_Paulo:20270214T100000
DTEND;TZID=America/Sao_Paulo:20270214T120000
DTSTAMP:20260424T130118
CREATED:20240418T143212Z
LAST-MODIFIED:20240810T152751Z
UID:10003393-1802599200-1802606400@icbetuel.com.br
SUMMARY:Santa Ceia - Manhã
DESCRIPTION:
URL:https://icbetuel.com.br/evento/santa-ceia/2027-02-14/
LOCATION:Igreja Cristã Betuel\, Estrada de Jacarepaguá\, 7020 - Anil\, Rio de Janeiro\, Rio de Janeiro\, 22755145
ATTACH;FMTTYPE=image/jpeg:https://icbetuel.com.br/wp-content/uploads/2024/04/Culto-de-Santa-Ceia.jpg
END:VEVENT
BEGIN:VEVENT
DTSTART;TZID=America/Sao_Paulo:20270214T180000
DTEND;TZID=America/Sao_Paulo:20270214T200000
DTSTAMP:20260424T130118
CREATED:20240810T152855Z
LAST-MODIFIED:20240810T154358Z
UID:10003514-1802628000-1802635200@icbetuel.com.br
SUMMARY:Santa Ceia - Noite
DESCRIPTION:
URL:https://icbetuel.com.br/evento/santa-ceia-noite/2027-02-14/
LOCATION:Igreja Cristã Betuel\, Estrada de Jacarepaguá\, 7020 - Anil\, Rio de Janeiro\, Rio de Janeiro\, 22755145
ATTACH;FMTTYPE=image/png:https://icbetuel.com.br/wp-content/uploads/2024/08/Culto-de-santa-ceia-arte-fixa.png
END:VEVENT
BEGIN:VEVENT
DTSTART;TZID=America/Sao_Paulo:20270314T100000
DTEND;TZID=America/Sao_Paulo:20270314T120000
DTSTAMP:20260424T130118
CREATED:20240418T143212Z
LAST-MODIFIED:20240810T152751Z
UID:10003394-1805018400-1805025600@icbetuel.com.br
SUMMARY:Santa Ceia - Manhã
DESCRIPTION:
URL:https://icbetuel.com.br/evento/santa-ceia/2027-03-14/
LOCATION:Igreja Cristã Betuel\, Estrada de Jacarepaguá\, 7020 - Anil\, Rio de Janeiro\, Rio de Janeiro\, 22755145
ATTACH;FMTTYPE=image/jpeg:https://icbetuel.com.br/wp-content/uploads/2024/04/Culto-de-Santa-Ceia.jpg
END:VEVENT
BEGIN:VEVENT
DTSTART;TZID=America/Sao_Paulo:20270314T180000
DTEND;TZID=America/Sao_Paulo:20270314T200000
DTSTAMP:20260424T130118
CREATED:20240810T152855Z
LAST-MODIFIED:20240810T154358Z
UID:10003515-1805047200-1805054400@icbetuel.com.br
SUMMARY:Santa Ceia - Noite
DESCRIPTION:
URL:https://icbetuel.com.br/evento/santa-ceia-noite/2027-03-14/
LOCATION:Igreja Cristã Betuel\, Estrada de Jacarepaguá\, 7020 - Anil\, Rio de Janeiro\, Rio de Janeiro\, 22755145
ATTACH;FMTTYPE=image/png:https://icbetuel.com.br/wp-content/uploads/2024/08/Culto-de-santa-ceia-arte-fixa.png
END:VEVENT
BEGIN:VEVENT
DTSTART;TZID=America/Sao_Paulo:20270411T100000
DTEND;TZID=America/Sao_Paulo:20270411T120000
DTSTAMP:20260424T130118
CREATED:20240418T143212Z
LAST-MODIFIED:20240810T152751Z
UID:10003395-1807437600-1807444800@icbetuel.com.br
SUMMARY:Santa Ceia - Manhã
DESCRIPTION:
URL:https://icbetuel.com.br/evento/santa-ceia/2027-04-11/
LOCATION:Igreja Cristã Betuel\, Estrada de Jacarepaguá\, 7020 - Anil\, Rio de Janeiro\, Rio de Janeiro\, 22755145
ATTACH;FMTTYPE=image/jpeg:https://icbetuel.com.br/wp-content/uploads/2024/04/Culto-de-Santa-Ceia.jpg
END:VEVENT
BEGIN:VEVENT
DTSTART;TZID=America/Sao_Paulo:20270411T180000
DTEND;TZID=America/Sao_Paulo:20270411T200000
DTSTAMP:20260424T130118
CREATED:20240810T152855Z
LAST-MODIFIED:20240810T154358Z
UID:10003516-1807466400-1807473600@icbetuel.com.br
SUMMARY:Santa Ceia - Noite
DESCRIPTION:
URL:https://icbetuel.com.br/evento/santa-ceia-noite/2027-04-11/
LOCATION:Igreja Cristã Betuel\, Estrada de Jacarepaguá\, 7020 - Anil\, Rio de Janeiro\, Rio de Janeiro\, 22755145
ATTACH;FMTTYPE=image/png:https://icbetuel.com.br/wp-content/uploads/2024/08/Culto-de-santa-ceia-arte-fixa.png
END:VEVENT
BEGIN:VEVENT
DTSTART;TZID=America/Sao_Paulo:20270509T100000
DTEND;TZID=America/Sao_Paulo:20270509T120000
DTSTAMP:20260424T130118
CREATED:20240418T143212Z
LAST-MODIFIED:20240810T152751Z
UID:10003396-1809856800-1809864000@icbetuel.com.br
SUMMARY:Santa Ceia - Manhã
DESCRIPTION:
URL:https://icbetuel.com.br/evento/santa-ceia/2027-05-09/
LOCATION:Igreja Cristã Betuel\, Estrada de Jacarepaguá\, 7020 - Anil\, Rio de Janeiro\, Rio de Janeiro\, 22755145
ATTACH;FMTTYPE=image/jpeg:https://icbetuel.com.br/wp-content/uploads/2024/04/Culto-de-Santa-Ceia.jpg
END:VEVENT
BEGIN:VEVENT
DTSTART;TZID=America/Sao_Paulo:20270509T180000
DTEND;TZID=America/Sao_Paulo:20270509T200000
DTSTAMP:20260424T130118
CREATED:20240810T152855Z
LAST-MODIFIED:20240810T154358Z
UID:10003517-1809885600-1809892800@icbetuel.com.br
SUMMARY:Santa Ceia - Noite
DESCRIPTION:
URL:https://icbetuel.com.br/evento/santa-ceia-noite/2027-05-09/
LOCATION:Igreja Cristã Betuel\, Estrada de Jacarepaguá\, 7020 - Anil\, Rio de Janeiro\, Rio de Janeiro\, 22755145
ATTACH;FMTTYPE=image/png:https://icbetuel.com.br/wp-content/uploads/2024/08/Culto-de-santa-ceia-arte-fixa.png
END:VEVENT
BEGIN:VEVENT
DTSTART;TZID=America/Sao_Paulo:20270613T100000
DTEND;TZID=America/Sao_Paulo:20270613T120000
DTSTAMP:20260424T130118
CREATED:20240418T143212Z
LAST-MODIFIED:20240810T152751Z
UID:10003397-1812880800-1812888000@icbetuel.com.br
SUMMARY:Santa Ceia - Manhã
DESCRIPTION:
URL:https://icbetuel.com.br/evento/santa-ceia/2027-06-13/
LOCATION:Igreja Cristã Betuel\, Estrada de Jacarepaguá\, 7020 - Anil\, Rio de Janeiro\, Rio de Janeiro\, 22755145
ATTACH;FMTTYPE=image/jpeg:https://icbetuel.com.br/wp-content/uploads/2024/04/Culto-de-Santa-Ceia.jpg
END:VEVENT
BEGIN:VEVENT
DTSTART;TZID=America/Sao_Paulo:20270613T180000
DTEND;TZID=America/Sao_Paulo:20270613T200000
DTSTAMP:20260424T130118
CREATED:20240810T152855Z
LAST-MODIFIED:20240810T154358Z
UID:10003518-1812909600-1812916800@icbetuel.com.br
SUMMARY:Santa Ceia - Noite
DESCRIPTION:
URL:https://icbetuel.com.br/evento/santa-ceia-noite/2027-06-13/
LOCATION:Igreja Cristã Betuel\, Estrada de Jacarepaguá\, 7020 - Anil\, Rio de Janeiro\, Rio de Janeiro\, 22755145
ATTACH;FMTTYPE=image/png:https://icbetuel.com.br/wp-content/uploads/2024/08/Culto-de-santa-ceia-arte-fixa.png
END:VEVENT
BEGIN:VEVENT
DTSTART;TZID=America/Sao_Paulo:20270711T100000
DTEND;TZID=America/Sao_Paulo:20270711T120000
DTSTAMP:20260424T130118
CREATED:20240418T143212Z
LAST-MODIFIED:20240810T152751Z
UID:10003398-1815300000-1815307200@icbetuel.com.br
SUMMARY:Santa Ceia - Manhã
DESCRIPTION:
URL:https://icbetuel.com.br/evento/santa-ceia/2027-07-11/
LOCATION:Igreja Cristã Betuel\, Estrada de Jacarepaguá\, 7020 - Anil\, Rio de Janeiro\, Rio de Janeiro\, 22755145
ATTACH;FMTTYPE=image/jpeg:https://icbetuel.com.br/wp-content/uploads/2024/04/Culto-de-Santa-Ceia.jpg
END:VEVENT
BEGIN:VEVENT
DTSTART;TZID=America/Sao_Paulo:20270711T180000
DTEND;TZID=America/Sao_Paulo:20270711T200000
DTSTAMP:20260424T130118
CREATED:20240810T152855Z
LAST-MODIFIED:20240810T154358Z
UID:10003519-1815328800-1815336000@icbetuel.com.br
SUMMARY:Santa Ceia - Noite
DESCRIPTION:
URL:https://icbetuel.com.br/evento/santa-ceia-noite/2027-07-11/
LOCATION:Igreja Cristã Betuel\, Estrada de Jacarepaguá\, 7020 - Anil\, Rio de Janeiro\, Rio de Janeiro\, 22755145
ATTACH;FMTTYPE=image/png:https://icbetuel.com.br/wp-content/uploads/2024/08/Culto-de-santa-ceia-arte-fixa.png
END:VEVENT
END:VCALENDAR