BEGIN:VCALENDAR
VERSION:2.0
PRODID:-//Betuel - ECPv6.6.0.2//NONSGML v1.0//EN
CALSCALE:GREGORIAN
METHOD:PUBLISH
X-WR-CALNAME:Betuel
X-ORIGINAL-URL:https://icbetuel.com.br
X-WR-CALDESC:Eventos para Betuel
REFRESH-INTERVAL;VALUE=DURATION:PT1H
X-Robots-Tag:noindex
X-PUBLISHED-TTL:PT1H
BEGIN:VTIMEZONE
TZID:America/Sao_Paulo
BEGIN:STANDARD
TZOFFSETFROM:-0300
TZOFFSETTO:-0300
TZNAME:-03
DTSTART:20240101T000000
END:STANDARD
END:VTIMEZONE
BEGIN:VEVENT
DTSTART;TZID=America/Sao_Paulo:20250119T180000
DTEND;TZID=America/Sao_Paulo:20250119T203000
DTSTAMP:20260422T131904
CREATED:20240727T192827Z
LAST-MODIFIED:20240810T152331Z
UID:10002602-1737309600-1737318600@icbetuel.com.br
SUMMARY:Culto da Adoração
DESCRIPTION:
URL:https://icbetuel.com.br/evento/culto-da-adoracao/2025-01-19/
LOCATION:Igreja Cristã Betuel\, Estrada de Jacarepaguá\, 7020 - Anil\, Rio de Janeiro\, Rio de Janeiro\, 22755145
ATTACH;FMTTYPE=image/jpeg:https://icbetuel.com.br/wp-content/uploads/2024/04/Culto-de-Adoracao.jpg
END:VEVENT
BEGIN:VEVENT
DTSTART;TZID=America/Sao_Paulo:20250119T100000
DTEND;TZID=America/Sao_Paulo:20250119T130000
DTSTAMP:20260422T131904
CREATED:20240810T152256Z
LAST-MODIFIED:20240810T152609Z
UID:10002864-1737280800-1737291600@icbetuel.com.br
SUMMARY:Culto da Família
DESCRIPTION:
URL:https://icbetuel.com.br/evento/culto-da-familia-2/2025-01-19/
LOCATION:Igreja Cristã Betuel\, Estrada de Jacarepaguá\, 7020 - Anil\, Rio de Janeiro\, Rio de Janeiro\, 22755145
ATTACH;FMTTYPE=image/jpeg:https://icbetuel.com.br/wp-content/uploads/2024/03/Culto-da-Familia.jpeg
END:VEVENT
BEGIN:VEVENT
DTSTART;TZID=America/Sao_Paulo:20250119T090000
DTEND;TZID=America/Sao_Paulo:20250119T100000
DTSTAMP:20260422T131904
CREATED:20240727T192721Z
LAST-MODIFIED:20240810T152057Z
UID:10003125-1737277200-1737280800@icbetuel.com.br
SUMMARY:Escola Bíblica
DESCRIPTION:
URL:https://icbetuel.com.br/evento/escola-biblica/2025-01-19/
LOCATION:Igreja Cristã Betuel\, Estrada de Jacarepaguá\, 7020 - Anil\, Rio de Janeiro\, Rio de Janeiro\, 22755145
ATTACH;FMTTYPE=image/jpeg:https://icbetuel.com.br/wp-content/uploads/2024/03/Escola-biblica.jpeg
END:VEVENT
BEGIN:VEVENT
DTSTART;TZID=America/Sao_Paulo:20250116T193000
DTEND;TZID=America/Sao_Paulo:20250116T220000
DTSTAMP:20260422T131904
CREATED:20240727T192909Z
LAST-MODIFIED:20240810T151823Z
UID:10002338-1737055800-1737064800@icbetuel.com.br
SUMMARY:Culto da Palavra
DESCRIPTION:
URL:https://icbetuel.com.br/evento/culto-da-palavra/2025-01-16/
LOCATION:Igreja Cristã Betuel\, Estrada de Jacarepaguá\, 7020 - Anil\, Rio de Janeiro\, Rio de Janeiro\, 22755145
ATTACH;FMTTYPE=image/jpeg:https://icbetuel.com.br/wp-content/uploads/2024/04/Culto-da-Palavra.jpg
END:VEVENT
BEGIN:VEVENT
DTSTART;TZID=America/Sao_Paulo:20250116T090000
DTEND;TZID=America/Sao_Paulo:20250116T120000
DTSTAMP:20260422T131904
CREATED:20240329T200120Z
LAST-MODIFIED:20240810T151621Z
UID:10002077-1737018000-1737028800@icbetuel.com.br
SUMMARY:Oração e Consagração
DESCRIPTION:
URL:https://icbetuel.com.br/evento/oracao-e-consagracao-por-essa-causa-eu-me-colcoo-de-joelhos/2025-01-16/
LOCATION:Igreja Cristã Betuel\, Estrada de Jacarepaguá\, 7020 - Anil\, Rio de Janeiro\, Rio de Janeiro\, 22755145
ATTACH;FMTTYPE=image/jpeg:https://icbetuel.com.br/wp-content/uploads/2024/07/CONSAGRACAO-e1767556519879.jpg
END:VEVENT
BEGIN:VEVENT
DTSTART;TZID=America/Sao_Paulo:20250112T180000
DTEND;TZID=America/Sao_Paulo:20250112T200000
DTSTAMP:20260422T131904
CREATED:20240810T152855Z
LAST-MODIFIED:20240810T154358Z
UID:10003489-1736704800-1736712000@icbetuel.com.br
SUMMARY:Santa Ceia - Noite
DESCRIPTION:
URL:https://icbetuel.com.br/evento/santa-ceia-noite/2025-01-12/
LOCATION:Igreja Cristã Betuel\, Estrada de Jacarepaguá\, 7020 - Anil\, Rio de Janeiro\, Rio de Janeiro\, 22755145
ATTACH;FMTTYPE=image/png:https://icbetuel.com.br/wp-content/uploads/2024/08/Culto-de-santa-ceia-arte-fixa.png
END:VEVENT
BEGIN:VEVENT
DTSTART;TZID=America/Sao_Paulo:20250112T100000
DTEND;TZID=America/Sao_Paulo:20250112T120000
DTSTAMP:20260422T131904
CREATED:20240418T143212Z
LAST-MODIFIED:20240810T152751Z
UID:10003368-1736676000-1736683200@icbetuel.com.br
SUMMARY:Santa Ceia - Manhã
DESCRIPTION:
URL:https://icbetuel.com.br/evento/santa-ceia/2025-01-12/
LOCATION:Igreja Cristã Betuel\, Estrada de Jacarepaguá\, 7020 - Anil\, Rio de Janeiro\, Rio de Janeiro\, 22755145
ATTACH;FMTTYPE=image/jpeg:https://icbetuel.com.br/wp-content/uploads/2024/04/Culto-de-Santa-Ceia.jpg
END:VEVENT
BEGIN:VEVENT
DTSTART;TZID=America/Sao_Paulo:20250112T090000
DTEND;TZID=America/Sao_Paulo:20250112T100000
DTSTAMP:20260422T131904
CREATED:20240727T192721Z
LAST-MODIFIED:20240810T152057Z
UID:10003124-1736672400-1736676000@icbetuel.com.br
SUMMARY:Escola Bíblica
DESCRIPTION:
URL:https://icbetuel.com.br/evento/escola-biblica/2025-01-12/
LOCATION:Igreja Cristã Betuel\, Estrada de Jacarepaguá\, 7020 - Anil\, Rio de Janeiro\, Rio de Janeiro\, 22755145
ATTACH;FMTTYPE=image/jpeg:https://icbetuel.com.br/wp-content/uploads/2024/03/Escola-biblica.jpeg
END:VEVENT
BEGIN:VEVENT
DTSTART;TZID=America/Sao_Paulo:20250109T193000
DTEND;TZID=America/Sao_Paulo:20250109T220000
DTSTAMP:20260422T131904
CREATED:20240727T192909Z
LAST-MODIFIED:20240810T151823Z
UID:10002337-1736451000-1736460000@icbetuel.com.br
SUMMARY:Culto da Palavra
DESCRIPTION:
URL:https://icbetuel.com.br/evento/culto-da-palavra/2025-01-09/
LOCATION:Igreja Cristã Betuel\, Estrada de Jacarepaguá\, 7020 - Anil\, Rio de Janeiro\, Rio de Janeiro\, 22755145
ATTACH;FMTTYPE=image/jpeg:https://icbetuel.com.br/wp-content/uploads/2024/04/Culto-da-Palavra.jpg
END:VEVENT
BEGIN:VEVENT
DTSTART;TZID=America/Sao_Paulo:20250109T090000
DTEND;TZID=America/Sao_Paulo:20250109T120000
DTSTAMP:20260422T131904
CREATED:20240329T200120Z
LAST-MODIFIED:20240810T151621Z
UID:10002076-1736413200-1736424000@icbetuel.com.br
SUMMARY:Oração e Consagração
DESCRIPTION:
URL:https://icbetuel.com.br/evento/oracao-e-consagracao-por-essa-causa-eu-me-colcoo-de-joelhos/2025-01-09/
LOCATION:Igreja Cristã Betuel\, Estrada de Jacarepaguá\, 7020 - Anil\, Rio de Janeiro\, Rio de Janeiro\, 22755145
ATTACH;FMTTYPE=image/jpeg:https://icbetuel.com.br/wp-content/uploads/2024/07/CONSAGRACAO-e1767556519879.jpg
END:VEVENT
BEGIN:VEVENT
DTSTART;TZID=America/Sao_Paulo:20250105T180000
DTEND;TZID=America/Sao_Paulo:20250105T203000
DTSTAMP:20260422T131904
CREATED:20240727T192827Z
LAST-MODIFIED:20240810T152331Z
UID:10002600-1736100000-1736109000@icbetuel.com.br
SUMMARY:Culto da Adoração
DESCRIPTION:
URL:https://icbetuel.com.br/evento/culto-da-adoracao/2025-01-05/
LOCATION:Igreja Cristã Betuel\, Estrada de Jacarepaguá\, 7020 - Anil\, Rio de Janeiro\, Rio de Janeiro\, 22755145
ATTACH;FMTTYPE=image/jpeg:https://icbetuel.com.br/wp-content/uploads/2024/04/Culto-de-Adoracao.jpg
END:VEVENT
BEGIN:VEVENT
DTSTART;TZID=America/Sao_Paulo:20250105T100000
DTEND;TZID=America/Sao_Paulo:20250105T130000
DTSTAMP:20260422T131904
CREATED:20240810T152256Z
LAST-MODIFIED:20240810T152609Z
UID:10002862-1736071200-1736082000@icbetuel.com.br
SUMMARY:Culto da Família
DESCRIPTION:
URL:https://icbetuel.com.br/evento/culto-da-familia-2/2025-01-05/
LOCATION:Igreja Cristã Betuel\, Estrada de Jacarepaguá\, 7020 - Anil\, Rio de Janeiro\, Rio de Janeiro\, 22755145
ATTACH;FMTTYPE=image/jpeg:https://icbetuel.com.br/wp-content/uploads/2024/03/Culto-da-Familia.jpeg
END:VEVENT
BEGIN:VEVENT
DTSTART;TZID=America/Sao_Paulo:20250105T090000
DTEND;TZID=America/Sao_Paulo:20250105T100000
DTSTAMP:20260422T131904
CREATED:20240727T192721Z
LAST-MODIFIED:20240810T152057Z
UID:10003123-1736067600-1736071200@icbetuel.com.br
SUMMARY:Escola Bíblica
DESCRIPTION:
URL:https://icbetuel.com.br/evento/escola-biblica/2025-01-05/
LOCATION:Igreja Cristã Betuel\, Estrada de Jacarepaguá\, 7020 - Anil\, Rio de Janeiro\, Rio de Janeiro\, 22755145
ATTACH;FMTTYPE=image/jpeg:https://icbetuel.com.br/wp-content/uploads/2024/03/Escola-biblica.jpeg
END:VEVENT
BEGIN:VEVENT
DTSTART;TZID=America/Sao_Paulo:20241229T180000
DTEND;TZID=America/Sao_Paulo:20241229T203000
DTSTAMP:20260422T131904
CREATED:20240727T192827Z
LAST-MODIFIED:20240810T152331Z
UID:10002599-1735495200-1735504200@icbetuel.com.br
SUMMARY:Culto da Adoração
DESCRIPTION:
URL:https://icbetuel.com.br/evento/culto-da-adoracao/2024-12-29/
LOCATION:Igreja Cristã Betuel\, Estrada de Jacarepaguá\, 7020 - Anil\, Rio de Janeiro\, Rio de Janeiro\, 22755145
ATTACH;FMTTYPE=image/jpeg:https://icbetuel.com.br/wp-content/uploads/2024/04/Culto-de-Adoracao.jpg
END:VEVENT
BEGIN:VEVENT
DTSTART;TZID=America/Sao_Paulo:20241229T100000
DTEND;TZID=America/Sao_Paulo:20241229T130000
DTSTAMP:20260422T131904
CREATED:20240810T152256Z
LAST-MODIFIED:20240810T152609Z
UID:10002861-1735466400-1735477200@icbetuel.com.br
SUMMARY:Culto da Família
DESCRIPTION:
URL:https://icbetuel.com.br/evento/culto-da-familia-2/2024-12-29/
LOCATION:Igreja Cristã Betuel\, Estrada de Jacarepaguá\, 7020 - Anil\, Rio de Janeiro\, Rio de Janeiro\, 22755145
ATTACH;FMTTYPE=image/jpeg:https://icbetuel.com.br/wp-content/uploads/2024/03/Culto-da-Familia.jpeg
END:VEVENT
BEGIN:VEVENT
DTSTART;TZID=America/Sao_Paulo:20241229T090000
DTEND;TZID=America/Sao_Paulo:20241229T100000
DTSTAMP:20260422T131904
CREATED:20240727T192721Z
LAST-MODIFIED:20240810T152057Z
UID:10003122-1735462800-1735466400@icbetuel.com.br
SUMMARY:Escola Bíblica
DESCRIPTION:
URL:https://icbetuel.com.br/evento/escola-biblica/2024-12-29/
LOCATION:Igreja Cristã Betuel\, Estrada de Jacarepaguá\, 7020 - Anil\, Rio de Janeiro\, Rio de Janeiro\, 22755145
ATTACH;FMTTYPE=image/jpeg:https://icbetuel.com.br/wp-content/uploads/2024/03/Escola-biblica.jpeg
END:VEVENT
BEGIN:VEVENT
DTSTART;TZID=America/Sao_Paulo:20241226T193000
DTEND;TZID=America/Sao_Paulo:20241226T220000
DTSTAMP:20260422T131904
CREATED:20240727T192909Z
LAST-MODIFIED:20240810T151823Z
UID:10002335-1735241400-1735250400@icbetuel.com.br
SUMMARY:Culto da Palavra
DESCRIPTION:
URL:https://icbetuel.com.br/evento/culto-da-palavra/2024-12-26/
LOCATION:Igreja Cristã Betuel\, Estrada de Jacarepaguá\, 7020 - Anil\, Rio de Janeiro\, Rio de Janeiro\, 22755145
ATTACH;FMTTYPE=image/jpeg:https://icbetuel.com.br/wp-content/uploads/2024/04/Culto-da-Palavra.jpg
END:VEVENT
BEGIN:VEVENT
DTSTART;TZID=America/Sao_Paulo:20241226T090000
DTEND;TZID=America/Sao_Paulo:20241226T120000
DTSTAMP:20260422T131904
CREATED:20241219T124144Z
LAST-MODIFIED:20241219T124922Z
UID:10002074-1735203600-1735214400@icbetuel.com.br
SUMMARY:Oração e Consagração
DESCRIPTION:
URL:https://icbetuel.com.br/evento/oracao-e-consagracao-2/
LOCATION:Igreja Cristã Betuel\, Estrada de Jacarepaguá\, 7020 - Anil\, Rio de Janeiro\, Rio de Janeiro\, 22755145
ATTACH;FMTTYPE=image/jpeg:https://icbetuel.com.br/wp-content/uploads/2024/07/CONSAGRACAO-e1767556519879.jpg
END:VEVENT
BEGIN:VEVENT
DTSTART;TZID=America/Sao_Paulo:20241222T180000
DTEND;TZID=America/Sao_Paulo:20241222T203000
DTSTAMP:20260422T131904
CREATED:20240727T192827Z
LAST-MODIFIED:20240810T152331Z
UID:10002598-1734890400-1734899400@icbetuel.com.br
SUMMARY:Culto da Adoração
DESCRIPTION:
URL:https://icbetuel.com.br/evento/culto-da-adoracao/2024-12-22/
LOCATION:Igreja Cristã Betuel\, Estrada de Jacarepaguá\, 7020 - Anil\, Rio de Janeiro\, Rio de Janeiro\, 22755145
ATTACH;FMTTYPE=image/jpeg:https://icbetuel.com.br/wp-content/uploads/2024/04/Culto-de-Adoracao.jpg
END:VEVENT
BEGIN:VEVENT
DTSTART;TZID=America/Sao_Paulo:20241222T100000
DTEND;TZID=America/Sao_Paulo:20241222T130000
DTSTAMP:20260422T131904
CREATED:20240810T152256Z
LAST-MODIFIED:20240810T152609Z
UID:10002860-1734861600-1734872400@icbetuel.com.br
SUMMARY:Culto da Família
DESCRIPTION:
URL:https://icbetuel.com.br/evento/culto-da-familia-2/2024-12-22/
LOCATION:Igreja Cristã Betuel\, Estrada de Jacarepaguá\, 7020 - Anil\, Rio de Janeiro\, Rio de Janeiro\, 22755145
ATTACH;FMTTYPE=image/jpeg:https://icbetuel.com.br/wp-content/uploads/2024/03/Culto-da-Familia.jpeg
END:VEVENT
BEGIN:VEVENT
DTSTART;TZID=America/Sao_Paulo:20241222T090000
DTEND;TZID=America/Sao_Paulo:20241222T100000
DTSTAMP:20260422T131904
CREATED:20240727T192721Z
LAST-MODIFIED:20240810T152057Z
UID:10003121-1734858000-1734861600@icbetuel.com.br
SUMMARY:Escola Bíblica
DESCRIPTION:
URL:https://icbetuel.com.br/evento/escola-biblica/2024-12-22/
LOCATION:Igreja Cristã Betuel\, Estrada de Jacarepaguá\, 7020 - Anil\, Rio de Janeiro\, Rio de Janeiro\, 22755145
ATTACH;FMTTYPE=image/jpeg:https://icbetuel.com.br/wp-content/uploads/2024/03/Escola-biblica.jpeg
END:VEVENT
BEGIN:VEVENT
DTSTART;TZID=America/Sao_Paulo:20241219T193000
DTEND;TZID=America/Sao_Paulo:20241219T220000
DTSTAMP:20260422T131904
CREATED:20240727T192909Z
LAST-MODIFIED:20240810T151823Z
UID:10002334-1734636600-1734645600@icbetuel.com.br
SUMMARY:Culto da Palavra
DESCRIPTION:
URL:https://icbetuel.com.br/evento/culto-da-palavra/2024-12-19/
LOCATION:Igreja Cristã Betuel\, Estrada de Jacarepaguá\, 7020 - Anil\, Rio de Janeiro\, Rio de Janeiro\, 22755145
ATTACH;FMTTYPE=image/jpeg:https://icbetuel.com.br/wp-content/uploads/2024/04/Culto-da-Palavra.jpg
END:VEVENT
BEGIN:VEVENT
DTSTART;TZID=America/Sao_Paulo:20241219T090000
DTEND;TZID=America/Sao_Paulo:20241219T120000
DTSTAMP:20260422T131904
CREATED:20241219T123741Z
LAST-MODIFIED:20241219T124516Z
UID:10002073-1734598800-1734609600@icbetuel.com.br
SUMMARY:Oração e Consagração
DESCRIPTION:
URL:https://icbetuel.com.br/evento/oracao-e-consagracao/
LOCATION:Igreja Cristã Betuel\, Estrada de Jacarepaguá\, 7020 - Anil\, Rio de Janeiro\, Rio de Janeiro\, 22755145
ATTACH;FMTTYPE=image/jpeg:https://icbetuel.com.br/wp-content/uploads/2024/03/19-12-2024-Consagracao.jpeg
END:VEVENT
BEGIN:VEVENT
DTSTART;TZID=America/Sao_Paulo:20241215T180000
DTEND;TZID=America/Sao_Paulo:20241215T203000
DTSTAMP:20260422T131904
CREATED:20240727T192827Z
LAST-MODIFIED:20240810T152331Z
UID:10002597-1734285600-1734294600@icbetuel.com.br
SUMMARY:Culto da Adoração
DESCRIPTION:
URL:https://icbetuel.com.br/evento/culto-da-adoracao/2024-12-15/
LOCATION:Igreja Cristã Betuel\, Estrada de Jacarepaguá\, 7020 - Anil\, Rio de Janeiro\, Rio de Janeiro\, 22755145
ATTACH;FMTTYPE=image/jpeg:https://icbetuel.com.br/wp-content/uploads/2024/04/Culto-de-Adoracao.jpg
END:VEVENT
BEGIN:VEVENT
DTSTART;TZID=America/Sao_Paulo:20241215T100000
DTEND;TZID=America/Sao_Paulo:20241215T130000
DTSTAMP:20260422T131904
CREATED:20240810T152256Z
LAST-MODIFIED:20240810T152609Z
UID:10002859-1734256800-1734267600@icbetuel.com.br
SUMMARY:Culto da Família
DESCRIPTION:
URL:https://icbetuel.com.br/evento/culto-da-familia-2/2024-12-15/
LOCATION:Igreja Cristã Betuel\, Estrada de Jacarepaguá\, 7020 - Anil\, Rio de Janeiro\, Rio de Janeiro\, 22755145
ATTACH;FMTTYPE=image/jpeg:https://icbetuel.com.br/wp-content/uploads/2024/03/Culto-da-Familia.jpeg
END:VEVENT
BEGIN:VEVENT
DTSTART;TZID=America/Sao_Paulo:20241215T090000
DTEND;TZID=America/Sao_Paulo:20241215T100000
DTSTAMP:20260422T131904
CREATED:20240727T192721Z
LAST-MODIFIED:20240810T152057Z
UID:10003120-1734253200-1734256800@icbetuel.com.br
SUMMARY:Escola Bíblica
DESCRIPTION:
URL:https://icbetuel.com.br/evento/escola-biblica/2024-12-15/
LOCATION:Igreja Cristã Betuel\, Estrada de Jacarepaguá\, 7020 - Anil\, Rio de Janeiro\, Rio de Janeiro\, 22755145
ATTACH;FMTTYPE=image/jpeg:https://icbetuel.com.br/wp-content/uploads/2024/03/Escola-biblica.jpeg
END:VEVENT
BEGIN:VEVENT
DTSTART;TZID=America/Sao_Paulo:20241212T193000
DTEND;TZID=America/Sao_Paulo:20241212T220000
DTSTAMP:20260422T131904
CREATED:20240727T192909Z
LAST-MODIFIED:20240810T151823Z
UID:10002333-1734031800-1734040800@icbetuel.com.br
SUMMARY:Culto da Palavra
DESCRIPTION:
URL:https://icbetuel.com.br/evento/culto-da-palavra/2024-12-12/
LOCATION:Igreja Cristã Betuel\, Estrada de Jacarepaguá\, 7020 - Anil\, Rio de Janeiro\, Rio de Janeiro\, 22755145
ATTACH;FMTTYPE=image/jpeg:https://icbetuel.com.br/wp-content/uploads/2024/04/Culto-da-Palavra.jpg
END:VEVENT
BEGIN:VEVENT
DTSTART;TZID=America/Sao_Paulo:20241212T090000
DTEND;TZID=America/Sao_Paulo:20241212T120000
DTSTAMP:20260422T131904
CREATED:20240329T200120Z
LAST-MODIFIED:20240810T151621Z
UID:10002072-1733994000-1734004800@icbetuel.com.br
SUMMARY:Oração e Consagração
DESCRIPTION:
URL:https://icbetuel.com.br/evento/oracao-e-consagracao-por-essa-causa-eu-me-colcoo-de-joelhos/2024-12-12/
LOCATION:Igreja Cristã Betuel\, Estrada de Jacarepaguá\, 7020 - Anil\, Rio de Janeiro\, Rio de Janeiro\, 22755145
ATTACH;FMTTYPE=image/jpeg:https://icbetuel.com.br/wp-content/uploads/2024/07/CONSAGRACAO-e1767556519879.jpg
END:VEVENT
BEGIN:VEVENT
DTSTART;TZID=America/Sao_Paulo:20241208T180000
DTEND;TZID=America/Sao_Paulo:20241208T200000
DTSTAMP:20260422T131904
CREATED:20240810T152855Z
LAST-MODIFIED:20240810T154358Z
UID:10003488-1733680800-1733688000@icbetuel.com.br
SUMMARY:Santa Ceia - Noite
DESCRIPTION:
URL:https://icbetuel.com.br/evento/santa-ceia-noite/2024-12-08/
LOCATION:Igreja Cristã Betuel\, Estrada de Jacarepaguá\, 7020 - Anil\, Rio de Janeiro\, Rio de Janeiro\, 22755145
ATTACH;FMTTYPE=image/png:https://icbetuel.com.br/wp-content/uploads/2024/08/Culto-de-santa-ceia-arte-fixa.png
END:VEVENT
BEGIN:VEVENT
DTSTART;TZID=America/Sao_Paulo:20241208T100000
DTEND;TZID=America/Sao_Paulo:20241208T120000
DTSTAMP:20260422T131904
CREATED:20240418T143212Z
LAST-MODIFIED:20240810T152751Z
UID:10003367-1733652000-1733659200@icbetuel.com.br
SUMMARY:Santa Ceia - Manhã
DESCRIPTION:
URL:https://icbetuel.com.br/evento/santa-ceia/2024-12-08/
LOCATION:Igreja Cristã Betuel\, Estrada de Jacarepaguá\, 7020 - Anil\, Rio de Janeiro\, Rio de Janeiro\, 22755145
ATTACH;FMTTYPE=image/jpeg:https://icbetuel.com.br/wp-content/uploads/2024/04/Culto-de-Santa-Ceia.jpg
END:VEVENT
END:VCALENDAR