BEGIN:VCALENDAR
VERSION:2.0
PRODID:-//Betuel - ECPv6.6.0.2//NONSGML v1.0//EN
CALSCALE:GREGORIAN
METHOD:PUBLISH
X-WR-CALNAME:Betuel
X-ORIGINAL-URL:https://icbetuel.com.br
X-WR-CALDESC:Eventos para Betuel
REFRESH-INTERVAL;VALUE=DURATION:PT1H
X-Robots-Tag:noindex
X-PUBLISHED-TTL:PT1H
BEGIN:VTIMEZONE
TZID:America/Sao_Paulo
BEGIN:STANDARD
TZOFFSETFROM:-0300
TZOFFSETTO:-0300
TZNAME:-03
DTSTART:20240101T000000
END:STANDARD
END:VTIMEZONE
BEGIN:VEVENT
DTSTART;TZID=America/Sao_Paulo:20240328T193000
DTEND;TZID=America/Sao_Paulo:20240328T220000
DTSTAMP:20260425T122114
CREATED:20240329T200246Z
LAST-MODIFIED:20240329T202628Z
UID:10000021-1711654200-1711663200@icbetuel.com.br
SUMMARY:Encontro GC - Grupos de Comunhão
DESCRIPTION:
URL:https://icbetuel.com.br/evento/encontro-gc-grupos-de-comunhao/
LOCATION:Igreja Cristã Betuel\, Estrada de Jacarepaguá\, 7020 - Anil\, Rio de Janeiro\, Rio de Janeiro\, 22755145
ATTACH;FMTTYPE=image/jpeg:https://icbetuel.com.br/wp-content/uploads/2024/03/434436455_944163370512110_2818222218272835729_n.jpg
END:VEVENT
BEGIN:VEVENT
DTSTART;TZID=America/Sao_Paulo:20240328T090000
DTEND;TZID=America/Sao_Paulo:20240328T120000
DTSTAMP:20260425T122114
CREATED:20240329T200120Z
LAST-MODIFIED:20240810T151621Z
UID:10002035-1711616400-1711627200@icbetuel.com.br
SUMMARY:Oração e Consagração
DESCRIPTION:
URL:https://icbetuel.com.br/evento/oracao-e-consagracao-por-essa-causa-eu-me-colcoo-de-joelhos/2024-03-28/
LOCATION:Igreja Cristã Betuel\, Estrada de Jacarepaguá\, 7020 - Anil\, Rio de Janeiro\, Rio de Janeiro\, 22755145
ATTACH;FMTTYPE=image/jpeg:https://icbetuel.com.br/wp-content/uploads/2024/07/CONSAGRACAO-e1767556519879.jpg
END:VEVENT
BEGIN:VEVENT
DTSTART;TZID=America/Sao_Paulo:20240326T193000
DTEND;TZID=America/Sao_Paulo:20240326T220000
DTSTAMP:20260425T122114
CREATED:20240329T192857Z
LAST-MODIFIED:20240329T220138Z
UID:10000018-1711481400-1711490400@icbetuel.com.br
SUMMARY:Campanha - Deus que trata
DESCRIPTION:
URL:https://icbetuel.com.br/evento/campanha-deus-que-trata/
LOCATION:Igreja Cristã Betuel\, Estrada de Jacarepaguá\, 7020 - Anil\, Rio de Janeiro\, Rio de Janeiro\, 22755145
ATTACH;FMTTYPE=image/jpeg:https://icbetuel.com.br/wp-content/uploads/2024/03/434440065_945296720143476_7949129598720487740_n.jpg
END:VEVENT
END:VCALENDAR