BEGIN:VCALENDAR
VERSION:2.0
PRODID:-//Betuel - ECPv6.6.0.2//NONSGML v1.0//EN
CALSCALE:GREGORIAN
METHOD:PUBLISH
X-WR-CALNAME:Betuel
X-ORIGINAL-URL:https://icbetuel.com.br
X-WR-CALDESC:Eventos para Betuel
REFRESH-INTERVAL;VALUE=DURATION:PT1H
X-Robots-Tag:noindex
X-PUBLISHED-TTL:PT1H
BEGIN:VTIMEZONE
TZID:America/Sao_Paulo
BEGIN:STANDARD
TZOFFSETFROM:-0300
TZOFFSETTO:-0300
TZNAME:-03
DTSTART:20290101T000000
END:STANDARD
END:VTIMEZONE
BEGIN:VEVENT
DTSTART;TZID=America/Sao_Paulo:20291127T090000
DTEND;TZID=America/Sao_Paulo:20291127T120000
DTSTAMP:20260422T103435
CREATED:20260104T195532Z
LAST-MODIFIED:20260104T202854Z
UID:10004540-1890464400-1890475200@icbetuel.com.br
SUMMARY:Oração e Consagração
DESCRIPTION:
URL:https://icbetuel.com.br/evento/oracao-e-consagracao-por-essa-causa-eu-me-colcoo-de-joelhos-2/2029-11-27/
LOCATION:Igreja Cristã Betuel\, Estrada de Jacarepaguá\, 7020 - Anil\, Rio de Janeiro\, Rio de Janeiro\, 22755145
ATTACH;FMTTYPE=image/jpeg:https://icbetuel.com.br/wp-content/uploads/2026/01/Consagracao-tela-.jpg
END:VEVENT
BEGIN:VEVENT
DTSTART;TZID=America/Sao_Paulo:20291129T193000
DTEND;TZID=America/Sao_Paulo:20291129T213000
DTSTAMP:20260422T103435
CREATED:20260104T202804Z
LAST-MODIFIED:20260104T202804Z
UID:10005116-1890675000-1890682200@icbetuel.com.br
SUMMARY:Culto do Encontro com Deus
DESCRIPTION:
URL:https://icbetuel.com.br/evento/culto-do-encontro-com-deus/2029-11-29/
LOCATION:Igreja Cristã Betuel\, Estrada de Jacarepaguá\, 7020 - Anil\, Rio de Janeiro\, Rio de Janeiro\, 22755145
ATTACH;FMTTYPE=image/jpeg:https://icbetuel.com.br/wp-content/uploads/2026/01/Copia-de-Copia-de-Culto-encontro-com-Deus-0207-1920-x-1080-px.jpg
END:VEVENT
BEGIN:VEVENT
DTSTART;TZID=America/Sao_Paulo:20291202T090000
DTEND;TZID=America/Sao_Paulo:20291202T100000
DTSTAMP:20260422T103435
CREATED:20260104T195708Z
LAST-MODIFIED:20260104T203034Z
UID:10004801-1890896400-1890900000@icbetuel.com.br
SUMMARY:Escola Bíblica
DESCRIPTION:
URL:https://icbetuel.com.br/evento/escola-biblica-2-2/2029-12-02/
LOCATION:Igreja Cristã Betuel\, Estrada de Jacarepaguá\, 7020 - Anil\, Rio de Janeiro\, Rio de Janeiro\, 22755145
ATTACH;FMTTYPE=image/jpeg:https://icbetuel.com.br/wp-content/uploads/2026/01/Escola-biblica-2026-tela.jpg
END:VEVENT
BEGIN:VEVENT
DTSTART;TZID=America/Sao_Paulo:20291202T100000
DTEND;TZID=America/Sao_Paulo:20291202T130000
DTSTAMP:20260422T103435
CREATED:20240810T152256Z
LAST-MODIFIED:20240810T152609Z
UID:10005186-1890900000-1890910800@icbetuel.com.br
SUMMARY:Culto da Família
DESCRIPTION:
URL:https://icbetuel.com.br/evento/culto-da-familia-2/2029-12-02/
LOCATION:Igreja Cristã Betuel\, Estrada de Jacarepaguá\, 7020 - Anil\, Rio de Janeiro\, Rio de Janeiro\, 22755145
ATTACH;FMTTYPE=image/jpeg:https://icbetuel.com.br/wp-content/uploads/2024/03/Culto-da-Familia.jpeg
END:VEVENT
BEGIN:VEVENT
DTSTART;TZID=America/Sao_Paulo:20291202T180000
DTEND;TZID=America/Sao_Paulo:20291202T203000
DTSTAMP:20260422T103435
CREATED:20260104T214951Z
LAST-MODIFIED:20260104T214951Z
UID:10004057-1890928800-1890937800@icbetuel.com.br
SUMMARY:Culto da Adoração
DESCRIPTION:
URL:https://icbetuel.com.br/evento/culto-da-adoracao-2/2029-12-02/
LOCATION:Igreja Cristã Betuel\, Estrada de Jacarepaguá\, 7020 - Anil\, Rio de Janeiro\, Rio de Janeiro\, 22755145
ATTACH;FMTTYPE=image/jpeg:https://icbetuel.com.br/wp-content/uploads/2024/07/Culto-da-adoracao-padrao-2025-1.jpg
END:VEVENT
BEGIN:VEVENT
DTSTART;TZID=America/Sao_Paulo:20291204T090000
DTEND;TZID=America/Sao_Paulo:20291204T120000
DTSTAMP:20260422T103435
CREATED:20260104T195532Z
LAST-MODIFIED:20260104T202854Z
UID:10004541-1891069200-1891080000@icbetuel.com.br
SUMMARY:Oração e Consagração
DESCRIPTION:
URL:https://icbetuel.com.br/evento/oracao-e-consagracao-por-essa-causa-eu-me-colcoo-de-joelhos-2/2029-12-04/
LOCATION:Igreja Cristã Betuel\, Estrada de Jacarepaguá\, 7020 - Anil\, Rio de Janeiro\, Rio de Janeiro\, 22755145
ATTACH;FMTTYPE=image/jpeg:https://icbetuel.com.br/wp-content/uploads/2026/01/Consagracao-tela-.jpg
END:VEVENT
BEGIN:VEVENT
DTSTART;TZID=America/Sao_Paulo:20291206T193000
DTEND;TZID=America/Sao_Paulo:20291206T213000
DTSTAMP:20260422T103435
CREATED:20260104T202804Z
LAST-MODIFIED:20260104T202804Z
UID:10005117-1891279800-1891287000@icbetuel.com.br
SUMMARY:Culto do Encontro com Deus
DESCRIPTION:
URL:https://icbetuel.com.br/evento/culto-do-encontro-com-deus/2029-12-06/
LOCATION:Igreja Cristã Betuel\, Estrada de Jacarepaguá\, 7020 - Anil\, Rio de Janeiro\, Rio de Janeiro\, 22755145
ATTACH;FMTTYPE=image/jpeg:https://icbetuel.com.br/wp-content/uploads/2026/01/Copia-de-Copia-de-Culto-encontro-com-Deus-0207-1920-x-1080-px.jpg
END:VEVENT
BEGIN:VEVENT
DTSTART;TZID=America/Sao_Paulo:20291209T090000
DTEND;TZID=America/Sao_Paulo:20291209T100000
DTSTAMP:20260422T103435
CREATED:20260104T195708Z
LAST-MODIFIED:20260104T203034Z
UID:10004802-1891501200-1891504800@icbetuel.com.br
SUMMARY:Escola Bíblica
DESCRIPTION:
URL:https://icbetuel.com.br/evento/escola-biblica-2-2/2029-12-09/
LOCATION:Igreja Cristã Betuel\, Estrada de Jacarepaguá\, 7020 - Anil\, Rio de Janeiro\, Rio de Janeiro\, 22755145
ATTACH;FMTTYPE=image/jpeg:https://icbetuel.com.br/wp-content/uploads/2026/01/Escola-biblica-2026-tela.jpg
END:VEVENT
BEGIN:VEVENT
DTSTART;TZID=America/Sao_Paulo:20291211T090000
DTEND;TZID=America/Sao_Paulo:20291211T120000
DTSTAMP:20260422T103435
CREATED:20260104T195532Z
LAST-MODIFIED:20260104T202854Z
UID:10004542-1891674000-1891684800@icbetuel.com.br
SUMMARY:Oração e Consagração
DESCRIPTION:
URL:https://icbetuel.com.br/evento/oracao-e-consagracao-por-essa-causa-eu-me-colcoo-de-joelhos-2/2029-12-11/
LOCATION:Igreja Cristã Betuel\, Estrada de Jacarepaguá\, 7020 - Anil\, Rio de Janeiro\, Rio de Janeiro\, 22755145
ATTACH;FMTTYPE=image/jpeg:https://icbetuel.com.br/wp-content/uploads/2026/01/Consagracao-tela-.jpg
END:VEVENT
BEGIN:VEVENT
DTSTART;TZID=America/Sao_Paulo:20291213T193000
DTEND;TZID=America/Sao_Paulo:20291213T213000
DTSTAMP:20260422T103435
CREATED:20260104T202804Z
LAST-MODIFIED:20260104T202804Z
UID:10005118-1891884600-1891891800@icbetuel.com.br
SUMMARY:Culto do Encontro com Deus
DESCRIPTION:
URL:https://icbetuel.com.br/evento/culto-do-encontro-com-deus/2029-12-13/
LOCATION:Igreja Cristã Betuel\, Estrada de Jacarepaguá\, 7020 - Anil\, Rio de Janeiro\, Rio de Janeiro\, 22755145
ATTACH;FMTTYPE=image/jpeg:https://icbetuel.com.br/wp-content/uploads/2026/01/Copia-de-Copia-de-Culto-encontro-com-Deus-0207-1920-x-1080-px.jpg
END:VEVENT
BEGIN:VEVENT
DTSTART;TZID=America/Sao_Paulo:20291216T090000
DTEND;TZID=America/Sao_Paulo:20291216T100000
DTSTAMP:20260422T103435
CREATED:20260104T195708Z
LAST-MODIFIED:20260104T203034Z
UID:10004803-1892106000-1892109600@icbetuel.com.br
SUMMARY:Escola Bíblica
DESCRIPTION:
URL:https://icbetuel.com.br/evento/escola-biblica-2-2/2029-12-16/
LOCATION:Igreja Cristã Betuel\, Estrada de Jacarepaguá\, 7020 - Anil\, Rio de Janeiro\, Rio de Janeiro\, 22755145
ATTACH;FMTTYPE=image/jpeg:https://icbetuel.com.br/wp-content/uploads/2026/01/Escola-biblica-2026-tela.jpg
END:VEVENT
BEGIN:VEVENT
DTSTART;TZID=America/Sao_Paulo:20291216T100000
DTEND;TZID=America/Sao_Paulo:20291216T130000
DTSTAMP:20260422T103435
CREATED:20240810T152256Z
LAST-MODIFIED:20240810T152609Z
UID:10005187-1892109600-1892120400@icbetuel.com.br
SUMMARY:Culto da Família
DESCRIPTION:
URL:https://icbetuel.com.br/evento/culto-da-familia-2/2029-12-16/
LOCATION:Igreja Cristã Betuel\, Estrada de Jacarepaguá\, 7020 - Anil\, Rio de Janeiro\, Rio de Janeiro\, 22755145
ATTACH;FMTTYPE=image/jpeg:https://icbetuel.com.br/wp-content/uploads/2024/03/Culto-da-Familia.jpeg
END:VEVENT
BEGIN:VEVENT
DTSTART;TZID=America/Sao_Paulo:20291216T180000
DTEND;TZID=America/Sao_Paulo:20291216T203000
DTSTAMP:20260422T103435
CREATED:20260104T214951Z
LAST-MODIFIED:20260104T214951Z
UID:10004058-1892138400-1892147400@icbetuel.com.br
SUMMARY:Culto da Adoração
DESCRIPTION:
URL:https://icbetuel.com.br/evento/culto-da-adoracao-2/2029-12-16/
LOCATION:Igreja Cristã Betuel\, Estrada de Jacarepaguá\, 7020 - Anil\, Rio de Janeiro\, Rio de Janeiro\, 22755145
ATTACH;FMTTYPE=image/jpeg:https://icbetuel.com.br/wp-content/uploads/2024/07/Culto-da-adoracao-padrao-2025-1.jpg
END:VEVENT
BEGIN:VEVENT
DTSTART;TZID=America/Sao_Paulo:20291218T090000
DTEND;TZID=America/Sao_Paulo:20291218T120000
DTSTAMP:20260422T103435
CREATED:20260104T195532Z
LAST-MODIFIED:20260104T202854Z
UID:10004543-1892278800-1892289600@icbetuel.com.br
SUMMARY:Oração e Consagração
DESCRIPTION:
URL:https://icbetuel.com.br/evento/oracao-e-consagracao-por-essa-causa-eu-me-colcoo-de-joelhos-2/2029-12-18/
LOCATION:Igreja Cristã Betuel\, Estrada de Jacarepaguá\, 7020 - Anil\, Rio de Janeiro\, Rio de Janeiro\, 22755145
ATTACH;FMTTYPE=image/jpeg:https://icbetuel.com.br/wp-content/uploads/2026/01/Consagracao-tela-.jpg
END:VEVENT
BEGIN:VEVENT
DTSTART;TZID=America/Sao_Paulo:20291220T193000
DTEND;TZID=America/Sao_Paulo:20291220T213000
DTSTAMP:20260422T103435
CREATED:20260104T202804Z
LAST-MODIFIED:20260104T202804Z
UID:10005119-1892489400-1892496600@icbetuel.com.br
SUMMARY:Culto do Encontro com Deus
DESCRIPTION:
URL:https://icbetuel.com.br/evento/culto-do-encontro-com-deus/2029-12-20/
LOCATION:Igreja Cristã Betuel\, Estrada de Jacarepaguá\, 7020 - Anil\, Rio de Janeiro\, Rio de Janeiro\, 22755145
ATTACH;FMTTYPE=image/jpeg:https://icbetuel.com.br/wp-content/uploads/2026/01/Copia-de-Copia-de-Culto-encontro-com-Deus-0207-1920-x-1080-px.jpg
END:VEVENT
BEGIN:VEVENT
DTSTART;TZID=America/Sao_Paulo:20291223T090000
DTEND;TZID=America/Sao_Paulo:20291223T100000
DTSTAMP:20260422T103435
CREATED:20260104T195708Z
LAST-MODIFIED:20260104T203034Z
UID:10004804-1892710800-1892714400@icbetuel.com.br
SUMMARY:Escola Bíblica
DESCRIPTION:
URL:https://icbetuel.com.br/evento/escola-biblica-2-2/2029-12-23/
LOCATION:Igreja Cristã Betuel\, Estrada de Jacarepaguá\, 7020 - Anil\, Rio de Janeiro\, Rio de Janeiro\, 22755145
ATTACH;FMTTYPE=image/jpeg:https://icbetuel.com.br/wp-content/uploads/2026/01/Escola-biblica-2026-tela.jpg
END:VEVENT
BEGIN:VEVENT
DTSTART;TZID=America/Sao_Paulo:20291223T100000
DTEND;TZID=America/Sao_Paulo:20291223T130000
DTSTAMP:20260422T103435
CREATED:20240810T152256Z
LAST-MODIFIED:20240810T152609Z
UID:10005188-1892714400-1892725200@icbetuel.com.br
SUMMARY:Culto da Família
DESCRIPTION:
URL:https://icbetuel.com.br/evento/culto-da-familia-2/2029-12-23/
LOCATION:Igreja Cristã Betuel\, Estrada de Jacarepaguá\, 7020 - Anil\, Rio de Janeiro\, Rio de Janeiro\, 22755145
ATTACH;FMTTYPE=image/jpeg:https://icbetuel.com.br/wp-content/uploads/2024/03/Culto-da-Familia.jpeg
END:VEVENT
BEGIN:VEVENT
DTSTART;TZID=America/Sao_Paulo:20291223T180000
DTEND;TZID=America/Sao_Paulo:20291223T203000
DTSTAMP:20260422T103435
CREATED:20260104T214951Z
LAST-MODIFIED:20260104T214951Z
UID:10004059-1892743200-1892752200@icbetuel.com.br
SUMMARY:Culto da Adoração
DESCRIPTION:
URL:https://icbetuel.com.br/evento/culto-da-adoracao-2/2029-12-23/
LOCATION:Igreja Cristã Betuel\, Estrada de Jacarepaguá\, 7020 - Anil\, Rio de Janeiro\, Rio de Janeiro\, 22755145
ATTACH;FMTTYPE=image/jpeg:https://icbetuel.com.br/wp-content/uploads/2024/07/Culto-da-adoracao-padrao-2025-1.jpg
END:VEVENT
BEGIN:VEVENT
DTSTART;TZID=America/Sao_Paulo:20291225T090000
DTEND;TZID=America/Sao_Paulo:20291225T120000
DTSTAMP:20260422T103435
CREATED:20260104T195532Z
LAST-MODIFIED:20260104T202854Z
UID:10004544-1892883600-1892894400@icbetuel.com.br
SUMMARY:Oração e Consagração
DESCRIPTION:
URL:https://icbetuel.com.br/evento/oracao-e-consagracao-por-essa-causa-eu-me-colcoo-de-joelhos-2/2029-12-25/
LOCATION:Igreja Cristã Betuel\, Estrada de Jacarepaguá\, 7020 - Anil\, Rio de Janeiro\, Rio de Janeiro\, 22755145
ATTACH;FMTTYPE=image/jpeg:https://icbetuel.com.br/wp-content/uploads/2026/01/Consagracao-tela-.jpg
END:VEVENT
BEGIN:VEVENT
DTSTART;TZID=America/Sao_Paulo:20291227T193000
DTEND;TZID=America/Sao_Paulo:20291227T213000
DTSTAMP:20260422T103435
CREATED:20260104T202804Z
LAST-MODIFIED:20260104T202804Z
UID:10005120-1893094200-1893101400@icbetuel.com.br
SUMMARY:Culto do Encontro com Deus
DESCRIPTION:
URL:https://icbetuel.com.br/evento/culto-do-encontro-com-deus/2029-12-27/
LOCATION:Igreja Cristã Betuel\, Estrada de Jacarepaguá\, 7020 - Anil\, Rio de Janeiro\, Rio de Janeiro\, 22755145
ATTACH;FMTTYPE=image/jpeg:https://icbetuel.com.br/wp-content/uploads/2026/01/Copia-de-Copia-de-Culto-encontro-com-Deus-0207-1920-x-1080-px.jpg
END:VEVENT
BEGIN:VEVENT
DTSTART;TZID=America/Sao_Paulo:20291230T090000
DTEND;TZID=America/Sao_Paulo:20291230T100000
DTSTAMP:20260422T103435
CREATED:20260104T195708Z
LAST-MODIFIED:20260104T203034Z
UID:10004805-1893315600-1893319200@icbetuel.com.br
SUMMARY:Escola Bíblica
DESCRIPTION:
URL:https://icbetuel.com.br/evento/escola-biblica-2-2/2029-12-30/
LOCATION:Igreja Cristã Betuel\, Estrada de Jacarepaguá\, 7020 - Anil\, Rio de Janeiro\, Rio de Janeiro\, 22755145
ATTACH;FMTTYPE=image/jpeg:https://icbetuel.com.br/wp-content/uploads/2026/01/Escola-biblica-2026-tela.jpg
END:VEVENT
BEGIN:VEVENT
DTSTART;TZID=America/Sao_Paulo:20291230T100000
DTEND;TZID=America/Sao_Paulo:20291230T130000
DTSTAMP:20260422T103435
CREATED:20240810T152256Z
LAST-MODIFIED:20240810T152609Z
UID:10005189-1893319200-1893330000@icbetuel.com.br
SUMMARY:Culto da Família
DESCRIPTION:
URL:https://icbetuel.com.br/evento/culto-da-familia-2/2029-12-30/
LOCATION:Igreja Cristã Betuel\, Estrada de Jacarepaguá\, 7020 - Anil\, Rio de Janeiro\, Rio de Janeiro\, 22755145
ATTACH;FMTTYPE=image/jpeg:https://icbetuel.com.br/wp-content/uploads/2024/03/Culto-da-Familia.jpeg
END:VEVENT
BEGIN:VEVENT
DTSTART;TZID=America/Sao_Paulo:20291230T180000
DTEND;TZID=America/Sao_Paulo:20291230T203000
DTSTAMP:20260422T103435
CREATED:20260104T214951Z
LAST-MODIFIED:20260104T214951Z
UID:10004060-1893348000-1893357000@icbetuel.com.br
SUMMARY:Culto da Adoração
DESCRIPTION:
URL:https://icbetuel.com.br/evento/culto-da-adoracao-2/2029-12-30/
LOCATION:Igreja Cristã Betuel\, Estrada de Jacarepaguá\, 7020 - Anil\, Rio de Janeiro\, Rio de Janeiro\, 22755145
ATTACH;FMTTYPE=image/jpeg:https://icbetuel.com.br/wp-content/uploads/2024/07/Culto-da-adoracao-padrao-2025-1.jpg
END:VEVENT
BEGIN:VEVENT
DTSTART;TZID=America/Sao_Paulo:20300101T090000
DTEND;TZID=America/Sao_Paulo:20300101T120000
DTSTAMP:20260422T103435
CREATED:20260104T195532Z
LAST-MODIFIED:20260104T202854Z
UID:10004545-1893488400-1893499200@icbetuel.com.br
SUMMARY:Oração e Consagração
DESCRIPTION:
URL:https://icbetuel.com.br/evento/oracao-e-consagracao-por-essa-causa-eu-me-colcoo-de-joelhos-2/2030-01-01/
LOCATION:Igreja Cristã Betuel\, Estrada de Jacarepaguá\, 7020 - Anil\, Rio de Janeiro\, Rio de Janeiro\, 22755145
ATTACH;FMTTYPE=image/jpeg:https://icbetuel.com.br/wp-content/uploads/2026/01/Consagracao-tela-.jpg
END:VEVENT
BEGIN:VEVENT
DTSTART;TZID=America/Sao_Paulo:20300103T193000
DTEND;TZID=America/Sao_Paulo:20300103T213000
DTSTAMP:20260422T103435
CREATED:20260104T202804Z
LAST-MODIFIED:20260104T202804Z
UID:10005121-1893699000-1893706200@icbetuel.com.br
SUMMARY:Culto do Encontro com Deus
DESCRIPTION:
URL:https://icbetuel.com.br/evento/culto-do-encontro-com-deus/2030-01-03/
LOCATION:Igreja Cristã Betuel\, Estrada de Jacarepaguá\, 7020 - Anil\, Rio de Janeiro\, Rio de Janeiro\, 22755145
ATTACH;FMTTYPE=image/jpeg:https://icbetuel.com.br/wp-content/uploads/2026/01/Copia-de-Copia-de-Culto-encontro-com-Deus-0207-1920-x-1080-px.jpg
END:VEVENT
BEGIN:VEVENT
DTSTART;TZID=America/Sao_Paulo:20300106T090000
DTEND;TZID=America/Sao_Paulo:20300106T100000
DTSTAMP:20260422T103435
CREATED:20260104T195708Z
LAST-MODIFIED:20260104T203034Z
UID:10004806-1893920400-1893924000@icbetuel.com.br
SUMMARY:Escola Bíblica
DESCRIPTION:
URL:https://icbetuel.com.br/evento/escola-biblica-2-2/2030-01-06/
LOCATION:Igreja Cristã Betuel\, Estrada de Jacarepaguá\, 7020 - Anil\, Rio de Janeiro\, Rio de Janeiro\, 22755145
ATTACH;FMTTYPE=image/jpeg:https://icbetuel.com.br/wp-content/uploads/2026/01/Escola-biblica-2026-tela.jpg
END:VEVENT
BEGIN:VEVENT
DTSTART;TZID=America/Sao_Paulo:20300106T100000
DTEND;TZID=America/Sao_Paulo:20300106T130000
DTSTAMP:20260422T103435
CREATED:20240810T152256Z
LAST-MODIFIED:20240810T152609Z
UID:10005190-1893924000-1893934800@icbetuel.com.br
SUMMARY:Culto da Família
DESCRIPTION:
URL:https://icbetuel.com.br/evento/culto-da-familia-2/2030-01-06/
LOCATION:Igreja Cristã Betuel\, Estrada de Jacarepaguá\, 7020 - Anil\, Rio de Janeiro\, Rio de Janeiro\, 22755145
ATTACH;FMTTYPE=image/jpeg:https://icbetuel.com.br/wp-content/uploads/2024/03/Culto-da-Familia.jpeg
END:VEVENT
BEGIN:VEVENT
DTSTART;TZID=America/Sao_Paulo:20300106T180000
DTEND;TZID=America/Sao_Paulo:20300106T203000
DTSTAMP:20260422T103435
CREATED:20260104T214951Z
LAST-MODIFIED:20260104T214951Z
UID:10004061-1893952800-1893961800@icbetuel.com.br
SUMMARY:Culto da Adoração
DESCRIPTION:
URL:https://icbetuel.com.br/evento/culto-da-adoracao-2/2030-01-06/
LOCATION:Igreja Cristã Betuel\, Estrada de Jacarepaguá\, 7020 - Anil\, Rio de Janeiro\, Rio de Janeiro\, 22755145
ATTACH;FMTTYPE=image/jpeg:https://icbetuel.com.br/wp-content/uploads/2024/07/Culto-da-adoracao-padrao-2025-1.jpg
END:VEVENT
BEGIN:VEVENT
DTSTART;TZID=America/Sao_Paulo:20300108T090000
DTEND;TZID=America/Sao_Paulo:20300108T120000
DTSTAMP:20260422T103435
CREATED:20260104T195532Z
LAST-MODIFIED:20260104T202854Z
UID:10004546-1894093200-1894104000@icbetuel.com.br
SUMMARY:Oração e Consagração
DESCRIPTION:
URL:https://icbetuel.com.br/evento/oracao-e-consagracao-por-essa-causa-eu-me-colcoo-de-joelhos-2/2030-01-08/
LOCATION:Igreja Cristã Betuel\, Estrada de Jacarepaguá\, 7020 - Anil\, Rio de Janeiro\, Rio de Janeiro\, 22755145
ATTACH;FMTTYPE=image/jpeg:https://icbetuel.com.br/wp-content/uploads/2026/01/Consagracao-tela-.jpg
END:VEVENT
BEGIN:VEVENT
DTSTART;TZID=America/Sao_Paulo:20300110T193000
DTEND;TZID=America/Sao_Paulo:20300110T213000
DTSTAMP:20260422T103435
CREATED:20260104T202804Z
LAST-MODIFIED:20260104T202804Z
UID:10005122-1894303800-1894311000@icbetuel.com.br
SUMMARY:Culto do Encontro com Deus
DESCRIPTION:
URL:https://icbetuel.com.br/evento/culto-do-encontro-com-deus/2030-01-10/
LOCATION:Igreja Cristã Betuel\, Estrada de Jacarepaguá\, 7020 - Anil\, Rio de Janeiro\, Rio de Janeiro\, 22755145
ATTACH;FMTTYPE=image/jpeg:https://icbetuel.com.br/wp-content/uploads/2026/01/Copia-de-Copia-de-Culto-encontro-com-Deus-0207-1920-x-1080-px.jpg
END:VEVENT
END:VCALENDAR