BEGIN:VCALENDAR
VERSION:2.0
PRODID:-//Betuel - ECPv6.6.0.2//NONSGML v1.0//EN
CALSCALE:GREGORIAN
METHOD:PUBLISH
X-WR-CALNAME:Betuel
X-ORIGINAL-URL:https://icbetuel.com.br
X-WR-CALDESC:Eventos para Betuel
REFRESH-INTERVAL;VALUE=DURATION:PT1H
X-Robots-Tag:noindex
X-PUBLISHED-TTL:PT1H
BEGIN:VTIMEZONE
TZID:America/Sao_Paulo
BEGIN:STANDARD
TZOFFSETFROM:-0300
TZOFFSETTO:-0300
TZNAME:-03
DTSTART:20290101T000000
END:STANDARD
END:VTIMEZONE
BEGIN:VEVENT
DTSTART;TZID=America/Sao_Paulo:20290603T090000
DTEND;TZID=America/Sao_Paulo:20290603T100000
DTSTAMP:20260421T205038
CREATED:20260104T195708Z
LAST-MODIFIED:20260104T203034Z
UID:10004775-1875171600-1875175200@icbetuel.com.br
SUMMARY:Escola Bíblica
DESCRIPTION:
URL:https://icbetuel.com.br/evento/escola-biblica-2-2/2029-06-03/
LOCATION:Igreja Cristã Betuel\, Estrada de Jacarepaguá\, 7020 - Anil\, Rio de Janeiro\, Rio de Janeiro\, 22755145
ATTACH;FMTTYPE=image/jpeg:https://icbetuel.com.br/wp-content/uploads/2026/01/Escola-biblica-2026-tela.jpg
END:VEVENT
BEGIN:VEVENT
DTSTART;TZID=America/Sao_Paulo:20290603T100000
DTEND;TZID=America/Sao_Paulo:20290603T130000
DTSTAMP:20260421T205038
CREATED:20240810T152256Z
LAST-MODIFIED:20240810T152609Z
UID:10003092-1875175200-1875186000@icbetuel.com.br
SUMMARY:Culto da Família
DESCRIPTION:
URL:https://icbetuel.com.br/evento/culto-da-familia-2/2029-06-03/
LOCATION:Igreja Cristã Betuel\, Estrada de Jacarepaguá\, 7020 - Anil\, Rio de Janeiro\, Rio de Janeiro\, 22755145
ATTACH;FMTTYPE=image/jpeg:https://icbetuel.com.br/wp-content/uploads/2024/03/Culto-da-Familia.jpeg
END:VEVENT
BEGIN:VEVENT
DTSTART;TZID=America/Sao_Paulo:20290603T180000
DTEND;TZID=America/Sao_Paulo:20290603T203000
DTSTAMP:20260421T205038
CREATED:20260104T214951Z
LAST-MODIFIED:20260104T214951Z
UID:10002830-1875204000-1875213000@icbetuel.com.br
SUMMARY:Culto da Adoração
DESCRIPTION:
URL:https://icbetuel.com.br/evento/culto-da-adoracao-2/2029-06-03/
LOCATION:Igreja Cristã Betuel\, Estrada de Jacarepaguá\, 7020 - Anil\, Rio de Janeiro\, Rio de Janeiro\, 22755145
ATTACH;FMTTYPE=image/jpeg:https://icbetuel.com.br/wp-content/uploads/2024/07/Culto-da-adoracao-padrao-2025-1.jpg
END:VEVENT
BEGIN:VEVENT
DTSTART;TZID=America/Sao_Paulo:20290605T090000
DTEND;TZID=America/Sao_Paulo:20290605T120000
DTSTAMP:20260421T205038
CREATED:20260104T195532Z
LAST-MODIFIED:20260104T202854Z
UID:10004515-1875344400-1875355200@icbetuel.com.br
SUMMARY:Oração e Consagração
DESCRIPTION:
URL:https://icbetuel.com.br/evento/oracao-e-consagracao-por-essa-causa-eu-me-colcoo-de-joelhos-2/2029-06-05/
LOCATION:Igreja Cristã Betuel\, Estrada de Jacarepaguá\, 7020 - Anil\, Rio de Janeiro\, Rio de Janeiro\, 22755145
ATTACH;FMTTYPE=image/jpeg:https://icbetuel.com.br/wp-content/uploads/2026/01/Consagracao-tela-.jpg
END:VEVENT
BEGIN:VEVENT
DTSTART;TZID=America/Sao_Paulo:20290607T193000
DTEND;TZID=America/Sao_Paulo:20290607T213000
DTSTAMP:20260421T205038
CREATED:20260104T202804Z
LAST-MODIFIED:20260104T202804Z
UID:10005091-1875555000-1875562200@icbetuel.com.br
SUMMARY:Culto do Encontro com Deus
DESCRIPTION:
URL:https://icbetuel.com.br/evento/culto-do-encontro-com-deus/2029-06-07/
LOCATION:Igreja Cristã Betuel\, Estrada de Jacarepaguá\, 7020 - Anil\, Rio de Janeiro\, Rio de Janeiro\, 22755145
ATTACH;FMTTYPE=image/jpeg:https://icbetuel.com.br/wp-content/uploads/2026/01/Copia-de-Copia-de-Culto-encontro-com-Deus-0207-1920-x-1080-px.jpg
END:VEVENT
BEGIN:VEVENT
DTSTART;TZID=America/Sao_Paulo:20290610T090000
DTEND;TZID=America/Sao_Paulo:20290610T100000
DTSTAMP:20260421T205038
CREATED:20260104T195708Z
LAST-MODIFIED:20260104T203034Z
UID:10004776-1875776400-1875780000@icbetuel.com.br
SUMMARY:Escola Bíblica
DESCRIPTION:
URL:https://icbetuel.com.br/evento/escola-biblica-2-2/2029-06-10/
LOCATION:Igreja Cristã Betuel\, Estrada de Jacarepaguá\, 7020 - Anil\, Rio de Janeiro\, Rio de Janeiro\, 22755145
ATTACH;FMTTYPE=image/jpeg:https://icbetuel.com.br/wp-content/uploads/2026/01/Escola-biblica-2026-tela.jpg
END:VEVENT
BEGIN:VEVENT
DTSTART;TZID=America/Sao_Paulo:20290610T100000
DTEND;TZID=America/Sao_Paulo:20290610T120000
DTSTAMP:20260421T205038
CREATED:20240418T143212Z
LAST-MODIFIED:20240810T152751Z
UID:10003421-1875780000-1875787200@icbetuel.com.br
SUMMARY:Santa Ceia - Manhã
DESCRIPTION:
URL:https://icbetuel.com.br/evento/santa-ceia/2029-06-10/
LOCATION:Igreja Cristã Betuel\, Estrada de Jacarepaguá\, 7020 - Anil\, Rio de Janeiro\, Rio de Janeiro\, 22755145
ATTACH;FMTTYPE=image/jpeg:https://icbetuel.com.br/wp-content/uploads/2024/04/Culto-de-Santa-Ceia.jpg
END:VEVENT
BEGIN:VEVENT
DTSTART;TZID=America/Sao_Paulo:20290610T180000
DTEND;TZID=America/Sao_Paulo:20290610T200000
DTSTAMP:20260421T205038
CREATED:20240810T152855Z
LAST-MODIFIED:20240810T154358Z
UID:10003542-1875808800-1875816000@icbetuel.com.br
SUMMARY:Santa Ceia - Noite
DESCRIPTION:
URL:https://icbetuel.com.br/evento/santa-ceia-noite/2029-06-10/
LOCATION:Igreja Cristã Betuel\, Estrada de Jacarepaguá\, 7020 - Anil\, Rio de Janeiro\, Rio de Janeiro\, 22755145
ATTACH;FMTTYPE=image/png:https://icbetuel.com.br/wp-content/uploads/2024/08/Culto-de-santa-ceia-arte-fixa.png
END:VEVENT
BEGIN:VEVENT
DTSTART;TZID=America/Sao_Paulo:20290612T090000
DTEND;TZID=America/Sao_Paulo:20290612T120000
DTSTAMP:20260421T205038
CREATED:20260104T195532Z
LAST-MODIFIED:20260104T202854Z
UID:10004516-1875949200-1875960000@icbetuel.com.br
SUMMARY:Oração e Consagração
DESCRIPTION:
URL:https://icbetuel.com.br/evento/oracao-e-consagracao-por-essa-causa-eu-me-colcoo-de-joelhos-2/2029-06-12/
LOCATION:Igreja Cristã Betuel\, Estrada de Jacarepaguá\, 7020 - Anil\, Rio de Janeiro\, Rio de Janeiro\, 22755145
ATTACH;FMTTYPE=image/jpeg:https://icbetuel.com.br/wp-content/uploads/2026/01/Consagracao-tela-.jpg
END:VEVENT
BEGIN:VEVENT
DTSTART;TZID=America/Sao_Paulo:20290614T193000
DTEND;TZID=America/Sao_Paulo:20290614T213000
DTSTAMP:20260421T205038
CREATED:20260104T202804Z
LAST-MODIFIED:20260104T202804Z
UID:10005092-1876159800-1876167000@icbetuel.com.br
SUMMARY:Culto do Encontro com Deus
DESCRIPTION:
URL:https://icbetuel.com.br/evento/culto-do-encontro-com-deus/2029-06-14/
LOCATION:Igreja Cristã Betuel\, Estrada de Jacarepaguá\, 7020 - Anil\, Rio de Janeiro\, Rio de Janeiro\, 22755145
ATTACH;FMTTYPE=image/jpeg:https://icbetuel.com.br/wp-content/uploads/2026/01/Copia-de-Copia-de-Culto-encontro-com-Deus-0207-1920-x-1080-px.jpg
END:VEVENT
BEGIN:VEVENT
DTSTART;TZID=America/Sao_Paulo:20290617T090000
DTEND;TZID=America/Sao_Paulo:20290617T100000
DTSTAMP:20260421T205038
CREATED:20260104T195708Z
LAST-MODIFIED:20260104T203034Z
UID:10004777-1876381200-1876384800@icbetuel.com.br
SUMMARY:Escola Bíblica
DESCRIPTION:
URL:https://icbetuel.com.br/evento/escola-biblica-2-2/2029-06-17/
LOCATION:Igreja Cristã Betuel\, Estrada de Jacarepaguá\, 7020 - Anil\, Rio de Janeiro\, Rio de Janeiro\, 22755145
ATTACH;FMTTYPE=image/jpeg:https://icbetuel.com.br/wp-content/uploads/2026/01/Escola-biblica-2026-tela.jpg
END:VEVENT
BEGIN:VEVENT
DTSTART;TZID=America/Sao_Paulo:20290617T100000
DTEND;TZID=America/Sao_Paulo:20290617T130000
DTSTAMP:20260421T205038
CREATED:20240810T152256Z
LAST-MODIFIED:20240810T152609Z
UID:10003094-1876384800-1876395600@icbetuel.com.br
SUMMARY:Culto da Família
DESCRIPTION:
URL:https://icbetuel.com.br/evento/culto-da-familia-2/2029-06-17/
LOCATION:Igreja Cristã Betuel\, Estrada de Jacarepaguá\, 7020 - Anil\, Rio de Janeiro\, Rio de Janeiro\, 22755145
ATTACH;FMTTYPE=image/jpeg:https://icbetuel.com.br/wp-content/uploads/2024/03/Culto-da-Familia.jpeg
END:VEVENT
BEGIN:VEVENT
DTSTART;TZID=America/Sao_Paulo:20290617T180000
DTEND;TZID=America/Sao_Paulo:20290617T203000
DTSTAMP:20260421T205038
CREATED:20260104T214951Z
LAST-MODIFIED:20260104T214951Z
UID:10002832-1876413600-1876422600@icbetuel.com.br
SUMMARY:Culto da Adoração
DESCRIPTION:
URL:https://icbetuel.com.br/evento/culto-da-adoracao-2/2029-06-17/
LOCATION:Igreja Cristã Betuel\, Estrada de Jacarepaguá\, 7020 - Anil\, Rio de Janeiro\, Rio de Janeiro\, 22755145
ATTACH;FMTTYPE=image/jpeg:https://icbetuel.com.br/wp-content/uploads/2024/07/Culto-da-adoracao-padrao-2025-1.jpg
END:VEVENT
BEGIN:VEVENT
DTSTART;TZID=America/Sao_Paulo:20290619T090000
DTEND;TZID=America/Sao_Paulo:20290619T120000
DTSTAMP:20260421T205038
CREATED:20260104T195532Z
LAST-MODIFIED:20260104T202854Z
UID:10004517-1876554000-1876564800@icbetuel.com.br
SUMMARY:Oração e Consagração
DESCRIPTION:
URL:https://icbetuel.com.br/evento/oracao-e-consagracao-por-essa-causa-eu-me-colcoo-de-joelhos-2/2029-06-19/
LOCATION:Igreja Cristã Betuel\, Estrada de Jacarepaguá\, 7020 - Anil\, Rio de Janeiro\, Rio de Janeiro\, 22755145
ATTACH;FMTTYPE=image/jpeg:https://icbetuel.com.br/wp-content/uploads/2026/01/Consagracao-tela-.jpg
END:VEVENT
BEGIN:VEVENT
DTSTART;TZID=America/Sao_Paulo:20290621T193000
DTEND;TZID=America/Sao_Paulo:20290621T213000
DTSTAMP:20260421T205038
CREATED:20260104T202804Z
LAST-MODIFIED:20260104T202804Z
UID:10005093-1876764600-1876771800@icbetuel.com.br
SUMMARY:Culto do Encontro com Deus
DESCRIPTION:
URL:https://icbetuel.com.br/evento/culto-do-encontro-com-deus/2029-06-21/
LOCATION:Igreja Cristã Betuel\, Estrada de Jacarepaguá\, 7020 - Anil\, Rio de Janeiro\, Rio de Janeiro\, 22755145
ATTACH;FMTTYPE=image/jpeg:https://icbetuel.com.br/wp-content/uploads/2026/01/Copia-de-Copia-de-Culto-encontro-com-Deus-0207-1920-x-1080-px.jpg
END:VEVENT
BEGIN:VEVENT
DTSTART;TZID=America/Sao_Paulo:20290624T090000
DTEND;TZID=America/Sao_Paulo:20290624T100000
DTSTAMP:20260421T205038
CREATED:20260104T195708Z
LAST-MODIFIED:20260104T203034Z
UID:10004778-1876986000-1876989600@icbetuel.com.br
SUMMARY:Escola Bíblica
DESCRIPTION:
URL:https://icbetuel.com.br/evento/escola-biblica-2-2/2029-06-24/
LOCATION:Igreja Cristã Betuel\, Estrada de Jacarepaguá\, 7020 - Anil\, Rio de Janeiro\, Rio de Janeiro\, 22755145
ATTACH;FMTTYPE=image/jpeg:https://icbetuel.com.br/wp-content/uploads/2026/01/Escola-biblica-2026-tela.jpg
END:VEVENT
BEGIN:VEVENT
DTSTART;TZID=America/Sao_Paulo:20290624T100000
DTEND;TZID=America/Sao_Paulo:20290624T130000
DTSTAMP:20260421T205038
CREATED:20240810T152256Z
LAST-MODIFIED:20240810T152609Z
UID:10003095-1876989600-1877000400@icbetuel.com.br
SUMMARY:Culto da Família
DESCRIPTION:
URL:https://icbetuel.com.br/evento/culto-da-familia-2/2029-06-24/
LOCATION:Igreja Cristã Betuel\, Estrada de Jacarepaguá\, 7020 - Anil\, Rio de Janeiro\, Rio de Janeiro\, 22755145
ATTACH;FMTTYPE=image/jpeg:https://icbetuel.com.br/wp-content/uploads/2024/03/Culto-da-Familia.jpeg
END:VEVENT
BEGIN:VEVENT
DTSTART;TZID=America/Sao_Paulo:20290624T180000
DTEND;TZID=America/Sao_Paulo:20290624T203000
DTSTAMP:20260421T205038
CREATED:20260104T214951Z
LAST-MODIFIED:20260104T214951Z
UID:10002833-1877018400-1877027400@icbetuel.com.br
SUMMARY:Culto da Adoração
DESCRIPTION:
URL:https://icbetuel.com.br/evento/culto-da-adoracao-2/2029-06-24/
LOCATION:Igreja Cristã Betuel\, Estrada de Jacarepaguá\, 7020 - Anil\, Rio de Janeiro\, Rio de Janeiro\, 22755145
ATTACH;FMTTYPE=image/jpeg:https://icbetuel.com.br/wp-content/uploads/2024/07/Culto-da-adoracao-padrao-2025-1.jpg
END:VEVENT
BEGIN:VEVENT
DTSTART;TZID=America/Sao_Paulo:20290626T090000
DTEND;TZID=America/Sao_Paulo:20290626T120000
DTSTAMP:20260421T205038
CREATED:20260104T195532Z
LAST-MODIFIED:20260104T202854Z
UID:10004518-1877158800-1877169600@icbetuel.com.br
SUMMARY:Oração e Consagração
DESCRIPTION:
URL:https://icbetuel.com.br/evento/oracao-e-consagracao-por-essa-causa-eu-me-colcoo-de-joelhos-2/2029-06-26/
LOCATION:Igreja Cristã Betuel\, Estrada de Jacarepaguá\, 7020 - Anil\, Rio de Janeiro\, Rio de Janeiro\, 22755145
ATTACH;FMTTYPE=image/jpeg:https://icbetuel.com.br/wp-content/uploads/2026/01/Consagracao-tela-.jpg
END:VEVENT
BEGIN:VEVENT
DTSTART;TZID=America/Sao_Paulo:20290628T193000
DTEND;TZID=America/Sao_Paulo:20290628T213000
DTSTAMP:20260421T205038
CREATED:20260104T202804Z
LAST-MODIFIED:20260104T202804Z
UID:10005094-1877369400-1877376600@icbetuel.com.br
SUMMARY:Culto do Encontro com Deus
DESCRIPTION:
URL:https://icbetuel.com.br/evento/culto-do-encontro-com-deus/2029-06-28/
LOCATION:Igreja Cristã Betuel\, Estrada de Jacarepaguá\, 7020 - Anil\, Rio de Janeiro\, Rio de Janeiro\, 22755145
ATTACH;FMTTYPE=image/jpeg:https://icbetuel.com.br/wp-content/uploads/2026/01/Copia-de-Copia-de-Culto-encontro-com-Deus-0207-1920-x-1080-px.jpg
END:VEVENT
BEGIN:VEVENT
DTSTART;TZID=America/Sao_Paulo:20290701T090000
DTEND;TZID=America/Sao_Paulo:20290701T100000
DTSTAMP:20260421T205038
CREATED:20260104T195708Z
LAST-MODIFIED:20260104T203034Z
UID:10004779-1877590800-1877594400@icbetuel.com.br
SUMMARY:Escola Bíblica
DESCRIPTION:
URL:https://icbetuel.com.br/evento/escola-biblica-2-2/2029-07-01/
LOCATION:Igreja Cristã Betuel\, Estrada de Jacarepaguá\, 7020 - Anil\, Rio de Janeiro\, Rio de Janeiro\, 22755145
ATTACH;FMTTYPE=image/jpeg:https://icbetuel.com.br/wp-content/uploads/2026/01/Escola-biblica-2026-tela.jpg
END:VEVENT
BEGIN:VEVENT
DTSTART;TZID=America/Sao_Paulo:20290701T100000
DTEND;TZID=America/Sao_Paulo:20290701T130000
DTSTAMP:20260421T205038
CREATED:20240810T152256Z
LAST-MODIFIED:20240810T152609Z
UID:10003096-1877594400-1877605200@icbetuel.com.br
SUMMARY:Culto da Família
DESCRIPTION:
URL:https://icbetuel.com.br/evento/culto-da-familia-2/2029-07-01/
LOCATION:Igreja Cristã Betuel\, Estrada de Jacarepaguá\, 7020 - Anil\, Rio de Janeiro\, Rio de Janeiro\, 22755145
ATTACH;FMTTYPE=image/jpeg:https://icbetuel.com.br/wp-content/uploads/2024/03/Culto-da-Familia.jpeg
END:VEVENT
BEGIN:VEVENT
DTSTART;TZID=America/Sao_Paulo:20290701T180000
DTEND;TZID=America/Sao_Paulo:20290701T203000
DTSTAMP:20260421T205038
CREATED:20260104T214951Z
LAST-MODIFIED:20260104T214951Z
UID:10002834-1877623200-1877632200@icbetuel.com.br
SUMMARY:Culto da Adoração
DESCRIPTION:
URL:https://icbetuel.com.br/evento/culto-da-adoracao-2/2029-07-01/
LOCATION:Igreja Cristã Betuel\, Estrada de Jacarepaguá\, 7020 - Anil\, Rio de Janeiro\, Rio de Janeiro\, 22755145
ATTACH;FMTTYPE=image/jpeg:https://icbetuel.com.br/wp-content/uploads/2024/07/Culto-da-adoracao-padrao-2025-1.jpg
END:VEVENT
BEGIN:VEVENT
DTSTART;TZID=America/Sao_Paulo:20290703T090000
DTEND;TZID=America/Sao_Paulo:20290703T120000
DTSTAMP:20260421T205038
CREATED:20260104T195532Z
LAST-MODIFIED:20260104T202854Z
UID:10004519-1877763600-1877774400@icbetuel.com.br
SUMMARY:Oração e Consagração
DESCRIPTION:
URL:https://icbetuel.com.br/evento/oracao-e-consagracao-por-essa-causa-eu-me-colcoo-de-joelhos-2/2029-07-03/
LOCATION:Igreja Cristã Betuel\, Estrada de Jacarepaguá\, 7020 - Anil\, Rio de Janeiro\, Rio de Janeiro\, 22755145
ATTACH;FMTTYPE=image/jpeg:https://icbetuel.com.br/wp-content/uploads/2026/01/Consagracao-tela-.jpg
END:VEVENT
BEGIN:VEVENT
DTSTART;TZID=America/Sao_Paulo:20290705T193000
DTEND;TZID=America/Sao_Paulo:20290705T213000
DTSTAMP:20260421T205038
CREATED:20260104T202804Z
LAST-MODIFIED:20260104T202804Z
UID:10005095-1877974200-1877981400@icbetuel.com.br
SUMMARY:Culto do Encontro com Deus
DESCRIPTION:
URL:https://icbetuel.com.br/evento/culto-do-encontro-com-deus/2029-07-05/
LOCATION:Igreja Cristã Betuel\, Estrada de Jacarepaguá\, 7020 - Anil\, Rio de Janeiro\, Rio de Janeiro\, 22755145
ATTACH;FMTTYPE=image/jpeg:https://icbetuel.com.br/wp-content/uploads/2026/01/Copia-de-Copia-de-Culto-encontro-com-Deus-0207-1920-x-1080-px.jpg
END:VEVENT
BEGIN:VEVENT
DTSTART;TZID=America/Sao_Paulo:20290708T090000
DTEND;TZID=America/Sao_Paulo:20290708T100000
DTSTAMP:20260421T205039
CREATED:20260104T195708Z
LAST-MODIFIED:20260104T203034Z
UID:10004780-1878195600-1878199200@icbetuel.com.br
SUMMARY:Escola Bíblica
DESCRIPTION:
URL:https://icbetuel.com.br/evento/escola-biblica-2-2/2029-07-08/
LOCATION:Igreja Cristã Betuel\, Estrada de Jacarepaguá\, 7020 - Anil\, Rio de Janeiro\, Rio de Janeiro\, 22755145
ATTACH;FMTTYPE=image/jpeg:https://icbetuel.com.br/wp-content/uploads/2026/01/Escola-biblica-2026-tela.jpg
END:VEVENT
BEGIN:VEVENT
DTSTART;TZID=America/Sao_Paulo:20290708T100000
DTEND;TZID=America/Sao_Paulo:20290708T120000
DTSTAMP:20260421T205039
CREATED:20240418T143212Z
LAST-MODIFIED:20240810T152751Z
UID:10003422-1878199200-1878206400@icbetuel.com.br
SUMMARY:Santa Ceia - Manhã
DESCRIPTION:
URL:https://icbetuel.com.br/evento/santa-ceia/2029-07-08/
LOCATION:Igreja Cristã Betuel\, Estrada de Jacarepaguá\, 7020 - Anil\, Rio de Janeiro\, Rio de Janeiro\, 22755145
ATTACH;FMTTYPE=image/jpeg:https://icbetuel.com.br/wp-content/uploads/2024/04/Culto-de-Santa-Ceia.jpg
END:VEVENT
BEGIN:VEVENT
DTSTART;TZID=America/Sao_Paulo:20290708T180000
DTEND;TZID=America/Sao_Paulo:20290708T200000
DTSTAMP:20260421T205039
CREATED:20240810T152855Z
LAST-MODIFIED:20240810T154358Z
UID:10003543-1878228000-1878235200@icbetuel.com.br
SUMMARY:Santa Ceia - Noite
DESCRIPTION:
URL:https://icbetuel.com.br/evento/santa-ceia-noite/2029-07-08/
LOCATION:Igreja Cristã Betuel\, Estrada de Jacarepaguá\, 7020 - Anil\, Rio de Janeiro\, Rio de Janeiro\, 22755145
ATTACH;FMTTYPE=image/png:https://icbetuel.com.br/wp-content/uploads/2024/08/Culto-de-santa-ceia-arte-fixa.png
END:VEVENT
BEGIN:VEVENT
DTSTART;TZID=America/Sao_Paulo:20290710T090000
DTEND;TZID=America/Sao_Paulo:20290710T120000
DTSTAMP:20260421T205039
CREATED:20260104T195532Z
LAST-MODIFIED:20260104T202854Z
UID:10004520-1878368400-1878379200@icbetuel.com.br
SUMMARY:Oração e Consagração
DESCRIPTION:
URL:https://icbetuel.com.br/evento/oracao-e-consagracao-por-essa-causa-eu-me-colcoo-de-joelhos-2/2029-07-10/
LOCATION:Igreja Cristã Betuel\, Estrada de Jacarepaguá\, 7020 - Anil\, Rio de Janeiro\, Rio de Janeiro\, 22755145
ATTACH;FMTTYPE=image/jpeg:https://icbetuel.com.br/wp-content/uploads/2026/01/Consagracao-tela-.jpg
END:VEVENT
BEGIN:VEVENT
DTSTART;TZID=America/Sao_Paulo:20290712T193000
DTEND;TZID=America/Sao_Paulo:20290712T213000
DTSTAMP:20260421T205039
CREATED:20260104T202804Z
LAST-MODIFIED:20260104T202804Z
UID:10005096-1878579000-1878586200@icbetuel.com.br
SUMMARY:Culto do Encontro com Deus
DESCRIPTION:
URL:https://icbetuel.com.br/evento/culto-do-encontro-com-deus/2029-07-12/
LOCATION:Igreja Cristã Betuel\, Estrada de Jacarepaguá\, 7020 - Anil\, Rio de Janeiro\, Rio de Janeiro\, 22755145
ATTACH;FMTTYPE=image/jpeg:https://icbetuel.com.br/wp-content/uploads/2026/01/Copia-de-Copia-de-Culto-encontro-com-Deus-0207-1920-x-1080-px.jpg
END:VEVENT
END:VCALENDAR