BEGIN:VCALENDAR
VERSION:2.0
PRODID:-//Betuel - ECPv6.6.0.2//NONSGML v1.0//EN
CALSCALE:GREGORIAN
METHOD:PUBLISH
X-WR-CALNAME:Betuel
X-ORIGINAL-URL:https://icbetuel.com.br
X-WR-CALDESC:Eventos para Betuel
REFRESH-INTERVAL;VALUE=DURATION:PT1H
X-Robots-Tag:noindex
X-PUBLISHED-TTL:PT1H
BEGIN:VTIMEZONE
TZID:America/Sao_Paulo
BEGIN:STANDARD
TZOFFSETFROM:-0300
TZOFFSETTO:-0300
TZNAME:-03
DTSTART:20290101T000000
END:STANDARD
END:VTIMEZONE
BEGIN:VEVENT
DTSTART;TZID=America/Sao_Paulo:20290429T100000
DTEND;TZID=America/Sao_Paulo:20290429T130000
DTSTAMP:20260421T175645
CREATED:20240810T152256Z
LAST-MODIFIED:20240810T152609Z
UID:10003087-1872151200-1872162000@icbetuel.com.br
SUMMARY:Culto da Família
DESCRIPTION:
URL:https://icbetuel.com.br/evento/culto-da-familia-2/2029-04-29/
LOCATION:Igreja Cristã Betuel\, Estrada de Jacarepaguá\, 7020 - Anil\, Rio de Janeiro\, Rio de Janeiro\, 22755145
ATTACH;FMTTYPE=image/jpeg:https://icbetuel.com.br/wp-content/uploads/2024/03/Culto-da-Familia.jpeg
END:VEVENT
BEGIN:VEVENT
DTSTART;TZID=America/Sao_Paulo:20290429T180000
DTEND;TZID=America/Sao_Paulo:20290429T203000
DTSTAMP:20260421T175645
CREATED:20260104T214951Z
LAST-MODIFIED:20260104T214951Z
UID:10002825-1872180000-1872189000@icbetuel.com.br
SUMMARY:Culto da Adoração
DESCRIPTION:
URL:https://icbetuel.com.br/evento/culto-da-adoracao-2/2029-04-29/
LOCATION:Igreja Cristã Betuel\, Estrada de Jacarepaguá\, 7020 - Anil\, Rio de Janeiro\, Rio de Janeiro\, 22755145
ATTACH;FMTTYPE=image/jpeg:https://icbetuel.com.br/wp-content/uploads/2024/07/Culto-da-adoracao-padrao-2025-1.jpg
END:VEVENT
BEGIN:VEVENT
DTSTART;TZID=America/Sao_Paulo:20290501T090000
DTEND;TZID=America/Sao_Paulo:20290501T120000
DTSTAMP:20260421T175645
CREATED:20260104T195532Z
LAST-MODIFIED:20260104T202854Z
UID:10004510-1872320400-1872331200@icbetuel.com.br
SUMMARY:Oração e Consagração
DESCRIPTION:
URL:https://icbetuel.com.br/evento/oracao-e-consagracao-por-essa-causa-eu-me-colcoo-de-joelhos-2/2029-05-01/
LOCATION:Igreja Cristã Betuel\, Estrada de Jacarepaguá\, 7020 - Anil\, Rio de Janeiro\, Rio de Janeiro\, 22755145
ATTACH;FMTTYPE=image/jpeg:https://icbetuel.com.br/wp-content/uploads/2026/01/Consagracao-tela-.jpg
END:VEVENT
BEGIN:VEVENT
DTSTART;TZID=America/Sao_Paulo:20290503T193000
DTEND;TZID=America/Sao_Paulo:20290503T213000
DTSTAMP:20260421T175645
CREATED:20260104T202804Z
LAST-MODIFIED:20260104T202804Z
UID:10005086-1872531000-1872538200@icbetuel.com.br
SUMMARY:Culto do Encontro com Deus
DESCRIPTION:
URL:https://icbetuel.com.br/evento/culto-do-encontro-com-deus/2029-05-03/
LOCATION:Igreja Cristã Betuel\, Estrada de Jacarepaguá\, 7020 - Anil\, Rio de Janeiro\, Rio de Janeiro\, 22755145
ATTACH;FMTTYPE=image/jpeg:https://icbetuel.com.br/wp-content/uploads/2026/01/Copia-de-Copia-de-Culto-encontro-com-Deus-0207-1920-x-1080-px.jpg
END:VEVENT
BEGIN:VEVENT
DTSTART;TZID=America/Sao_Paulo:20290506T090000
DTEND;TZID=America/Sao_Paulo:20290506T100000
DTSTAMP:20260421T175645
CREATED:20260104T195708Z
LAST-MODIFIED:20260104T203034Z
UID:10004771-1872752400-1872756000@icbetuel.com.br
SUMMARY:Escola Bíblica
DESCRIPTION:
URL:https://icbetuel.com.br/evento/escola-biblica-2-2/2029-05-06/
LOCATION:Igreja Cristã Betuel\, Estrada de Jacarepaguá\, 7020 - Anil\, Rio de Janeiro\, Rio de Janeiro\, 22755145
ATTACH;FMTTYPE=image/jpeg:https://icbetuel.com.br/wp-content/uploads/2026/01/Escola-biblica-2026-tela.jpg
END:VEVENT
BEGIN:VEVENT
DTSTART;TZID=America/Sao_Paulo:20290506T100000
DTEND;TZID=America/Sao_Paulo:20290506T130000
DTSTAMP:20260421T175645
CREATED:20240810T152256Z
LAST-MODIFIED:20240810T152609Z
UID:10003088-1872756000-1872766800@icbetuel.com.br
SUMMARY:Culto da Família
DESCRIPTION:
URL:https://icbetuel.com.br/evento/culto-da-familia-2/2029-05-06/
LOCATION:Igreja Cristã Betuel\, Estrada de Jacarepaguá\, 7020 - Anil\, Rio de Janeiro\, Rio de Janeiro\, 22755145
ATTACH;FMTTYPE=image/jpeg:https://icbetuel.com.br/wp-content/uploads/2024/03/Culto-da-Familia.jpeg
END:VEVENT
BEGIN:VEVENT
DTSTART;TZID=America/Sao_Paulo:20290506T180000
DTEND;TZID=America/Sao_Paulo:20290506T203000
DTSTAMP:20260421T175645
CREATED:20260104T214951Z
LAST-MODIFIED:20260104T214951Z
UID:10002826-1872784800-1872793800@icbetuel.com.br
SUMMARY:Culto da Adoração
DESCRIPTION:
URL:https://icbetuel.com.br/evento/culto-da-adoracao-2/2029-05-06/
LOCATION:Igreja Cristã Betuel\, Estrada de Jacarepaguá\, 7020 - Anil\, Rio de Janeiro\, Rio de Janeiro\, 22755145
ATTACH;FMTTYPE=image/jpeg:https://icbetuel.com.br/wp-content/uploads/2024/07/Culto-da-adoracao-padrao-2025-1.jpg
END:VEVENT
BEGIN:VEVENT
DTSTART;TZID=America/Sao_Paulo:20290508T090000
DTEND;TZID=America/Sao_Paulo:20290508T120000
DTSTAMP:20260421T175645
CREATED:20260104T195532Z
LAST-MODIFIED:20260104T202854Z
UID:10004511-1872925200-1872936000@icbetuel.com.br
SUMMARY:Oração e Consagração
DESCRIPTION:
URL:https://icbetuel.com.br/evento/oracao-e-consagracao-por-essa-causa-eu-me-colcoo-de-joelhos-2/2029-05-08/
LOCATION:Igreja Cristã Betuel\, Estrada de Jacarepaguá\, 7020 - Anil\, Rio de Janeiro\, Rio de Janeiro\, 22755145
ATTACH;FMTTYPE=image/jpeg:https://icbetuel.com.br/wp-content/uploads/2026/01/Consagracao-tela-.jpg
END:VEVENT
BEGIN:VEVENT
DTSTART;TZID=America/Sao_Paulo:20290510T193000
DTEND;TZID=America/Sao_Paulo:20290510T213000
DTSTAMP:20260421T175645
CREATED:20260104T202804Z
LAST-MODIFIED:20260104T202804Z
UID:10005087-1873135800-1873143000@icbetuel.com.br
SUMMARY:Culto do Encontro com Deus
DESCRIPTION:
URL:https://icbetuel.com.br/evento/culto-do-encontro-com-deus/2029-05-10/
LOCATION:Igreja Cristã Betuel\, Estrada de Jacarepaguá\, 7020 - Anil\, Rio de Janeiro\, Rio de Janeiro\, 22755145
ATTACH;FMTTYPE=image/jpeg:https://icbetuel.com.br/wp-content/uploads/2026/01/Copia-de-Copia-de-Culto-encontro-com-Deus-0207-1920-x-1080-px.jpg
END:VEVENT
BEGIN:VEVENT
DTSTART;TZID=America/Sao_Paulo:20290513T090000
DTEND;TZID=America/Sao_Paulo:20290513T100000
DTSTAMP:20260421T175645
CREATED:20260104T195708Z
LAST-MODIFIED:20260104T203034Z
UID:10004772-1873357200-1873360800@icbetuel.com.br
SUMMARY:Escola Bíblica
DESCRIPTION:
URL:https://icbetuel.com.br/evento/escola-biblica-2-2/2029-05-13/
LOCATION:Igreja Cristã Betuel\, Estrada de Jacarepaguá\, 7020 - Anil\, Rio de Janeiro\, Rio de Janeiro\, 22755145
ATTACH;FMTTYPE=image/jpeg:https://icbetuel.com.br/wp-content/uploads/2026/01/Escola-biblica-2026-tela.jpg
END:VEVENT
BEGIN:VEVENT
DTSTART;TZID=America/Sao_Paulo:20290513T100000
DTEND;TZID=America/Sao_Paulo:20290513T120000
DTSTAMP:20260421T175645
CREATED:20240418T143212Z
LAST-MODIFIED:20240810T152751Z
UID:10003420-1873360800-1873368000@icbetuel.com.br
SUMMARY:Santa Ceia - Manhã
DESCRIPTION:
URL:https://icbetuel.com.br/evento/santa-ceia/2029-05-13/
LOCATION:Igreja Cristã Betuel\, Estrada de Jacarepaguá\, 7020 - Anil\, Rio de Janeiro\, Rio de Janeiro\, 22755145
ATTACH;FMTTYPE=image/jpeg:https://icbetuel.com.br/wp-content/uploads/2024/04/Culto-de-Santa-Ceia.jpg
END:VEVENT
BEGIN:VEVENT
DTSTART;TZID=America/Sao_Paulo:20290513T180000
DTEND;TZID=America/Sao_Paulo:20290513T200000
DTSTAMP:20260421T175645
CREATED:20240810T152855Z
LAST-MODIFIED:20240810T154358Z
UID:10003541-1873389600-1873396800@icbetuel.com.br
SUMMARY:Santa Ceia - Noite
DESCRIPTION:
URL:https://icbetuel.com.br/evento/santa-ceia-noite/2029-05-13/
LOCATION:Igreja Cristã Betuel\, Estrada de Jacarepaguá\, 7020 - Anil\, Rio de Janeiro\, Rio de Janeiro\, 22755145
ATTACH;FMTTYPE=image/png:https://icbetuel.com.br/wp-content/uploads/2024/08/Culto-de-santa-ceia-arte-fixa.png
END:VEVENT
BEGIN:VEVENT
DTSTART;TZID=America/Sao_Paulo:20290515T090000
DTEND;TZID=America/Sao_Paulo:20290515T120000
DTSTAMP:20260421T175645
CREATED:20260104T195532Z
LAST-MODIFIED:20260104T202854Z
UID:10004512-1873530000-1873540800@icbetuel.com.br
SUMMARY:Oração e Consagração
DESCRIPTION:
URL:https://icbetuel.com.br/evento/oracao-e-consagracao-por-essa-causa-eu-me-colcoo-de-joelhos-2/2029-05-15/
LOCATION:Igreja Cristã Betuel\, Estrada de Jacarepaguá\, 7020 - Anil\, Rio de Janeiro\, Rio de Janeiro\, 22755145
ATTACH;FMTTYPE=image/jpeg:https://icbetuel.com.br/wp-content/uploads/2026/01/Consagracao-tela-.jpg
END:VEVENT
BEGIN:VEVENT
DTSTART;TZID=America/Sao_Paulo:20290517T193000
DTEND;TZID=America/Sao_Paulo:20290517T213000
DTSTAMP:20260421T175645
CREATED:20260104T202804Z
LAST-MODIFIED:20260104T202804Z
UID:10005088-1873740600-1873747800@icbetuel.com.br
SUMMARY:Culto do Encontro com Deus
DESCRIPTION:
URL:https://icbetuel.com.br/evento/culto-do-encontro-com-deus/2029-05-17/
LOCATION:Igreja Cristã Betuel\, Estrada de Jacarepaguá\, 7020 - Anil\, Rio de Janeiro\, Rio de Janeiro\, 22755145
ATTACH;FMTTYPE=image/jpeg:https://icbetuel.com.br/wp-content/uploads/2026/01/Copia-de-Copia-de-Culto-encontro-com-Deus-0207-1920-x-1080-px.jpg
END:VEVENT
BEGIN:VEVENT
DTSTART;TZID=America/Sao_Paulo:20290520T090000
DTEND;TZID=America/Sao_Paulo:20290520T100000
DTSTAMP:20260421T175645
CREATED:20260104T195708Z
LAST-MODIFIED:20260104T203034Z
UID:10004773-1873962000-1873965600@icbetuel.com.br
SUMMARY:Escola Bíblica
DESCRIPTION:
URL:https://icbetuel.com.br/evento/escola-biblica-2-2/2029-05-20/
LOCATION:Igreja Cristã Betuel\, Estrada de Jacarepaguá\, 7020 - Anil\, Rio de Janeiro\, Rio de Janeiro\, 22755145
ATTACH;FMTTYPE=image/jpeg:https://icbetuel.com.br/wp-content/uploads/2026/01/Escola-biblica-2026-tela.jpg
END:VEVENT
BEGIN:VEVENT
DTSTART;TZID=America/Sao_Paulo:20290520T100000
DTEND;TZID=America/Sao_Paulo:20290520T130000
DTSTAMP:20260421T175645
CREATED:20240810T152256Z
LAST-MODIFIED:20240810T152609Z
UID:10003090-1873965600-1873976400@icbetuel.com.br
SUMMARY:Culto da Família
DESCRIPTION:
URL:https://icbetuel.com.br/evento/culto-da-familia-2/2029-05-20/
LOCATION:Igreja Cristã Betuel\, Estrada de Jacarepaguá\, 7020 - Anil\, Rio de Janeiro\, Rio de Janeiro\, 22755145
ATTACH;FMTTYPE=image/jpeg:https://icbetuel.com.br/wp-content/uploads/2024/03/Culto-da-Familia.jpeg
END:VEVENT
BEGIN:VEVENT
DTSTART;TZID=America/Sao_Paulo:20290520T180000
DTEND;TZID=America/Sao_Paulo:20290520T203000
DTSTAMP:20260421T175645
CREATED:20260104T214951Z
LAST-MODIFIED:20260104T214951Z
UID:10002828-1873994400-1874003400@icbetuel.com.br
SUMMARY:Culto da Adoração
DESCRIPTION:
URL:https://icbetuel.com.br/evento/culto-da-adoracao-2/2029-05-20/
LOCATION:Igreja Cristã Betuel\, Estrada de Jacarepaguá\, 7020 - Anil\, Rio de Janeiro\, Rio de Janeiro\, 22755145
ATTACH;FMTTYPE=image/jpeg:https://icbetuel.com.br/wp-content/uploads/2024/07/Culto-da-adoracao-padrao-2025-1.jpg
END:VEVENT
BEGIN:VEVENT
DTSTART;TZID=America/Sao_Paulo:20290522T090000
DTEND;TZID=America/Sao_Paulo:20290522T120000
DTSTAMP:20260421T175645
CREATED:20260104T195532Z
LAST-MODIFIED:20260104T202854Z
UID:10004513-1874134800-1874145600@icbetuel.com.br
SUMMARY:Oração e Consagração
DESCRIPTION:
URL:https://icbetuel.com.br/evento/oracao-e-consagracao-por-essa-causa-eu-me-colcoo-de-joelhos-2/2029-05-22/
LOCATION:Igreja Cristã Betuel\, Estrada de Jacarepaguá\, 7020 - Anil\, Rio de Janeiro\, Rio de Janeiro\, 22755145
ATTACH;FMTTYPE=image/jpeg:https://icbetuel.com.br/wp-content/uploads/2026/01/Consagracao-tela-.jpg
END:VEVENT
BEGIN:VEVENT
DTSTART;TZID=America/Sao_Paulo:20290524T193000
DTEND;TZID=America/Sao_Paulo:20290524T213000
DTSTAMP:20260421T175645
CREATED:20260104T202804Z
LAST-MODIFIED:20260104T202804Z
UID:10005089-1874345400-1874352600@icbetuel.com.br
SUMMARY:Culto do Encontro com Deus
DESCRIPTION:
URL:https://icbetuel.com.br/evento/culto-do-encontro-com-deus/2029-05-24/
LOCATION:Igreja Cristã Betuel\, Estrada de Jacarepaguá\, 7020 - Anil\, Rio de Janeiro\, Rio de Janeiro\, 22755145
ATTACH;FMTTYPE=image/jpeg:https://icbetuel.com.br/wp-content/uploads/2026/01/Copia-de-Copia-de-Culto-encontro-com-Deus-0207-1920-x-1080-px.jpg
END:VEVENT
BEGIN:VEVENT
DTSTART;TZID=America/Sao_Paulo:20290527T090000
DTEND;TZID=America/Sao_Paulo:20290527T100000
DTSTAMP:20260421T175645
CREATED:20260104T195708Z
LAST-MODIFIED:20260104T203034Z
UID:10004774-1874566800-1874570400@icbetuel.com.br
SUMMARY:Escola Bíblica
DESCRIPTION:
URL:https://icbetuel.com.br/evento/escola-biblica-2-2/2029-05-27/
LOCATION:Igreja Cristã Betuel\, Estrada de Jacarepaguá\, 7020 - Anil\, Rio de Janeiro\, Rio de Janeiro\, 22755145
ATTACH;FMTTYPE=image/jpeg:https://icbetuel.com.br/wp-content/uploads/2026/01/Escola-biblica-2026-tela.jpg
END:VEVENT
BEGIN:VEVENT
DTSTART;TZID=America/Sao_Paulo:20290527T100000
DTEND;TZID=America/Sao_Paulo:20290527T130000
DTSTAMP:20260421T175645
CREATED:20240810T152256Z
LAST-MODIFIED:20240810T152609Z
UID:10003091-1874570400-1874581200@icbetuel.com.br
SUMMARY:Culto da Família
DESCRIPTION:
URL:https://icbetuel.com.br/evento/culto-da-familia-2/2029-05-27/
LOCATION:Igreja Cristã Betuel\, Estrada de Jacarepaguá\, 7020 - Anil\, Rio de Janeiro\, Rio de Janeiro\, 22755145
ATTACH;FMTTYPE=image/jpeg:https://icbetuel.com.br/wp-content/uploads/2024/03/Culto-da-Familia.jpeg
END:VEVENT
BEGIN:VEVENT
DTSTART;TZID=America/Sao_Paulo:20290527T180000
DTEND;TZID=America/Sao_Paulo:20290527T203000
DTSTAMP:20260421T175645
CREATED:20260104T214951Z
LAST-MODIFIED:20260104T214951Z
UID:10002829-1874599200-1874608200@icbetuel.com.br
SUMMARY:Culto da Adoração
DESCRIPTION:
URL:https://icbetuel.com.br/evento/culto-da-adoracao-2/2029-05-27/
LOCATION:Igreja Cristã Betuel\, Estrada de Jacarepaguá\, 7020 - Anil\, Rio de Janeiro\, Rio de Janeiro\, 22755145
ATTACH;FMTTYPE=image/jpeg:https://icbetuel.com.br/wp-content/uploads/2024/07/Culto-da-adoracao-padrao-2025-1.jpg
END:VEVENT
BEGIN:VEVENT
DTSTART;TZID=America/Sao_Paulo:20290529T090000
DTEND;TZID=America/Sao_Paulo:20290529T120000
DTSTAMP:20260421T175645
CREATED:20260104T195532Z
LAST-MODIFIED:20260104T202854Z
UID:10004514-1874739600-1874750400@icbetuel.com.br
SUMMARY:Oração e Consagração
DESCRIPTION:
URL:https://icbetuel.com.br/evento/oracao-e-consagracao-por-essa-causa-eu-me-colcoo-de-joelhos-2/2029-05-29/
LOCATION:Igreja Cristã Betuel\, Estrada de Jacarepaguá\, 7020 - Anil\, Rio de Janeiro\, Rio de Janeiro\, 22755145
ATTACH;FMTTYPE=image/jpeg:https://icbetuel.com.br/wp-content/uploads/2026/01/Consagracao-tela-.jpg
END:VEVENT
BEGIN:VEVENT
DTSTART;TZID=America/Sao_Paulo:20290531T193000
DTEND;TZID=America/Sao_Paulo:20290531T213000
DTSTAMP:20260421T175645
CREATED:20260104T202804Z
LAST-MODIFIED:20260104T202804Z
UID:10005090-1874950200-1874957400@icbetuel.com.br
SUMMARY:Culto do Encontro com Deus
DESCRIPTION:
URL:https://icbetuel.com.br/evento/culto-do-encontro-com-deus/2029-05-31/
LOCATION:Igreja Cristã Betuel\, Estrada de Jacarepaguá\, 7020 - Anil\, Rio de Janeiro\, Rio de Janeiro\, 22755145
ATTACH;FMTTYPE=image/jpeg:https://icbetuel.com.br/wp-content/uploads/2026/01/Copia-de-Copia-de-Culto-encontro-com-Deus-0207-1920-x-1080-px.jpg
END:VEVENT
BEGIN:VEVENT
DTSTART;TZID=America/Sao_Paulo:20290603T090000
DTEND;TZID=America/Sao_Paulo:20290603T100000
DTSTAMP:20260421T175645
CREATED:20260104T195708Z
LAST-MODIFIED:20260104T203034Z
UID:10004775-1875171600-1875175200@icbetuel.com.br
SUMMARY:Escola Bíblica
DESCRIPTION:
URL:https://icbetuel.com.br/evento/escola-biblica-2-2/2029-06-03/
LOCATION:Igreja Cristã Betuel\, Estrada de Jacarepaguá\, 7020 - Anil\, Rio de Janeiro\, Rio de Janeiro\, 22755145
ATTACH;FMTTYPE=image/jpeg:https://icbetuel.com.br/wp-content/uploads/2026/01/Escola-biblica-2026-tela.jpg
END:VEVENT
BEGIN:VEVENT
DTSTART;TZID=America/Sao_Paulo:20290603T100000
DTEND;TZID=America/Sao_Paulo:20290603T130000
DTSTAMP:20260421T175645
CREATED:20240810T152256Z
LAST-MODIFIED:20240810T152609Z
UID:10003092-1875175200-1875186000@icbetuel.com.br
SUMMARY:Culto da Família
DESCRIPTION:
URL:https://icbetuel.com.br/evento/culto-da-familia-2/2029-06-03/
LOCATION:Igreja Cristã Betuel\, Estrada de Jacarepaguá\, 7020 - Anil\, Rio de Janeiro\, Rio de Janeiro\, 22755145
ATTACH;FMTTYPE=image/jpeg:https://icbetuel.com.br/wp-content/uploads/2024/03/Culto-da-Familia.jpeg
END:VEVENT
BEGIN:VEVENT
DTSTART;TZID=America/Sao_Paulo:20290603T180000
DTEND;TZID=America/Sao_Paulo:20290603T203000
DTSTAMP:20260421T175645
CREATED:20260104T214951Z
LAST-MODIFIED:20260104T214951Z
UID:10002830-1875204000-1875213000@icbetuel.com.br
SUMMARY:Culto da Adoração
DESCRIPTION:
URL:https://icbetuel.com.br/evento/culto-da-adoracao-2/2029-06-03/
LOCATION:Igreja Cristã Betuel\, Estrada de Jacarepaguá\, 7020 - Anil\, Rio de Janeiro\, Rio de Janeiro\, 22755145
ATTACH;FMTTYPE=image/jpeg:https://icbetuel.com.br/wp-content/uploads/2024/07/Culto-da-adoracao-padrao-2025-1.jpg
END:VEVENT
BEGIN:VEVENT
DTSTART;TZID=America/Sao_Paulo:20290605T090000
DTEND;TZID=America/Sao_Paulo:20290605T120000
DTSTAMP:20260421T175645
CREATED:20260104T195532Z
LAST-MODIFIED:20260104T202854Z
UID:10004515-1875344400-1875355200@icbetuel.com.br
SUMMARY:Oração e Consagração
DESCRIPTION:
URL:https://icbetuel.com.br/evento/oracao-e-consagracao-por-essa-causa-eu-me-colcoo-de-joelhos-2/2029-06-05/
LOCATION:Igreja Cristã Betuel\, Estrada de Jacarepaguá\, 7020 - Anil\, Rio de Janeiro\, Rio de Janeiro\, 22755145
ATTACH;FMTTYPE=image/jpeg:https://icbetuel.com.br/wp-content/uploads/2026/01/Consagracao-tela-.jpg
END:VEVENT
BEGIN:VEVENT
DTSTART;TZID=America/Sao_Paulo:20290607T193000
DTEND;TZID=America/Sao_Paulo:20290607T213000
DTSTAMP:20260421T175645
CREATED:20260104T202804Z
LAST-MODIFIED:20260104T202804Z
UID:10005091-1875555000-1875562200@icbetuel.com.br
SUMMARY:Culto do Encontro com Deus
DESCRIPTION:
URL:https://icbetuel.com.br/evento/culto-do-encontro-com-deus/2029-06-07/
LOCATION:Igreja Cristã Betuel\, Estrada de Jacarepaguá\, 7020 - Anil\, Rio de Janeiro\, Rio de Janeiro\, 22755145
ATTACH;FMTTYPE=image/jpeg:https://icbetuel.com.br/wp-content/uploads/2026/01/Copia-de-Copia-de-Culto-encontro-com-Deus-0207-1920-x-1080-px.jpg
END:VEVENT
BEGIN:VEVENT
DTSTART;TZID=America/Sao_Paulo:20290610T090000
DTEND;TZID=America/Sao_Paulo:20290610T100000
DTSTAMP:20260421T175645
CREATED:20260104T195708Z
LAST-MODIFIED:20260104T203034Z
UID:10004776-1875776400-1875780000@icbetuel.com.br
SUMMARY:Escola Bíblica
DESCRIPTION:
URL:https://icbetuel.com.br/evento/escola-biblica-2-2/2029-06-10/
LOCATION:Igreja Cristã Betuel\, Estrada de Jacarepaguá\, 7020 - Anil\, Rio de Janeiro\, Rio de Janeiro\, 22755145
ATTACH;FMTTYPE=image/jpeg:https://icbetuel.com.br/wp-content/uploads/2026/01/Escola-biblica-2026-tela.jpg
END:VEVENT
END:VCALENDAR