BEGIN:VCALENDAR
VERSION:2.0
PRODID:-//Betuel - ECPv6.6.0.2//NONSGML v1.0//EN
CALSCALE:GREGORIAN
METHOD:PUBLISH
X-WR-CALNAME:Betuel
X-ORIGINAL-URL:https://icbetuel.com.br
X-WR-CALDESC:Eventos para Betuel
REFRESH-INTERVAL;VALUE=DURATION:PT1H
X-Robots-Tag:noindex
X-PUBLISHED-TTL:PT1H
BEGIN:VTIMEZONE
TZID:America/Sao_Paulo
BEGIN:STANDARD
TZOFFSETFROM:-0300
TZOFFSETTO:-0300
TZNAME:-03
DTSTART:20250101T000000
END:STANDARD
END:VTIMEZONE
BEGIN:VEVENT
DTSTART;TZID=America/Sao_Paulo:20250814T090000
DTEND;TZID=America/Sao_Paulo:20250814T120000
DTSTAMP:20260421T222046
CREATED:20240329T200120Z
LAST-MODIFIED:20240810T151621Z
UID:10002107-1755162000-1755172800@icbetuel.com.br
SUMMARY:Oração e Consagração
DESCRIPTION:
URL:https://icbetuel.com.br/evento/oracao-e-consagracao-por-essa-causa-eu-me-colcoo-de-joelhos/2025-08-14/
LOCATION:Igreja Cristã Betuel\, Estrada de Jacarepaguá\, 7020 - Anil\, Rio de Janeiro\, Rio de Janeiro\, 22755145
ATTACH;FMTTYPE=image/jpeg:https://icbetuel.com.br/wp-content/uploads/2024/07/CONSAGRACAO-e1767556519879.jpg
END:VEVENT
BEGIN:VEVENT
DTSTART;TZID=America/Sao_Paulo:20250814T190000
DTEND;TZID=America/Sao_Paulo:20250814T213000
DTSTAMP:20260421T222046
CREATED:20250420T184641Z
LAST-MODIFIED:20250420T184726Z
UID:10004090-1755198000-1755207000@icbetuel.com.br
SUMMARY:Escola Bíblica
DESCRIPTION:
URL:https://icbetuel.com.br/evento/escola-biblica-2/2025-08-14/
LOCATION:Igreja Cristã Betuel\, Estrada de Jacarepaguá\, 7020 - Anil\, Rio de Janeiro\, Rio de Janeiro\, 22755145
ATTACH;FMTTYPE=image/jpeg:https://icbetuel.com.br/wp-content/uploads/2025/04/WhatsApp-Image-2025-04-03-at-21.17.28-e1767556594611.jpeg
END:VEVENT
BEGIN:VEVENT
DTSTART;TZID=America/Sao_Paulo:20250814T193000
DTEND;TZID=America/Sao_Paulo:20250814T220000
DTSTAMP:20260421T222046
CREATED:20240727T192909Z
LAST-MODIFIED:20240810T151823Z
UID:10002368-1755199800-1755208800@icbetuel.com.br
SUMMARY:Culto da Palavra
DESCRIPTION:
URL:https://icbetuel.com.br/evento/culto-da-palavra/2025-08-14/
LOCATION:Igreja Cristã Betuel\, Estrada de Jacarepaguá\, 7020 - Anil\, Rio de Janeiro\, Rio de Janeiro\, 22755145
ATTACH;FMTTYPE=image/jpeg:https://icbetuel.com.br/wp-content/uploads/2024/04/Culto-da-Palavra.jpg
END:VEVENT
BEGIN:VEVENT
DTSTART;TZID=America/Sao_Paulo:20250815T200000
DTEND;TZID=America/Sao_Paulo:20250815T235900
DTSTAMP:20260421T222046
CREATED:20250815T230155Z
LAST-MODIFIED:20250815T230155Z
UID:10004335-1755288000-1755302340@icbetuel.com.br
SUMMARY:Mini Vigília Betuel
DESCRIPTION:
URL:https://icbetuel.com.br/evento/mini-vigilia-betuel/
LOCATION:Igreja Cristã Betuel\, Estrada de Jacarepaguá\, 7020 - Anil\, Rio de Janeiro\, Rio de Janeiro\, 22755145
ATTACH;FMTTYPE=image/jpeg:https://icbetuel.com.br/wp-content/uploads/2025/08/WhatsApp-Image-2025-08-15-at-18.57.28.jpeg
END:VEVENT
BEGIN:VEVENT
DTSTART;TZID=America/Sao_Paulo:20250817T100000
DTEND;TZID=America/Sao_Paulo:20250817T130000
DTSTAMP:20260421T222046
CREATED:20240810T152256Z
LAST-MODIFIED:20240810T152609Z
UID:10002894-1755424800-1755435600@icbetuel.com.br
SUMMARY:Culto da Família
DESCRIPTION:
URL:https://icbetuel.com.br/evento/culto-da-familia-2/2025-08-17/
LOCATION:Igreja Cristã Betuel\, Estrada de Jacarepaguá\, 7020 - Anil\, Rio de Janeiro\, Rio de Janeiro\, 22755145
ATTACH;FMTTYPE=image/jpeg:https://icbetuel.com.br/wp-content/uploads/2024/03/Culto-da-Familia.jpeg
END:VEVENT
BEGIN:VEVENT
DTSTART;TZID=America/Sao_Paulo:20250817T180000
DTEND;TZID=America/Sao_Paulo:20250817T203000
DTSTAMP:20260421T222046
CREATED:20240727T192827Z
LAST-MODIFIED:20240810T152331Z
UID:10002632-1755453600-1755462600@icbetuel.com.br
SUMMARY:Culto da Adoração
DESCRIPTION:
URL:https://icbetuel.com.br/evento/culto-da-adoracao/2025-08-17/
LOCATION:Igreja Cristã Betuel\, Estrada de Jacarepaguá\, 7020 - Anil\, Rio de Janeiro\, Rio de Janeiro\, 22755145
ATTACH;FMTTYPE=image/jpeg:https://icbetuel.com.br/wp-content/uploads/2024/04/Culto-de-Adoracao.jpg
END:VEVENT
BEGIN:VEVENT
DTSTART;TZID=America/Sao_Paulo:20250821T090000
DTEND;TZID=America/Sao_Paulo:20250821T120000
DTSTAMP:20260421T222046
CREATED:20240329T200120Z
LAST-MODIFIED:20240810T151621Z
UID:10002108-1755766800-1755777600@icbetuel.com.br
SUMMARY:Oração e Consagração
DESCRIPTION:
URL:https://icbetuel.com.br/evento/oracao-e-consagracao-por-essa-causa-eu-me-colcoo-de-joelhos/2025-08-21/
LOCATION:Igreja Cristã Betuel\, Estrada de Jacarepaguá\, 7020 - Anil\, Rio de Janeiro\, Rio de Janeiro\, 22755145
ATTACH;FMTTYPE=image/jpeg:https://icbetuel.com.br/wp-content/uploads/2024/07/CONSAGRACAO-e1767556519879.jpg
END:VEVENT
BEGIN:VEVENT
DTSTART;TZID=America/Sao_Paulo:20250821T190000
DTEND;TZID=America/Sao_Paulo:20250821T213000
DTSTAMP:20260421T222046
CREATED:20250420T184641Z
LAST-MODIFIED:20250420T184726Z
UID:10004091-1755802800-1755811800@icbetuel.com.br
SUMMARY:Escola Bíblica
DESCRIPTION:
URL:https://icbetuel.com.br/evento/escola-biblica-2/2025-08-21/
LOCATION:Igreja Cristã Betuel\, Estrada de Jacarepaguá\, 7020 - Anil\, Rio de Janeiro\, Rio de Janeiro\, 22755145
ATTACH;FMTTYPE=image/jpeg:https://icbetuel.com.br/wp-content/uploads/2025/04/WhatsApp-Image-2025-04-03-at-21.17.28-e1767556594611.jpeg
END:VEVENT
BEGIN:VEVENT
DTSTART;TZID=America/Sao_Paulo:20250821T193000
DTEND;TZID=America/Sao_Paulo:20250821T220000
DTSTAMP:20260421T222046
CREATED:20240727T192909Z
LAST-MODIFIED:20240810T151823Z
UID:10002369-1755804600-1755813600@icbetuel.com.br
SUMMARY:Culto da Palavra
DESCRIPTION:
URL:https://icbetuel.com.br/evento/culto-da-palavra/2025-08-21/
LOCATION:Igreja Cristã Betuel\, Estrada de Jacarepaguá\, 7020 - Anil\, Rio de Janeiro\, Rio de Janeiro\, 22755145
ATTACH;FMTTYPE=image/jpeg:https://icbetuel.com.br/wp-content/uploads/2024/04/Culto-da-Palavra.jpg
END:VEVENT
BEGIN:VEVENT
DTSTART;TZID=America/Sao_Paulo:20250824T100000
DTEND;TZID=America/Sao_Paulo:20250824T130000
DTSTAMP:20260421T222046
CREATED:20240810T152256Z
LAST-MODIFIED:20240810T152609Z
UID:10002895-1756029600-1756040400@icbetuel.com.br
SUMMARY:Culto da Família
DESCRIPTION:
URL:https://icbetuel.com.br/evento/culto-da-familia-2/2025-08-24/
LOCATION:Igreja Cristã Betuel\, Estrada de Jacarepaguá\, 7020 - Anil\, Rio de Janeiro\, Rio de Janeiro\, 22755145
ATTACH;FMTTYPE=image/jpeg:https://icbetuel.com.br/wp-content/uploads/2024/03/Culto-da-Familia.jpeg
END:VEVENT
BEGIN:VEVENT
DTSTART;TZID=America/Sao_Paulo:20250824T180000
DTEND;TZID=America/Sao_Paulo:20250824T203000
DTSTAMP:20260421T222046
CREATED:20240727T192827Z
LAST-MODIFIED:20240810T152331Z
UID:10002633-1756058400-1756067400@icbetuel.com.br
SUMMARY:Culto da Adoração
DESCRIPTION:
URL:https://icbetuel.com.br/evento/culto-da-adoracao/2025-08-24/
LOCATION:Igreja Cristã Betuel\, Estrada de Jacarepaguá\, 7020 - Anil\, Rio de Janeiro\, Rio de Janeiro\, 22755145
ATTACH;FMTTYPE=image/jpeg:https://icbetuel.com.br/wp-content/uploads/2024/04/Culto-de-Adoracao.jpg
END:VEVENT
BEGIN:VEVENT
DTSTART;TZID=America/Sao_Paulo:20250828T090000
DTEND;TZID=America/Sao_Paulo:20250828T120000
DTSTAMP:20260421T222046
CREATED:20240329T200120Z
LAST-MODIFIED:20240810T151621Z
UID:10002109-1756371600-1756382400@icbetuel.com.br
SUMMARY:Oração e Consagração
DESCRIPTION:
URL:https://icbetuel.com.br/evento/oracao-e-consagracao-por-essa-causa-eu-me-colcoo-de-joelhos/2025-08-28/
LOCATION:Igreja Cristã Betuel\, Estrada de Jacarepaguá\, 7020 - Anil\, Rio de Janeiro\, Rio de Janeiro\, 22755145
ATTACH;FMTTYPE=image/jpeg:https://icbetuel.com.br/wp-content/uploads/2024/07/CONSAGRACAO-e1767556519879.jpg
END:VEVENT
BEGIN:VEVENT
DTSTART;TZID=America/Sao_Paulo:20250828T190000
DTEND;TZID=America/Sao_Paulo:20250828T213000
DTSTAMP:20260421T222046
CREATED:20250420T184641Z
LAST-MODIFIED:20250420T184726Z
UID:10004092-1756407600-1756416600@icbetuel.com.br
SUMMARY:Escola Bíblica
DESCRIPTION:
URL:https://icbetuel.com.br/evento/escola-biblica-2/2025-08-28/
LOCATION:Igreja Cristã Betuel\, Estrada de Jacarepaguá\, 7020 - Anil\, Rio de Janeiro\, Rio de Janeiro\, 22755145
ATTACH;FMTTYPE=image/jpeg:https://icbetuel.com.br/wp-content/uploads/2025/04/WhatsApp-Image-2025-04-03-at-21.17.28-e1767556594611.jpeg
END:VEVENT
BEGIN:VEVENT
DTSTART;TZID=America/Sao_Paulo:20250828T193000
DTEND;TZID=America/Sao_Paulo:20250828T220000
DTSTAMP:20260421T222046
CREATED:20240727T192909Z
LAST-MODIFIED:20240810T151823Z
UID:10002370-1756409400-1756418400@icbetuel.com.br
SUMMARY:Culto da Palavra
DESCRIPTION:
URL:https://icbetuel.com.br/evento/culto-da-palavra/2025-08-28/
LOCATION:Igreja Cristã Betuel\, Estrada de Jacarepaguá\, 7020 - Anil\, Rio de Janeiro\, Rio de Janeiro\, 22755145
ATTACH;FMTTYPE=image/jpeg:https://icbetuel.com.br/wp-content/uploads/2024/04/Culto-da-Palavra.jpg
END:VEVENT
BEGIN:VEVENT
DTSTART;TZID=America/Sao_Paulo:20250831T100000
DTEND;TZID=America/Sao_Paulo:20250831T130000
DTSTAMP:20260421T222046
CREATED:20240810T152256Z
LAST-MODIFIED:20240810T152609Z
UID:10002896-1756634400-1756645200@icbetuel.com.br
SUMMARY:Culto da Família
DESCRIPTION:
URL:https://icbetuel.com.br/evento/culto-da-familia-2/2025-08-31/
LOCATION:Igreja Cristã Betuel\, Estrada de Jacarepaguá\, 7020 - Anil\, Rio de Janeiro\, Rio de Janeiro\, 22755145
ATTACH;FMTTYPE=image/jpeg:https://icbetuel.com.br/wp-content/uploads/2024/03/Culto-da-Familia.jpeg
END:VEVENT
BEGIN:VEVENT
DTSTART;TZID=America/Sao_Paulo:20250831T180000
DTEND;TZID=America/Sao_Paulo:20250831T203000
DTSTAMP:20260421T222046
CREATED:20240727T192827Z
LAST-MODIFIED:20240810T152331Z
UID:10002634-1756663200-1756672200@icbetuel.com.br
SUMMARY:Culto da Adoração
DESCRIPTION:
URL:https://icbetuel.com.br/evento/culto-da-adoracao/2025-08-31/
LOCATION:Igreja Cristã Betuel\, Estrada de Jacarepaguá\, 7020 - Anil\, Rio de Janeiro\, Rio de Janeiro\, 22755145
ATTACH;FMTTYPE=image/jpeg:https://icbetuel.com.br/wp-content/uploads/2024/04/Culto-de-Adoracao.jpg
END:VEVENT
BEGIN:VEVENT
DTSTART;TZID=America/Sao_Paulo:20250904T090000
DTEND;TZID=America/Sao_Paulo:20250904T120000
DTSTAMP:20260421T222046
CREATED:20240329T200120Z
LAST-MODIFIED:20240810T151621Z
UID:10002110-1756976400-1756987200@icbetuel.com.br
SUMMARY:Oração e Consagração
DESCRIPTION:
URL:https://icbetuel.com.br/evento/oracao-e-consagracao-por-essa-causa-eu-me-colcoo-de-joelhos/2025-09-04/
LOCATION:Igreja Cristã Betuel\, Estrada de Jacarepaguá\, 7020 - Anil\, Rio de Janeiro\, Rio de Janeiro\, 22755145
ATTACH;FMTTYPE=image/jpeg:https://icbetuel.com.br/wp-content/uploads/2024/07/CONSAGRACAO-e1767556519879.jpg
END:VEVENT
BEGIN:VEVENT
DTSTART;TZID=America/Sao_Paulo:20250904T190000
DTEND;TZID=America/Sao_Paulo:20250904T213000
DTSTAMP:20260421T222046
CREATED:20250420T184641Z
LAST-MODIFIED:20250420T184726Z
UID:10004093-1757012400-1757021400@icbetuel.com.br
SUMMARY:Escola Bíblica
DESCRIPTION:
URL:https://icbetuel.com.br/evento/escola-biblica-2/2025-09-04/
LOCATION:Igreja Cristã Betuel\, Estrada de Jacarepaguá\, 7020 - Anil\, Rio de Janeiro\, Rio de Janeiro\, 22755145
ATTACH;FMTTYPE=image/jpeg:https://icbetuel.com.br/wp-content/uploads/2025/04/WhatsApp-Image-2025-04-03-at-21.17.28-e1767556594611.jpeg
END:VEVENT
BEGIN:VEVENT
DTSTART;TZID=America/Sao_Paulo:20250904T193000
DTEND;TZID=America/Sao_Paulo:20250904T220000
DTSTAMP:20260421T222046
CREATED:20240727T192909Z
LAST-MODIFIED:20240810T151823Z
UID:10002371-1757014200-1757023200@icbetuel.com.br
SUMMARY:Culto da Palavra
DESCRIPTION:
URL:https://icbetuel.com.br/evento/culto-da-palavra/2025-09-04/
LOCATION:Igreja Cristã Betuel\, Estrada de Jacarepaguá\, 7020 - Anil\, Rio de Janeiro\, Rio de Janeiro\, 22755145
ATTACH;FMTTYPE=image/jpeg:https://icbetuel.com.br/wp-content/uploads/2024/04/Culto-da-Palavra.jpg
END:VEVENT
BEGIN:VEVENT
DTSTART;TZID=America/Sao_Paulo:20250907T100000
DTEND;TZID=America/Sao_Paulo:20250907T130000
DTSTAMP:20260421T222046
CREATED:20240810T152256Z
LAST-MODIFIED:20240810T152609Z
UID:10002897-1757239200-1757250000@icbetuel.com.br
SUMMARY:Culto da Família
DESCRIPTION:
URL:https://icbetuel.com.br/evento/culto-da-familia-2/2025-09-07/
LOCATION:Igreja Cristã Betuel\, Estrada de Jacarepaguá\, 7020 - Anil\, Rio de Janeiro\, Rio de Janeiro\, 22755145
ATTACH;FMTTYPE=image/jpeg:https://icbetuel.com.br/wp-content/uploads/2024/03/Culto-da-Familia.jpeg
END:VEVENT
BEGIN:VEVENT
DTSTART;TZID=America/Sao_Paulo:20250907T180000
DTEND;TZID=America/Sao_Paulo:20250907T203000
DTSTAMP:20260421T222046
CREATED:20240727T192827Z
LAST-MODIFIED:20240810T152331Z
UID:10002635-1757268000-1757277000@icbetuel.com.br
SUMMARY:Culto da Adoração
DESCRIPTION:
URL:https://icbetuel.com.br/evento/culto-da-adoracao/2025-09-07/
LOCATION:Igreja Cristã Betuel\, Estrada de Jacarepaguá\, 7020 - Anil\, Rio de Janeiro\, Rio de Janeiro\, 22755145
ATTACH;FMTTYPE=image/jpeg:https://icbetuel.com.br/wp-content/uploads/2024/04/Culto-de-Adoracao.jpg
END:VEVENT
BEGIN:VEVENT
DTSTART;TZID=America/Sao_Paulo:20250911T090000
DTEND;TZID=America/Sao_Paulo:20250911T120000
DTSTAMP:20260421T222046
CREATED:20240329T200120Z
LAST-MODIFIED:20240810T151621Z
UID:10002111-1757581200-1757592000@icbetuel.com.br
SUMMARY:Oração e Consagração
DESCRIPTION:
URL:https://icbetuel.com.br/evento/oracao-e-consagracao-por-essa-causa-eu-me-colcoo-de-joelhos/2025-09-11/
LOCATION:Igreja Cristã Betuel\, Estrada de Jacarepaguá\, 7020 - Anil\, Rio de Janeiro\, Rio de Janeiro\, 22755145
ATTACH;FMTTYPE=image/jpeg:https://icbetuel.com.br/wp-content/uploads/2024/07/CONSAGRACAO-e1767556519879.jpg
END:VEVENT
BEGIN:VEVENT
DTSTART;TZID=America/Sao_Paulo:20250911T190000
DTEND;TZID=America/Sao_Paulo:20250911T213000
DTSTAMP:20260421T222046
CREATED:20250420T184641Z
LAST-MODIFIED:20250420T184726Z
UID:10004094-1757617200-1757626200@icbetuel.com.br
SUMMARY:Escola Bíblica
DESCRIPTION:
URL:https://icbetuel.com.br/evento/escola-biblica-2/2025-09-11/
LOCATION:Igreja Cristã Betuel\, Estrada de Jacarepaguá\, 7020 - Anil\, Rio de Janeiro\, Rio de Janeiro\, 22755145
ATTACH;FMTTYPE=image/jpeg:https://icbetuel.com.br/wp-content/uploads/2025/04/WhatsApp-Image-2025-04-03-at-21.17.28-e1767556594611.jpeg
END:VEVENT
BEGIN:VEVENT
DTSTART;TZID=America/Sao_Paulo:20250911T193000
DTEND;TZID=America/Sao_Paulo:20250911T220000
DTSTAMP:20260421T222046
CREATED:20240727T192909Z
LAST-MODIFIED:20240810T151823Z
UID:10002372-1757619000-1757628000@icbetuel.com.br
SUMMARY:Culto da Palavra
DESCRIPTION:
URL:https://icbetuel.com.br/evento/culto-da-palavra/2025-09-11/
LOCATION:Igreja Cristã Betuel\, Estrada de Jacarepaguá\, 7020 - Anil\, Rio de Janeiro\, Rio de Janeiro\, 22755145
ATTACH;FMTTYPE=image/jpeg:https://icbetuel.com.br/wp-content/uploads/2024/04/Culto-da-Palavra.jpg
END:VEVENT
BEGIN:VEVENT
DTSTART;TZID=America/Sao_Paulo:20250914T100000
DTEND;TZID=America/Sao_Paulo:20250914T120000
DTSTAMP:20260421T222046
CREATED:20240418T143212Z
LAST-MODIFIED:20240810T152751Z
UID:10003376-1757844000-1757851200@icbetuel.com.br
SUMMARY:Santa Ceia - Manhã
DESCRIPTION:
URL:https://icbetuel.com.br/evento/santa-ceia/2025-09-14/
LOCATION:Igreja Cristã Betuel\, Estrada de Jacarepaguá\, 7020 - Anil\, Rio de Janeiro\, Rio de Janeiro\, 22755145
ATTACH;FMTTYPE=image/jpeg:https://icbetuel.com.br/wp-content/uploads/2024/04/Culto-de-Santa-Ceia.jpg
END:VEVENT
BEGIN:VEVENT
DTSTART;TZID=America/Sao_Paulo:20250914T180000
DTEND;TZID=America/Sao_Paulo:20250914T200000
DTSTAMP:20260421T222046
CREATED:20240810T152855Z
LAST-MODIFIED:20240810T154358Z
UID:10003497-1757872800-1757880000@icbetuel.com.br
SUMMARY:Santa Ceia - Noite
DESCRIPTION:
URL:https://icbetuel.com.br/evento/santa-ceia-noite/2025-09-14/
LOCATION:Igreja Cristã Betuel\, Estrada de Jacarepaguá\, 7020 - Anil\, Rio de Janeiro\, Rio de Janeiro\, 22755145
ATTACH;FMTTYPE=image/png:https://icbetuel.com.br/wp-content/uploads/2024/08/Culto-de-santa-ceia-arte-fixa.png
END:VEVENT
BEGIN:VEVENT
DTSTART;TZID=America/Sao_Paulo:20250918T090000
DTEND;TZID=America/Sao_Paulo:20250918T120000
DTSTAMP:20260421T222046
CREATED:20240329T200120Z
LAST-MODIFIED:20240810T151621Z
UID:10002112-1758186000-1758196800@icbetuel.com.br
SUMMARY:Oração e Consagração
DESCRIPTION:
URL:https://icbetuel.com.br/evento/oracao-e-consagracao-por-essa-causa-eu-me-colcoo-de-joelhos/2025-09-18/
LOCATION:Igreja Cristã Betuel\, Estrada de Jacarepaguá\, 7020 - Anil\, Rio de Janeiro\, Rio de Janeiro\, 22755145
ATTACH;FMTTYPE=image/jpeg:https://icbetuel.com.br/wp-content/uploads/2024/07/CONSAGRACAO-e1767556519879.jpg
END:VEVENT
BEGIN:VEVENT
DTSTART;TZID=America/Sao_Paulo:20250918T190000
DTEND;TZID=America/Sao_Paulo:20250918T213000
DTSTAMP:20260421T222046
CREATED:20250420T184641Z
LAST-MODIFIED:20250420T184726Z
UID:10004095-1758222000-1758231000@icbetuel.com.br
SUMMARY:Escola Bíblica
DESCRIPTION:
URL:https://icbetuel.com.br/evento/escola-biblica-2/2025-09-18/
LOCATION:Igreja Cristã Betuel\, Estrada de Jacarepaguá\, 7020 - Anil\, Rio de Janeiro\, Rio de Janeiro\, 22755145
ATTACH;FMTTYPE=image/jpeg:https://icbetuel.com.br/wp-content/uploads/2025/04/WhatsApp-Image-2025-04-03-at-21.17.28-e1767556594611.jpeg
END:VEVENT
BEGIN:VEVENT
DTSTART;TZID=America/Sao_Paulo:20250918T193000
DTEND;TZID=America/Sao_Paulo:20250918T220000
DTSTAMP:20260421T222046
CREATED:20240727T192909Z
LAST-MODIFIED:20240810T151823Z
UID:10002373-1758223800-1758232800@icbetuel.com.br
SUMMARY:Culto da Palavra
DESCRIPTION:
URL:https://icbetuel.com.br/evento/culto-da-palavra/2025-09-18/
LOCATION:Igreja Cristã Betuel\, Estrada de Jacarepaguá\, 7020 - Anil\, Rio de Janeiro\, Rio de Janeiro\, 22755145
ATTACH;FMTTYPE=image/jpeg:https://icbetuel.com.br/wp-content/uploads/2024/04/Culto-da-Palavra.jpg
END:VEVENT
BEGIN:VEVENT
DTSTART;TZID=America/Sao_Paulo:20250921T100000
DTEND;TZID=America/Sao_Paulo:20250921T130000
DTSTAMP:20260421T222046
CREATED:20240810T152256Z
LAST-MODIFIED:20240810T152609Z
UID:10002899-1758448800-1758459600@icbetuel.com.br
SUMMARY:Culto da Família
DESCRIPTION:
URL:https://icbetuel.com.br/evento/culto-da-familia-2/2025-09-21/
LOCATION:Igreja Cristã Betuel\, Estrada de Jacarepaguá\, 7020 - Anil\, Rio de Janeiro\, Rio de Janeiro\, 22755145
ATTACH;FMTTYPE=image/jpeg:https://icbetuel.com.br/wp-content/uploads/2024/03/Culto-da-Familia.jpeg
END:VEVENT
END:VCALENDAR