BEGIN:VCALENDAR
VERSION:2.0
PRODID:-//Betuel - ECPv6.6.0.2//NONSGML v1.0//EN
CALSCALE:GREGORIAN
METHOD:PUBLISH
X-WR-CALNAME:Betuel
X-ORIGINAL-URL:https://icbetuel.com.br
X-WR-CALDESC:Eventos para Betuel
REFRESH-INTERVAL;VALUE=DURATION:PT1H
X-Robots-Tag:noindex
X-PUBLISHED-TTL:PT1H
BEGIN:VTIMEZONE
TZID:America/Sao_Paulo
BEGIN:STANDARD
TZOFFSETFROM:-0300
TZOFFSETTO:-0300
TZNAME:-03
DTSTART:20250101T000000
END:STANDARD
END:VTIMEZONE
BEGIN:VEVENT
DTSTART;TZID=America/Sao_Paulo:20250615T180000
DTEND;TZID=America/Sao_Paulo:20250615T203000
DTSTAMP:20260422T195245
CREATED:20240727T192827Z
LAST-MODIFIED:20240810T152331Z
UID:10002623-1750010400-1750019400@icbetuel.com.br
SUMMARY:Culto da Adoração
DESCRIPTION:
URL:https://icbetuel.com.br/evento/culto-da-adoracao/2025-06-15/
LOCATION:Igreja Cristã Betuel\, Estrada de Jacarepaguá\, 7020 - Anil\, Rio de Janeiro\, Rio de Janeiro\, 22755145
ATTACH;FMTTYPE=image/jpeg:https://icbetuel.com.br/wp-content/uploads/2024/04/Culto-de-Adoracao.jpg
END:VEVENT
BEGIN:VEVENT
DTSTART;TZID=America/Sao_Paulo:20250619T090000
DTEND;TZID=America/Sao_Paulo:20250619T120000
DTSTAMP:20260422T195245
CREATED:20240329T200120Z
LAST-MODIFIED:20240810T151621Z
UID:10002099-1750323600-1750334400@icbetuel.com.br
SUMMARY:Oração e Consagração
DESCRIPTION:
URL:https://icbetuel.com.br/evento/oracao-e-consagracao-por-essa-causa-eu-me-colcoo-de-joelhos/2025-06-19/
LOCATION:Igreja Cristã Betuel\, Estrada de Jacarepaguá\, 7020 - Anil\, Rio de Janeiro\, Rio de Janeiro\, 22755145
ATTACH;FMTTYPE=image/jpeg:https://icbetuel.com.br/wp-content/uploads/2024/07/CONSAGRACAO-e1767556519879.jpg
END:VEVENT
BEGIN:VEVENT
DTSTART;TZID=America/Sao_Paulo:20250619T190000
DTEND;TZID=America/Sao_Paulo:20250619T213000
DTSTAMP:20260422T195245
CREATED:20250420T184641Z
LAST-MODIFIED:20250420T184726Z
UID:10004082-1750359600-1750368600@icbetuel.com.br
SUMMARY:Escola Bíblica
DESCRIPTION:
URL:https://icbetuel.com.br/evento/escola-biblica-2/2025-06-19/
LOCATION:Igreja Cristã Betuel\, Estrada de Jacarepaguá\, 7020 - Anil\, Rio de Janeiro\, Rio de Janeiro\, 22755145
ATTACH;FMTTYPE=image/jpeg:https://icbetuel.com.br/wp-content/uploads/2025/04/WhatsApp-Image-2025-04-03-at-21.17.28-e1767556594611.jpeg
END:VEVENT
BEGIN:VEVENT
DTSTART;TZID=America/Sao_Paulo:20250619T193000
DTEND;TZID=America/Sao_Paulo:20250619T220000
DTSTAMP:20260422T195245
CREATED:20240727T192909Z
LAST-MODIFIED:20240810T151823Z
UID:10002360-1750361400-1750370400@icbetuel.com.br
SUMMARY:Culto da Palavra
DESCRIPTION:
URL:https://icbetuel.com.br/evento/culto-da-palavra/2025-06-19/
LOCATION:Igreja Cristã Betuel\, Estrada de Jacarepaguá\, 7020 - Anil\, Rio de Janeiro\, Rio de Janeiro\, 22755145
ATTACH;FMTTYPE=image/jpeg:https://icbetuel.com.br/wp-content/uploads/2024/04/Culto-da-Palavra.jpg
END:VEVENT
BEGIN:VEVENT
DTSTART;TZID=America/Sao_Paulo:20250622T100000
DTEND;TZID=America/Sao_Paulo:20250622T130000
DTSTAMP:20260422T195245
CREATED:20240810T152256Z
LAST-MODIFIED:20240810T152609Z
UID:10002886-1750586400-1750597200@icbetuel.com.br
SUMMARY:Culto da Família
DESCRIPTION:
URL:https://icbetuel.com.br/evento/culto-da-familia-2/2025-06-22/
LOCATION:Igreja Cristã Betuel\, Estrada de Jacarepaguá\, 7020 - Anil\, Rio de Janeiro\, Rio de Janeiro\, 22755145
ATTACH;FMTTYPE=image/jpeg:https://icbetuel.com.br/wp-content/uploads/2024/03/Culto-da-Familia.jpeg
END:VEVENT
BEGIN:VEVENT
DTSTART;TZID=America/Sao_Paulo:20250622T180000
DTEND;TZID=America/Sao_Paulo:20250622T203000
DTSTAMP:20260422T195245
CREATED:20240727T192827Z
LAST-MODIFIED:20240810T152331Z
UID:10002624-1750615200-1750624200@icbetuel.com.br
SUMMARY:Culto da Adoração
DESCRIPTION:
URL:https://icbetuel.com.br/evento/culto-da-adoracao/2025-06-22/
LOCATION:Igreja Cristã Betuel\, Estrada de Jacarepaguá\, 7020 - Anil\, Rio de Janeiro\, Rio de Janeiro\, 22755145
ATTACH;FMTTYPE=image/jpeg:https://icbetuel.com.br/wp-content/uploads/2024/04/Culto-de-Adoracao.jpg
END:VEVENT
BEGIN:VEVENT
DTSTART;TZID=America/Sao_Paulo:20250626T090000
DTEND;TZID=America/Sao_Paulo:20250626T120000
DTSTAMP:20260422T195245
CREATED:20240329T200120Z
LAST-MODIFIED:20240810T151621Z
UID:10002100-1750928400-1750939200@icbetuel.com.br
SUMMARY:Oração e Consagração
DESCRIPTION:
URL:https://icbetuel.com.br/evento/oracao-e-consagracao-por-essa-causa-eu-me-colcoo-de-joelhos/2025-06-26/
LOCATION:Igreja Cristã Betuel\, Estrada de Jacarepaguá\, 7020 - Anil\, Rio de Janeiro\, Rio de Janeiro\, 22755145
ATTACH;FMTTYPE=image/jpeg:https://icbetuel.com.br/wp-content/uploads/2024/07/CONSAGRACAO-e1767556519879.jpg
END:VEVENT
BEGIN:VEVENT
DTSTART;TZID=America/Sao_Paulo:20250626T190000
DTEND;TZID=America/Sao_Paulo:20250626T213000
DTSTAMP:20260422T195245
CREATED:20250420T184641Z
LAST-MODIFIED:20250420T184726Z
UID:10004083-1750964400-1750973400@icbetuel.com.br
SUMMARY:Escola Bíblica
DESCRIPTION:
URL:https://icbetuel.com.br/evento/escola-biblica-2/2025-06-26/
LOCATION:Igreja Cristã Betuel\, Estrada de Jacarepaguá\, 7020 - Anil\, Rio de Janeiro\, Rio de Janeiro\, 22755145
ATTACH;FMTTYPE=image/jpeg:https://icbetuel.com.br/wp-content/uploads/2025/04/WhatsApp-Image-2025-04-03-at-21.17.28-e1767556594611.jpeg
END:VEVENT
BEGIN:VEVENT
DTSTART;TZID=America/Sao_Paulo:20250626T193000
DTEND;TZID=America/Sao_Paulo:20250626T220000
DTSTAMP:20260422T195245
CREATED:20240727T192909Z
LAST-MODIFIED:20240810T151823Z
UID:10002361-1750966200-1750975200@icbetuel.com.br
SUMMARY:Culto da Palavra
DESCRIPTION:
URL:https://icbetuel.com.br/evento/culto-da-palavra/2025-06-26/
LOCATION:Igreja Cristã Betuel\, Estrada de Jacarepaguá\, 7020 - Anil\, Rio de Janeiro\, Rio de Janeiro\, 22755145
ATTACH;FMTTYPE=image/jpeg:https://icbetuel.com.br/wp-content/uploads/2024/04/Culto-da-Palavra.jpg
END:VEVENT
BEGIN:VEVENT
DTSTART;TZID=America/Sao_Paulo:20250629T100000
DTEND;TZID=America/Sao_Paulo:20250629T130000
DTSTAMP:20260422T195245
CREATED:20240810T152256Z
LAST-MODIFIED:20240810T152609Z
UID:10002887-1751191200-1751202000@icbetuel.com.br
SUMMARY:Culto da Família
DESCRIPTION:
URL:https://icbetuel.com.br/evento/culto-da-familia-2/2025-06-29/
LOCATION:Igreja Cristã Betuel\, Estrada de Jacarepaguá\, 7020 - Anil\, Rio de Janeiro\, Rio de Janeiro\, 22755145
ATTACH;FMTTYPE=image/jpeg:https://icbetuel.com.br/wp-content/uploads/2024/03/Culto-da-Familia.jpeg
END:VEVENT
BEGIN:VEVENT
DTSTART;TZID=America/Sao_Paulo:20250629T180000
DTEND;TZID=America/Sao_Paulo:20250629T203000
DTSTAMP:20260422T195245
CREATED:20240727T192827Z
LAST-MODIFIED:20240810T152331Z
UID:10002625-1751220000-1751229000@icbetuel.com.br
SUMMARY:Culto da Adoração
DESCRIPTION:
URL:https://icbetuel.com.br/evento/culto-da-adoracao/2025-06-29/
LOCATION:Igreja Cristã Betuel\, Estrada de Jacarepaguá\, 7020 - Anil\, Rio de Janeiro\, Rio de Janeiro\, 22755145
ATTACH;FMTTYPE=image/jpeg:https://icbetuel.com.br/wp-content/uploads/2024/04/Culto-de-Adoracao.jpg
END:VEVENT
BEGIN:VEVENT
DTSTART;TZID=America/Sao_Paulo:20250703T090000
DTEND;TZID=America/Sao_Paulo:20250703T120000
DTSTAMP:20260422T195245
CREATED:20240329T200120Z
LAST-MODIFIED:20240810T151621Z
UID:10002101-1751533200-1751544000@icbetuel.com.br
SUMMARY:Oração e Consagração
DESCRIPTION:
URL:https://icbetuel.com.br/evento/oracao-e-consagracao-por-essa-causa-eu-me-colcoo-de-joelhos/2025-07-03/
LOCATION:Igreja Cristã Betuel\, Estrada de Jacarepaguá\, 7020 - Anil\, Rio de Janeiro\, Rio de Janeiro\, 22755145
ATTACH;FMTTYPE=image/jpeg:https://icbetuel.com.br/wp-content/uploads/2024/07/CONSAGRACAO-e1767556519879.jpg
END:VEVENT
BEGIN:VEVENT
DTSTART;TZID=America/Sao_Paulo:20250703T190000
DTEND;TZID=America/Sao_Paulo:20250703T213000
DTSTAMP:20260422T195245
CREATED:20250420T184641Z
LAST-MODIFIED:20250420T184726Z
UID:10004084-1751569200-1751578200@icbetuel.com.br
SUMMARY:Escola Bíblica
DESCRIPTION:
URL:https://icbetuel.com.br/evento/escola-biblica-2/2025-07-03/
LOCATION:Igreja Cristã Betuel\, Estrada de Jacarepaguá\, 7020 - Anil\, Rio de Janeiro\, Rio de Janeiro\, 22755145
ATTACH;FMTTYPE=image/jpeg:https://icbetuel.com.br/wp-content/uploads/2025/04/WhatsApp-Image-2025-04-03-at-21.17.28-e1767556594611.jpeg
END:VEVENT
BEGIN:VEVENT
DTSTART;TZID=America/Sao_Paulo:20250703T193000
DTEND;TZID=America/Sao_Paulo:20250703T220000
DTSTAMP:20260422T195245
CREATED:20240727T192909Z
LAST-MODIFIED:20240810T151823Z
UID:10002362-1751571000-1751580000@icbetuel.com.br
SUMMARY:Culto da Palavra
DESCRIPTION:
URL:https://icbetuel.com.br/evento/culto-da-palavra/2025-07-03/
LOCATION:Igreja Cristã Betuel\, Estrada de Jacarepaguá\, 7020 - Anil\, Rio de Janeiro\, Rio de Janeiro\, 22755145
ATTACH;FMTTYPE=image/jpeg:https://icbetuel.com.br/wp-content/uploads/2024/04/Culto-da-Palavra.jpg
END:VEVENT
BEGIN:VEVENT
DTSTART;TZID=America/Sao_Paulo:20250706T100000
DTEND;TZID=America/Sao_Paulo:20250706T130000
DTSTAMP:20260422T195245
CREATED:20240810T152256Z
LAST-MODIFIED:20240810T152609Z
UID:10002888-1751796000-1751806800@icbetuel.com.br
SUMMARY:Culto da Família
DESCRIPTION:
URL:https://icbetuel.com.br/evento/culto-da-familia-2/2025-07-06/
LOCATION:Igreja Cristã Betuel\, Estrada de Jacarepaguá\, 7020 - Anil\, Rio de Janeiro\, Rio de Janeiro\, 22755145
ATTACH;FMTTYPE=image/jpeg:https://icbetuel.com.br/wp-content/uploads/2024/03/Culto-da-Familia.jpeg
END:VEVENT
BEGIN:VEVENT
DTSTART;TZID=America/Sao_Paulo:20250706T180000
DTEND;TZID=America/Sao_Paulo:20250706T203000
DTSTAMP:20260422T195245
CREATED:20240727T192827Z
LAST-MODIFIED:20240810T152331Z
UID:10002626-1751824800-1751833800@icbetuel.com.br
SUMMARY:Culto da Adoração
DESCRIPTION:
URL:https://icbetuel.com.br/evento/culto-da-adoracao/2025-07-06/
LOCATION:Igreja Cristã Betuel\, Estrada de Jacarepaguá\, 7020 - Anil\, Rio de Janeiro\, Rio de Janeiro\, 22755145
ATTACH;FMTTYPE=image/jpeg:https://icbetuel.com.br/wp-content/uploads/2024/04/Culto-de-Adoracao.jpg
END:VEVENT
BEGIN:VEVENT
DTSTART;TZID=America/Sao_Paulo:20250710T090000
DTEND;TZID=America/Sao_Paulo:20250710T120000
DTSTAMP:20260422T195245
CREATED:20240329T200120Z
LAST-MODIFIED:20240810T151621Z
UID:10002102-1752138000-1752148800@icbetuel.com.br
SUMMARY:Oração e Consagração
DESCRIPTION:
URL:https://icbetuel.com.br/evento/oracao-e-consagracao-por-essa-causa-eu-me-colcoo-de-joelhos/2025-07-10/
LOCATION:Igreja Cristã Betuel\, Estrada de Jacarepaguá\, 7020 - Anil\, Rio de Janeiro\, Rio de Janeiro\, 22755145
ATTACH;FMTTYPE=image/jpeg:https://icbetuel.com.br/wp-content/uploads/2024/07/CONSAGRACAO-e1767556519879.jpg
END:VEVENT
BEGIN:VEVENT
DTSTART;TZID=America/Sao_Paulo:20250710T190000
DTEND;TZID=America/Sao_Paulo:20250710T213000
DTSTAMP:20260422T195245
CREATED:20250420T184641Z
LAST-MODIFIED:20250420T184726Z
UID:10004085-1752174000-1752183000@icbetuel.com.br
SUMMARY:Escola Bíblica
DESCRIPTION:
URL:https://icbetuel.com.br/evento/escola-biblica-2/2025-07-10/
LOCATION:Igreja Cristã Betuel\, Estrada de Jacarepaguá\, 7020 - Anil\, Rio de Janeiro\, Rio de Janeiro\, 22755145
ATTACH;FMTTYPE=image/jpeg:https://icbetuel.com.br/wp-content/uploads/2025/04/WhatsApp-Image-2025-04-03-at-21.17.28-e1767556594611.jpeg
END:VEVENT
BEGIN:VEVENT
DTSTART;TZID=America/Sao_Paulo:20250710T193000
DTEND;TZID=America/Sao_Paulo:20250710T220000
DTSTAMP:20260422T195245
CREATED:20240727T192909Z
LAST-MODIFIED:20240810T151823Z
UID:10002363-1752175800-1752184800@icbetuel.com.br
SUMMARY:Culto da Palavra
DESCRIPTION:
URL:https://icbetuel.com.br/evento/culto-da-palavra/2025-07-10/
LOCATION:Igreja Cristã Betuel\, Estrada de Jacarepaguá\, 7020 - Anil\, Rio de Janeiro\, Rio de Janeiro\, 22755145
ATTACH;FMTTYPE=image/jpeg:https://icbetuel.com.br/wp-content/uploads/2024/04/Culto-da-Palavra.jpg
END:VEVENT
BEGIN:VEVENT
DTSTART;TZID=America/Sao_Paulo:20250713T100000
DTEND;TZID=America/Sao_Paulo:20250713T120000
DTSTAMP:20260422T195245
CREATED:20240418T143212Z
LAST-MODIFIED:20240810T152751Z
UID:10003374-1752400800-1752408000@icbetuel.com.br
SUMMARY:Santa Ceia - Manhã
DESCRIPTION:
URL:https://icbetuel.com.br/evento/santa-ceia/2025-07-13/
LOCATION:Igreja Cristã Betuel\, Estrada de Jacarepaguá\, 7020 - Anil\, Rio de Janeiro\, Rio de Janeiro\, 22755145
ATTACH;FMTTYPE=image/jpeg:https://icbetuel.com.br/wp-content/uploads/2024/04/Culto-de-Santa-Ceia.jpg
END:VEVENT
BEGIN:VEVENT
DTSTART;TZID=America/Sao_Paulo:20250713T180000
DTEND;TZID=America/Sao_Paulo:20250713T200000
DTSTAMP:20260422T195245
CREATED:20240810T152855Z
LAST-MODIFIED:20240810T154358Z
UID:10003495-1752429600-1752436800@icbetuel.com.br
SUMMARY:Santa Ceia - Noite
DESCRIPTION:
URL:https://icbetuel.com.br/evento/santa-ceia-noite/2025-07-13/
LOCATION:Igreja Cristã Betuel\, Estrada de Jacarepaguá\, 7020 - Anil\, Rio de Janeiro\, Rio de Janeiro\, 22755145
ATTACH;FMTTYPE=image/png:https://icbetuel.com.br/wp-content/uploads/2024/08/Culto-de-santa-ceia-arte-fixa.png
END:VEVENT
BEGIN:VEVENT
DTSTART;TZID=America/Sao_Paulo:20250717T090000
DTEND;TZID=America/Sao_Paulo:20250717T120000
DTSTAMP:20260422T195245
CREATED:20240329T200120Z
LAST-MODIFIED:20240810T151621Z
UID:10002103-1752742800-1752753600@icbetuel.com.br
SUMMARY:Oração e Consagração
DESCRIPTION:
URL:https://icbetuel.com.br/evento/oracao-e-consagracao-por-essa-causa-eu-me-colcoo-de-joelhos/2025-07-17/
LOCATION:Igreja Cristã Betuel\, Estrada de Jacarepaguá\, 7020 - Anil\, Rio de Janeiro\, Rio de Janeiro\, 22755145
ATTACH;FMTTYPE=image/jpeg:https://icbetuel.com.br/wp-content/uploads/2024/07/CONSAGRACAO-e1767556519879.jpg
END:VEVENT
BEGIN:VEVENT
DTSTART;TZID=America/Sao_Paulo:20250717T190000
DTEND;TZID=America/Sao_Paulo:20250717T213000
DTSTAMP:20260422T195245
CREATED:20250420T184641Z
LAST-MODIFIED:20250420T184726Z
UID:10004086-1752778800-1752787800@icbetuel.com.br
SUMMARY:Escola Bíblica
DESCRIPTION:
URL:https://icbetuel.com.br/evento/escola-biblica-2/2025-07-17/
LOCATION:Igreja Cristã Betuel\, Estrada de Jacarepaguá\, 7020 - Anil\, Rio de Janeiro\, Rio de Janeiro\, 22755145
ATTACH;FMTTYPE=image/jpeg:https://icbetuel.com.br/wp-content/uploads/2025/04/WhatsApp-Image-2025-04-03-at-21.17.28-e1767556594611.jpeg
END:VEVENT
BEGIN:VEVENT
DTSTART;TZID=America/Sao_Paulo:20250717T193000
DTEND;TZID=America/Sao_Paulo:20250717T220000
DTSTAMP:20260422T195245
CREATED:20240727T192909Z
LAST-MODIFIED:20240810T151823Z
UID:10002364-1752780600-1752789600@icbetuel.com.br
SUMMARY:Culto da Palavra
DESCRIPTION:
URL:https://icbetuel.com.br/evento/culto-da-palavra/2025-07-17/
LOCATION:Igreja Cristã Betuel\, Estrada de Jacarepaguá\, 7020 - Anil\, Rio de Janeiro\, Rio de Janeiro\, 22755145
ATTACH;FMTTYPE=image/jpeg:https://icbetuel.com.br/wp-content/uploads/2024/04/Culto-da-Palavra.jpg
END:VEVENT
BEGIN:VEVENT
DTSTART;TZID=America/Sao_Paulo:20250720T100000
DTEND;TZID=America/Sao_Paulo:20250720T130000
DTSTAMP:20260422T195245
CREATED:20240810T152256Z
LAST-MODIFIED:20240810T152609Z
UID:10002890-1753005600-1753016400@icbetuel.com.br
SUMMARY:Culto da Família
DESCRIPTION:
URL:https://icbetuel.com.br/evento/culto-da-familia-2/2025-07-20/
LOCATION:Igreja Cristã Betuel\, Estrada de Jacarepaguá\, 7020 - Anil\, Rio de Janeiro\, Rio de Janeiro\, 22755145
ATTACH;FMTTYPE=image/jpeg:https://icbetuel.com.br/wp-content/uploads/2024/03/Culto-da-Familia.jpeg
END:VEVENT
BEGIN:VEVENT
DTSTART;TZID=America/Sao_Paulo:20250720T180000
DTEND;TZID=America/Sao_Paulo:20250720T203000
DTSTAMP:20260422T195245
CREATED:20240727T192827Z
LAST-MODIFIED:20240810T152331Z
UID:10002628-1753034400-1753043400@icbetuel.com.br
SUMMARY:Culto da Adoração
DESCRIPTION:
URL:https://icbetuel.com.br/evento/culto-da-adoracao/2025-07-20/
LOCATION:Igreja Cristã Betuel\, Estrada de Jacarepaguá\, 7020 - Anil\, Rio de Janeiro\, Rio de Janeiro\, 22755145
ATTACH;FMTTYPE=image/jpeg:https://icbetuel.com.br/wp-content/uploads/2024/04/Culto-de-Adoracao.jpg
END:VEVENT
BEGIN:VEVENT
DTSTART;TZID=America/Sao_Paulo:20250724T090000
DTEND;TZID=America/Sao_Paulo:20250724T120000
DTSTAMP:20260422T195245
CREATED:20240329T200120Z
LAST-MODIFIED:20240810T151621Z
UID:10002104-1753347600-1753358400@icbetuel.com.br
SUMMARY:Oração e Consagração
DESCRIPTION:
URL:https://icbetuel.com.br/evento/oracao-e-consagracao-por-essa-causa-eu-me-colcoo-de-joelhos/2025-07-24/
LOCATION:Igreja Cristã Betuel\, Estrada de Jacarepaguá\, 7020 - Anil\, Rio de Janeiro\, Rio de Janeiro\, 22755145
ATTACH;FMTTYPE=image/jpeg:https://icbetuel.com.br/wp-content/uploads/2024/07/CONSAGRACAO-e1767556519879.jpg
END:VEVENT
BEGIN:VEVENT
DTSTART;TZID=America/Sao_Paulo:20250724T190000
DTEND;TZID=America/Sao_Paulo:20250724T213000
DTSTAMP:20260422T195245
CREATED:20250420T184641Z
LAST-MODIFIED:20250420T184726Z
UID:10004087-1753383600-1753392600@icbetuel.com.br
SUMMARY:Escola Bíblica
DESCRIPTION:
URL:https://icbetuel.com.br/evento/escola-biblica-2/2025-07-24/
LOCATION:Igreja Cristã Betuel\, Estrada de Jacarepaguá\, 7020 - Anil\, Rio de Janeiro\, Rio de Janeiro\, 22755145
ATTACH;FMTTYPE=image/jpeg:https://icbetuel.com.br/wp-content/uploads/2025/04/WhatsApp-Image-2025-04-03-at-21.17.28-e1767556594611.jpeg
END:VEVENT
BEGIN:VEVENT
DTSTART;TZID=America/Sao_Paulo:20250724T193000
DTEND;TZID=America/Sao_Paulo:20250724T220000
DTSTAMP:20260422T195245
CREATED:20240727T192909Z
LAST-MODIFIED:20240810T151823Z
UID:10002365-1753385400-1753394400@icbetuel.com.br
SUMMARY:Culto da Palavra
DESCRIPTION:
URL:https://icbetuel.com.br/evento/culto-da-palavra/2025-07-24/
LOCATION:Igreja Cristã Betuel\, Estrada de Jacarepaguá\, 7020 - Anil\, Rio de Janeiro\, Rio de Janeiro\, 22755145
ATTACH;FMTTYPE=image/jpeg:https://icbetuel.com.br/wp-content/uploads/2024/04/Culto-da-Palavra.jpg
END:VEVENT
BEGIN:VEVENT
DTSTART;TZID=America/Sao_Paulo:20250727T100000
DTEND;TZID=America/Sao_Paulo:20250727T130000
DTSTAMP:20260422T195245
CREATED:20240810T152256Z
LAST-MODIFIED:20240810T152609Z
UID:10002891-1753610400-1753621200@icbetuel.com.br
SUMMARY:Culto da Família
DESCRIPTION:
URL:https://icbetuel.com.br/evento/culto-da-familia-2/2025-07-27/
LOCATION:Igreja Cristã Betuel\, Estrada de Jacarepaguá\, 7020 - Anil\, Rio de Janeiro\, Rio de Janeiro\, 22755145
ATTACH;FMTTYPE=image/jpeg:https://icbetuel.com.br/wp-content/uploads/2024/03/Culto-da-Familia.jpeg
END:VEVENT
END:VCALENDAR