BEGIN:VCALENDAR
VERSION:2.0
PRODID:-//Betuel - ECPv6.6.0.2//NONSGML v1.0//EN
CALSCALE:GREGORIAN
METHOD:PUBLISH
X-WR-CALNAME:Betuel
X-ORIGINAL-URL:https://icbetuel.com.br
X-WR-CALDESC:Eventos para Betuel
REFRESH-INTERVAL;VALUE=DURATION:PT1H
X-Robots-Tag:noindex
X-PUBLISHED-TTL:PT1H
BEGIN:VTIMEZONE
TZID:America/Sao_Paulo
BEGIN:STANDARD
TZOFFSETFROM:-0300
TZOFFSETTO:-0300
TZNAME:-03
DTSTART:20240101T000000
END:STANDARD
END:VTIMEZONE
BEGIN:VEVENT
DTSTART;TZID=America/Sao_Paulo:20240704T090000
DTEND;TZID=America/Sao_Paulo:20240704T120000
DTSTAMP:20260424T225205
CREATED:20240329T200120Z
LAST-MODIFIED:20240810T151621Z
UID:10002049-1720083600-1720094400@icbetuel.com.br
SUMMARY:Oração e Consagração
DESCRIPTION:
URL:https://icbetuel.com.br/evento/oracao-e-consagracao-por-essa-causa-eu-me-colcoo-de-joelhos/2024-07-04/
LOCATION:Igreja Cristã Betuel\, Estrada de Jacarepaguá\, 7020 - Anil\, Rio de Janeiro\, Rio de Janeiro\, 22755145
ATTACH;FMTTYPE=image/jpeg:https://icbetuel.com.br/wp-content/uploads/2024/07/CONSAGRACAO-e1767556519879.jpg
END:VEVENT
BEGIN:VEVENT
DTSTART;TZID=America/Sao_Paulo:20240711T090000
DTEND;TZID=America/Sao_Paulo:20240711T120000
DTSTAMP:20260424T225205
CREATED:20240329T200120Z
LAST-MODIFIED:20240810T151621Z
UID:10002050-1720688400-1720699200@icbetuel.com.br
SUMMARY:Oração e Consagração
DESCRIPTION:
URL:https://icbetuel.com.br/evento/oracao-e-consagracao-por-essa-causa-eu-me-colcoo-de-joelhos/2024-07-11/
LOCATION:Igreja Cristã Betuel\, Estrada de Jacarepaguá\, 7020 - Anil\, Rio de Janeiro\, Rio de Janeiro\, 22755145
ATTACH;FMTTYPE=image/jpeg:https://icbetuel.com.br/wp-content/uploads/2024/07/CONSAGRACAO-e1767556519879.jpg
END:VEVENT
BEGIN:VEVENT
DTSTART;TZID=America/Sao_Paulo:20240718T090000
DTEND;TZID=America/Sao_Paulo:20240718T120000
DTSTAMP:20260424T225205
CREATED:20240329T200120Z
LAST-MODIFIED:20240810T151621Z
UID:10002051-1721293200-1721304000@icbetuel.com.br
SUMMARY:Oração e Consagração
DESCRIPTION:
URL:https://icbetuel.com.br/evento/oracao-e-consagracao-por-essa-causa-eu-me-colcoo-de-joelhos/2024-07-18/
LOCATION:Igreja Cristã Betuel\, Estrada de Jacarepaguá\, 7020 - Anil\, Rio de Janeiro\, Rio de Janeiro\, 22755145
ATTACH;FMTTYPE=image/jpeg:https://icbetuel.com.br/wp-content/uploads/2024/07/CONSAGRACAO-e1767556519879.jpg
END:VEVENT
BEGIN:VEVENT
DTSTART;TZID=America/Sao_Paulo:20240725T090000
DTEND;TZID=America/Sao_Paulo:20240725T120000
DTSTAMP:20260424T225205
CREATED:20240329T200120Z
LAST-MODIFIED:20240810T151621Z
UID:10002052-1721898000-1721908800@icbetuel.com.br
SUMMARY:Oração e Consagração
DESCRIPTION:
URL:https://icbetuel.com.br/evento/oracao-e-consagracao-por-essa-causa-eu-me-colcoo-de-joelhos/2024-07-25/
LOCATION:Igreja Cristã Betuel\, Estrada de Jacarepaguá\, 7020 - Anil\, Rio de Janeiro\, Rio de Janeiro\, 22755145
ATTACH;FMTTYPE=image/jpeg:https://icbetuel.com.br/wp-content/uploads/2024/07/CONSAGRACAO-e1767556519879.jpg
END:VEVENT
BEGIN:VEVENT
DTSTART;TZID=America/Sao_Paulo:20240728T100000
DTEND;TZID=America/Sao_Paulo:20240728T130000
DTSTAMP:20260424T225205
CREATED:20240727T193058Z
LAST-MODIFIED:20240810T152021Z
UID:10000302-1722160800-1722171600@icbetuel.com.br
SUMMARY:Culto da Família
DESCRIPTION:
URL:https://icbetuel.com.br/evento/culto-da-familia/2024-07-28/
LOCATION:Igreja Cristã Betuel\, Estrada de Jacarepaguá\, 7020 - Anil\, Rio de Janeiro\, Rio de Janeiro\, 22755145
ATTACH;FMTTYPE=image/jpeg:https://icbetuel.com.br/wp-content/uploads/2024/03/Culto-da-Familia.jpeg
END:VEVENT
BEGIN:VEVENT
DTSTART;TZID=America/Sao_Paulo:20240728T180000
DTEND;TZID=America/Sao_Paulo:20240728T203000
DTSTAMP:20260424T225205
CREATED:20240727T192827Z
LAST-MODIFIED:20240810T152331Z
UID:10000567-1722189600-1722198600@icbetuel.com.br
SUMMARY:Culto da Adoração
DESCRIPTION:
URL:https://icbetuel.com.br/evento/culto-da-adoracao/2024-07-28/
LOCATION:Igreja Cristã Betuel\, Estrada de Jacarepaguá\, 7020 - Anil\, Rio de Janeiro\, Rio de Janeiro\, 22755145
ATTACH;FMTTYPE=image/jpeg:https://icbetuel.com.br/wp-content/uploads/2024/04/Culto-de-Adoracao.jpg
END:VEVENT
END:VCALENDAR