BEGIN:VCALENDAR
VERSION:2.0
PRODID:-//Betuel - ECPv6.6.0.2//NONSGML v1.0//EN
CALSCALE:GREGORIAN
METHOD:PUBLISH
X-ORIGINAL-URL:https://icbetuel.com.br
X-WR-CALDESC:Eventos para Betuel
REFRESH-INTERVAL;VALUE=DURATION:PT1H
X-Robots-Tag:noindex
X-PUBLISHED-TTL:PT1H
BEGIN:VTIMEZONE
TZID:America/Sao_Paulo
BEGIN:STANDARD
TZOFFSETFROM:-0300
TZOFFSETTO:-0300
TZNAME:-03
DTSTART:20260101T000000
END:STANDARD
END:VTIMEZONE
BEGIN:VEVENT
DTSTART;TZID=America/Sao_Paulo:20260308T090000
DTEND;TZID=America/Sao_Paulo:20260308T100000
DTSTAMP:20260421T193454
CREATED:20260104T195708Z
LAST-MODIFIED:20260104T203034Z
UID:10004606-1772960400-1772964000@icbetuel.com.br
SUMMARY:Escola Bíblica
DESCRIPTION:
URL:https://icbetuel.com.br/evento/escola-biblica-2-2/2026-03-08/
LOCATION:Igreja Cristã Betuel\, Estrada de Jacarepaguá\, 7020 - Anil\, Rio de Janeiro\, Rio de Janeiro\, 22755145
ATTACH;FMTTYPE=image/jpeg:https://icbetuel.com.br/wp-content/uploads/2026/01/Escola-biblica-2026-tela.jpg
END:VEVENT
BEGIN:VEVENT
DTSTART;TZID=America/Sao_Paulo:20260308T100000
DTEND;TZID=America/Sao_Paulo:20260308T120000
DTSTAMP:20260421T193454
CREATED:20240418T143212Z
LAST-MODIFIED:20240810T152751Z
UID:10003382-1772964000-1772971200@icbetuel.com.br
SUMMARY:Santa Ceia - Manhã
DESCRIPTION:
URL:https://icbetuel.com.br/evento/santa-ceia/2026-03-08/
LOCATION:Igreja Cristã Betuel\, Estrada de Jacarepaguá\, 7020 - Anil\, Rio de Janeiro\, Rio de Janeiro\, 22755145
ATTACH;FMTTYPE=image/jpeg:https://icbetuel.com.br/wp-content/uploads/2024/04/Culto-de-Santa-Ceia.jpg
END:VEVENT
BEGIN:VEVENT
DTSTART;TZID=America/Sao_Paulo:20260308T180000
DTEND;TZID=America/Sao_Paulo:20260308T200000
DTSTAMP:20260421T193454
CREATED:20240810T152855Z
LAST-MODIFIED:20240810T154358Z
UID:10003503-1772992800-1773000000@icbetuel.com.br
SUMMARY:Santa Ceia - Noite
DESCRIPTION:
URL:https://icbetuel.com.br/evento/santa-ceia-noite/2026-03-08/
LOCATION:Igreja Cristã Betuel\, Estrada de Jacarepaguá\, 7020 - Anil\, Rio de Janeiro\, Rio de Janeiro\, 22755145
ATTACH;FMTTYPE=image/png:https://icbetuel.com.br/wp-content/uploads/2024/08/Culto-de-santa-ceia-arte-fixa.png
END:VEVENT
END:VCALENDAR