BEGIN:VCALENDAR
VERSION:2.0
PRODID:-//Betuel - ECPv6.6.0.2//NONSGML v1.0//EN
CALSCALE:GREGORIAN
METHOD:PUBLISH
X-WR-CALNAME:Betuel
X-ORIGINAL-URL:https://icbetuel.com.br
X-WR-CALDESC:Eventos para Betuel
REFRESH-INTERVAL;VALUE=DURATION:PT1H
X-Robots-Tag:noindex
X-PUBLISHED-TTL:PT1H
BEGIN:VTIMEZONE
TZID:America/Sao_Paulo
BEGIN:STANDARD
TZOFFSETFROM:-0300
TZOFFSETTO:-0300
TZNAME:-03
DTSTART:20260101T000000
END:STANDARD
END:VTIMEZONE
BEGIN:VEVENT
DTSTART;TZID=America/Sao_Paulo:20260104T090000
DTEND;TZID=America/Sao_Paulo:20260104T100000
DTSTAMP:20260421T205043
CREATED:20260104T195708Z
LAST-MODIFIED:20260104T203034Z
UID:10004111-1767517200-1767520800@icbetuel.com.br
SUMMARY:Escola Bíblica
DESCRIPTION:
URL:https://icbetuel.com.br/evento/escola-biblica-2-2/2026-01-04/
LOCATION:Igreja Cristã Betuel\, Estrada de Jacarepaguá\, 7020 - Anil\, Rio de Janeiro\, Rio de Janeiro\, 22755145
ATTACH;FMTTYPE=image/jpeg:https://icbetuel.com.br/wp-content/uploads/2026/01/Escola-biblica-2026-tela.jpg
END:VEVENT
BEGIN:VEVENT
DTSTART;TZID=America/Sao_Paulo:20260104T100000
DTEND;TZID=America/Sao_Paulo:20260104T130000
DTSTAMP:20260421T205043
CREATED:20240810T152256Z
LAST-MODIFIED:20240810T152609Z
UID:10002914-1767520800-1767531600@icbetuel.com.br
SUMMARY:Culto da Família
DESCRIPTION:
URL:https://icbetuel.com.br/evento/culto-da-familia-2/2026-01-04/
LOCATION:Igreja Cristã Betuel\, Estrada de Jacarepaguá\, 7020 - Anil\, Rio de Janeiro\, Rio de Janeiro\, 22755145
ATTACH;FMTTYPE=image/jpeg:https://icbetuel.com.br/wp-content/uploads/2024/03/Culto-da-Familia.jpeg
END:VEVENT
BEGIN:VEVENT
DTSTART;TZID=America/Sao_Paulo:20260104T180000
DTEND;TZID=America/Sao_Paulo:20260104T203000
DTSTAMP:20260421T205043
CREATED:20260104T214951Z
LAST-MODIFIED:20260104T214951Z
UID:10002652-1767549600-1767558600@icbetuel.com.br
SUMMARY:Culto da Adoração
DESCRIPTION:
URL:https://icbetuel.com.br/evento/culto-da-adoracao-2/2026-01-04/
LOCATION:Igreja Cristã Betuel\, Estrada de Jacarepaguá\, 7020 - Anil\, Rio de Janeiro\, Rio de Janeiro\, 22755145
ATTACH;FMTTYPE=image/jpeg:https://icbetuel.com.br/wp-content/uploads/2024/07/Culto-da-adoracao-padrao-2025-1.jpg
END:VEVENT
END:VCALENDAR