BEGIN:VCALENDAR
VERSION:2.0
PRODID:-//Betuel - ECPv6.6.0.2//NONSGML v1.0//EN
CALSCALE:GREGORIAN
METHOD:PUBLISH
X-WR-CALNAME:Betuel
X-ORIGINAL-URL:https://icbetuel.com.br
X-WR-CALDESC:Eventos para Betuel
REFRESH-INTERVAL;VALUE=DURATION:PT1H
X-Robots-Tag:noindex
X-PUBLISHED-TTL:PT1H
BEGIN:VTIMEZONE
TZID:America/Sao_Paulo
BEGIN:STANDARD
TZOFFSETFROM:-0300
TZOFFSETTO:-0300
TZNAME:-03
DTSTART:20250101T000000
END:STANDARD
END:VTIMEZONE
BEGIN:VEVENT
DTSTART;TZID=America/Sao_Paulo:20250925T090000
DTEND;TZID=America/Sao_Paulo:20250925T120000
DTSTAMP:20260421T193111
CREATED:20240329T200120Z
LAST-MODIFIED:20240810T151621Z
UID:10002113-1758790800-1758801600@icbetuel.com.br
SUMMARY:Oração e Consagração
DESCRIPTION:
URL:https://icbetuel.com.br/evento/oracao-e-consagracao-por-essa-causa-eu-me-colcoo-de-joelhos/2025-09-25/
LOCATION:Igreja Cristã Betuel\, Estrada de Jacarepaguá\, 7020 - Anil\, Rio de Janeiro\, Rio de Janeiro\, 22755145
ATTACH;FMTTYPE=image/jpeg:https://icbetuel.com.br/wp-content/uploads/2024/07/CONSAGRACAO-e1767556519879.jpg
END:VEVENT
BEGIN:VEVENT
DTSTART;TZID=America/Sao_Paulo:20250925T190000
DTEND;TZID=America/Sao_Paulo:20250925T213000
DTSTAMP:20260421T193111
CREATED:20250420T184641Z
LAST-MODIFIED:20250420T184726Z
UID:10004096-1758826800-1758835800@icbetuel.com.br
SUMMARY:Escola Bíblica
DESCRIPTION:
URL:https://icbetuel.com.br/evento/escola-biblica-2/2025-09-25/
LOCATION:Igreja Cristã Betuel\, Estrada de Jacarepaguá\, 7020 - Anil\, Rio de Janeiro\, Rio de Janeiro\, 22755145
ATTACH;FMTTYPE=image/jpeg:https://icbetuel.com.br/wp-content/uploads/2025/04/WhatsApp-Image-2025-04-03-at-21.17.28-e1767556594611.jpeg
END:VEVENT
BEGIN:VEVENT
DTSTART;TZID=America/Sao_Paulo:20250925T193000
DTEND;TZID=America/Sao_Paulo:20250925T220000
DTSTAMP:20260421T193111
CREATED:20240727T192909Z
LAST-MODIFIED:20240810T151823Z
UID:10002374-1758828600-1758837600@icbetuel.com.br
SUMMARY:Culto da Palavra
DESCRIPTION:
URL:https://icbetuel.com.br/evento/culto-da-palavra/2025-09-25/
LOCATION:Igreja Cristã Betuel\, Estrada de Jacarepaguá\, 7020 - Anil\, Rio de Janeiro\, Rio de Janeiro\, 22755145
ATTACH;FMTTYPE=image/jpeg:https://icbetuel.com.br/wp-content/uploads/2024/04/Culto-da-Palavra.jpg
END:VEVENT
END:VCALENDAR