BEGIN:VCALENDAR
VERSION:2.0
PRODID:-//Betuel - ECPv6.6.0.2//NONSGML v1.0//EN
CALSCALE:GREGORIAN
METHOD:PUBLISH
X-ORIGINAL-URL:https://icbetuel.com.br
X-WR-CALDESC:Eventos para Betuel
REFRESH-INTERVAL;VALUE=DURATION:PT1H
X-Robots-Tag:noindex
X-PUBLISHED-TTL:PT1H
BEGIN:VTIMEZONE
TZID:America/Sao_Paulo
BEGIN:STANDARD
TZOFFSETFROM:-0300
TZOFFSETTO:-0300
TZNAME:-03
DTSTART:20250101T000000
END:STANDARD
END:VTIMEZONE
BEGIN:VEVENT
DTSTART;TZID=America/Sao_Paulo:20250420T090000
DTEND;TZID=America/Sao_Paulo:20250420T100000
DTSTAMP:20260422T024009
CREATED:20240727T192721Z
LAST-MODIFIED:20240810T152057Z
UID:10003138-1745139600-1745143200@icbetuel.com.br
SUMMARY:Escola Bíblica
DESCRIPTION:
URL:https://icbetuel.com.br/evento/escola-biblica/2025-04-20/
LOCATION:Igreja Cristã Betuel\, Estrada de Jacarepaguá\, 7020 - Anil\, Rio de Janeiro\, Rio de Janeiro\, 22755145
ATTACH;FMTTYPE=image/jpeg:https://icbetuel.com.br/wp-content/uploads/2024/03/Escola-biblica.jpeg
END:VEVENT
BEGIN:VEVENT
DTSTART;TZID=America/Sao_Paulo:20250420T100000
DTEND;TZID=America/Sao_Paulo:20250420T130000
DTSTAMP:20260422T024009
CREATED:20240810T152256Z
LAST-MODIFIED:20240810T152609Z
UID:10002877-1745143200-1745154000@icbetuel.com.br
SUMMARY:Culto da Família
DESCRIPTION:
URL:https://icbetuel.com.br/evento/culto-da-familia-2/2025-04-20/
LOCATION:Igreja Cristã Betuel\, Estrada de Jacarepaguá\, 7020 - Anil\, Rio de Janeiro\, Rio de Janeiro\, 22755145
ATTACH;FMTTYPE=image/jpeg:https://icbetuel.com.br/wp-content/uploads/2024/03/Culto-da-Familia.jpeg
END:VEVENT
BEGIN:VEVENT
DTSTART;TZID=America/Sao_Paulo:20250420T170000
DTEND;TZID=America/Sao_Paulo:20250420T203000
DTSTAMP:20260422T024009
CREATED:20250420T184155Z
LAST-MODIFIED:20250420T184356Z
UID:10002615-1745168400-1745181000@icbetuel.com.br
SUMMARY:Conferência BETA - INFLUENCERS
DESCRIPTION:
URL:https://icbetuel.com.br/evento/conferencia-beta-influencers/2025-04-20/
LOCATION:Igreja Cristã Betuel\, Estrada de Jacarepaguá\, 7020 - Anil\, Rio de Janeiro\, Rio de Janeiro\, 22755145
ATTACH;FMTTYPE=image/jpeg:https://icbetuel.com.br/wp-content/uploads/2024/07/6d1cee3d-8d91-4058-9e57-b7b1e73cb780.jpeg
END:VEVENT
END:VCALENDAR